Workbook
Name Azione: 'Trasferibilità e Diss.'!$F$2:$F$4
Name Disseminazione: 'Trasferibilità e Diss.'!$H$2:$H$8
Name Divulgazione: 'Trasferibilità e Diss.'!$I$2:$I$8

Sheet Privacy Policy
A2: Autorizzazione al trattamento dei dati personali ai sensi dell’art. 13 del Regolamento UE n. 2016/679 in materia di protezione dei dati personali delle persone fisiche (GDPR) e dell’art. 13 del D. Lgs. 196/2003 e s.m.i. (ultimo aggiornamento: D. Lgs. 101/2018) Attraverso l'inserimento dei propri dati personali, il soggetto dichiara di avere preso visione dell’informativa per il trattamento dei dati forniti ai fini dell’attuazione del Programma Rete Rurale Nazionale 2014-2022 (consultabile alla pagina web https://www.innovarurale.it/it/privacy-policy) e, a tal fine: ESPRIME il consenso al trattamento dei propri dati personali per le finalità e secondo le modalità indicate nell’informativa.

Sheet Introduzione
A6: TEMPLATE RRN PER I GRUPPI OPERATIVI
A9: Il presente template, realizzato dal CREA PB, rappresenta uno strumento per la raccolta delle informazioni principali relative ai progetti dei Gruppi Operativi (GO) del Partenariato Europeo per l'Innovazione (PEI).
A10: Integra le informazioni richieste dalla Commissione Europea (template "EIP-AGRI common format") con ulteriori informazioni finalizzate alla creazione di un database nazionale dei GO.
A12: Questo template verrà utilizzato per inserire informazioni nella fase di avvio del progetto
A14: Nella fase intermedia e in quella finale andranno inseriti eventuali aggiornamenti rispetto alla fase precedente, lasciando invariate le altre informazioni.
A15: Le informazioni da inserire dovranno essere coerenti al loro momento di rilevazione.
A16: Pertanto, nella fase di avvio le informazioni riguardanti i vari aspetti progettuali (attività e costi, risultati, ecc.) saranno di natura provvisoria.
A17: Nelle fasi intermedia e finale dovranno invece essere riportati gli aspetti progettuali effettivamente realizzati
A18: (azioni realizzate, materiali prodotti, costi sostenuti, risultati conseguiti, ecc.) ed eventuali variazioni progettuali.
A20: I campi possono essere obbligatori, raccomandati o facoltativi. Se non altrimenti specificato, i campi si ritengono obbligatori.
A21: Le celle a sfondo arancione contengono formule e riferimenti per un corretto funzionamento del template.
A22: Le celle di controllo, riportate in fondo o in cima alle tabelle, aiutano a verificare la congruenza dei totali.
... A38: Materiali

Sheet Indice
A1: Indice
A3: Introduzione
A4: Info generali
A5: Partenariato
A6: Obiettivi PSP e UE
A7: Innovazione 1
A8: Innovazione 2
A9: Innovazione 3
A10: Attività e Costi
A11: Piano finanziario generale
A12: Quadro Logico
A13: Materiali

Sheet Info generali
A1: Informazioni di progetto | B1: Torna all'indice
A3: Editor del progetto
A5: Titolo del progetto | C5: =LEN(SUBSTITUTE(B5," ",""))& " caratteri / 200" -> 0 caratteri / 200
A7: Titolo del progetto in inglese | C7: =LEN(SUBSTITUTE(B7," ",""))& " caratteri / 200" -> 0 caratteri / 200
A9: Acronimo
A11: Periodo del progetto
A12: Data di inizio (GG/MM/AAAA)
A13: Data di fine (GG/MM/AAAA)
A14: Durata del progetto (mesi) | B14: =IFERROR(DATEDIF(B12,B13+1,"M"),0) -> 0
A16: Coordinatore del progetto/Soggetto capofila
A17: Denominazione | C17: =LEN(SUBSTITUTE(B17," ",""))& " caratteri / 150" -> 0 caratteri / 150
A18: Indirizzo
A19: Città
A20: Provincia
A21: Cap
A22: Indirizzo completo | B22: =IF(CONCATENATE(B18,B19,B20,B21)<>"", B18&" "&B19&" ("&B20&") "&B21,"") | C22: =LEN(SUBSTITUTE(B22," ",""))& " caratteri / 150" -> 0 caratteri / 150
A23: E-mail | C23: =LEN(SUBSTITUTE(B23," ",""))& " caratteri / 150" -> 0 caratteri / 150
A24: Pec | C24: =LEN(SUBSTITUTE(B24," ",""))& " caratteri / 150" -> 0 caratteri / 150
A25: Telefono | C25: =LEN(SUBSTITUTE(B25," ",""))& " caratteri / 150" -> 0 caratteri / 150
A27: Responsabile tecnico scientifico
A28: Denominazione | C28: =LEN(SUBSTITUTE(B28," ",""))& " caratteri / 150" -> 0 caratteri / 150
A29: Indirizzo
A30: Città
A31: Provincia
A32: Cap
A33: Indirizzo completo | B33: =IF(CONCATENATE(B29,B30,B31,B32)<>"", B29&" "&B30&" ("&B31&") "&B32,"") | C33: =LEN(SUBSTITUTE(B33," ",""))& " caratteri / 150" -> 0 caratteri / 150
A34: E-mail | C34: =LEN(SUBSTITUTE(B34," ",""))& " caratteri / 150" -> 0 caratteri / 150
A35: Pec | C35: =LEN(SUBSTITUTE(B35," ",""))& " caratteri / 150" -> 0 caratteri / 150
A36: Telefono | C36: =LEN(SUBSTITUTE(B36," ",""))& " caratteri / 150" -> 0 caratteri / 150
A38: N. totale partner (incluso soggetto capofila)
A40: Forma giuridica del GO | B40: -- Seleziona -- | C40: Obbligatorio
A42: Collocazione geografica del progetto
A43: Località geografica principale (NUTS3) | B43: --Seleziona--
A44: Altra località geografica (NUTS3) | B44: --Seleziona-- | C44: Facoltativo
A45: Altra località geografica (NUTS3) | B45: --Seleziona-- | C45: Facoltativo
A47: Costo totale del progetto (€) | B47: 0
A49: Fonti di finanziamento
A50: Principale | B50: --Seleziona--
A51: Altre fonti | B51: --Seleziona--
A54: Obiettivi del progetto | C54: =LEN(SUBSTITUTE(B54," ",""))& " caratteri / 500" -> 0 caratteri / 500
...

Sheet Partenariato
A1: Partenariato | B1: Torna all'indice
A3: Informazioni | B3: CAPOFILA | C3: PARTNER 1 | D3: PARTNER 2 | E3: PARTNER 3 | F3: PARTNER 4 | G3: PARTNER 5 | H3: PARTNER 6 | I3: PARTNER 7 | J3: PARTNER 8 | K3: PARTNER 9 | L3: PARTNER 10 | M3: PARTNER 11 | N3: PARTNER 12 | O3: PARTNER 13 | P3: PARTNER 14 | Q3: PARTNER 15 | R3: PARTNER 16 | S3: PARTNER 17 | T3: PARTNER 18 | U3: PARTNER 19 | V3: PARTNER 20
A4: Denominazione | B4: =IF('Info generali'!B17<>"",'Info generali'!B17,"")
A5: Tipo di partner | B5: -- Seleziona -- | C5: -- Seleziona -- | D5: -- Seleziona -- | E5: -- Seleziona -- | F5: -- Seleziona -- | G5: -- Seleziona -- | H5: -- Seleziona -- | I5: -- Seleziona -- | J5: -- Seleziona -- | K5: -- Seleziona -- | L5: -- Seleziona -- | M5: -- Seleziona -- | N5: -- Seleziona -- | O5: -- Seleziona -- | P5: -- Seleziona -- | Q5: -- Seleziona -- | R5: -- Seleziona -- | S5: -- Seleziona -- | T5: -- Seleziona -- | U5: -- Seleziona -- | V5: -- Seleziona --
A6: Iscrizione elenco consulenti | B6: --Seleziona-- | C6: --Seleziona-- | D6: --Seleziona-- | E6: --Seleziona-- | F6: --Seleziona-- | G6: --Seleziona-- | H6: --Seleziona-- | I6: --Seleziona-- | J6: --Seleziona-- | K6: --Seleziona-- | L6: --Seleziona-- | M6: --Seleziona-- | N6: --Seleziona-- | O6: --Seleziona-- | P6: --Seleziona-- | Q6: --Seleziona-- | R6: --Seleziona-- | S6: --Seleziona-- | T6: --Seleziona-- | U6: --Seleziona-- | V6: --Seleziona--
A7: Settore/Comparto | B7: -- Seleziona -- | C7: -- Seleziona -- | D7: -- Seleziona -- | E7: -- Seleziona -- | F7: -- Seleziona -- | G7: -- Seleziona -- | H7: -- Seleziona -- | I7: -- Seleziona -- | J7: -- Seleziona -- | K7: -- Seleziona -- | L7: -- Seleziona -- | M7: -- Seleziona -- | N7: -- Seleziona -- | O7: -- Seleziona -- | P7: -- Seleziona -- | Q7: -- Seleziona -- | R7: -- Seleziona -- | S7: -- Seleziona -- | T7: -- Seleziona -- | U7: -- Seleziona -- | V7: -- Seleziona --
A8: Cod. ATECO
A9: CUUA
A10: Cod. CIAA
A11: Motivazione della presenza del partner per i soggetti appartenenti alle categorie: altre imprese con sede operativa nelle aree rurali, altri soggetti del settore agricolo, alimentare e forestale, dei territori rurali e della società civile
A12: Referente di progetto
A13: Cognome
A14: Nome
A15: Email
A16: Sede operativa
A17: Indirizzo | B17: =IF('Info generali'!B18<>"",'Info generali'!B18,"")
A18: Città | B18: =IF('Info generali'!B19<>"",'Info generali'!B19,"")
A19: Provincia | B19: =IF('Info generali'!B20<>"",'Info generali'!B20,"")
A20: Cap | B20: =IF('Info generali'!B21<>"",'Info generali'!B21,"")
A21: Indirizzo completo | B21: =IF(CONCATENATE(B17,B18,B19,B20)<>"", B17&" "&B18&" ("&B19&") "&B20,"") | C21: =IF(CONCATENATE(C17,C18,C19,C20)<>"", C17&" "&C18&" ("&C19&") "&C20,"") | D21: =IF(CONCATENATE(D17,D18,D19,D20)<>"", D17&" "&D18&" ("&D19&") "&D20,"") | E21: =IF(CONCATENATE(E17,E18,E19,E20)<>"", E17&" "&E18&" ("&E19&") "&E20,"") | F21: =IF(CONCATENATE(F17,F18,F19,F20)<>"", F17&" "&F18&" ("&F19&") "&F20,"") | G21: =IF(CONCATENATE(G17,G18,G19,G20)<>"", G17&" "&G18&" ("&G19&") "&G20,"") | H21: =IF(CONCATENATE(H17,H18,H19,H20)<>"", H17&" "&H18&" ("&H19&") "&H20,"") | I21: =IF(CONCATENATE(I17,I18,I19,I20)<>"", I17&" "&I18&" ("&I19&") "&I20,"") | ... V21: =IF(CONCATENATE(V17,V18,V19,V20)<>"", V17&" "&V18&" ("&V19&") "&V20,"")
A22: E-mail | B22: =IF('Info generali'!B23<>"",'Info generali'!B23,"")
A23: Pec | B23: =IF('Info generali'!B24<>"",'Info generali'!B24,"")
A24: Telefono | B24: =IF('Info generali'!B25<>"",'Info generali'!B25,"")
A25: Sede legale se diversa
A26: Indirizzo
A27: Città
A28: Provincia
A29: Cap
A30: =IF(21-COUNTBLANK(B4:V4)<>'Info generali'!B38,"Controllo totali: Attenzione! Il numero di partner non coincide","Controllo totali: OK") -> Controllo totali: OK

Sheet Obiettivi PSP e UE
A1: OBIETTIVI DEL PSP E STRATEGIA DELL'UNIONE | B1: Torna all'indice
A3: Contributo del progetto agli obiettivi della Strategia PAC
A4: --Seleziona-- | B4: Obbligatorio
A5: --Seleziona-- | B5: Facoltativo
A6: --Seleziona-- | B6: Facoltativo
A7: --Seleziona-- | B7: Facoltativo
A8: --Seleziona-- | B8: Facoltativo
A9: --Seleziona-- | B9: Facoltativo
A10: --Seleziona-- | B10: Facoltativo
A11: --Seleziona-- | B11: Facoltativo
A12: --Seleziona-- | B12: Facoltativo
A15: Contributo del progetto alle strategie dell'Unione Europea
A16: --Seleziona-- | B16: Obbligatorio
A17: --Seleziona-- | B17: Facoltativo
A18: --Seleziona-- | B18: Facoltativo
A19: --Seleziona-- | B19: Facoltativo
A20: --Seleziona-- | B20: Facoltativo
A21: --Seleziona-- | B21: Facoltativo
A22: --Seleziona-- | B22: Facoltativo
A23: --Seleziona-- | B23: Facoltativo
A24: --Seleziona-- | B24: Facoltativo
A25: --Seleziona-- | B25: Facoltativo
A26: --Seleziona-- | B26: Facoltativo

Sheet INNOVAZIONE 1
A1: Innovazione (1) | B1: Torna all'indice
A3: Il numero di innovazioni da inserire dipende dalla dimensione del progetto e dal numero di risultati che si ritiene di implementare. Utilizzare tante schede quante sono le innovazioni da diffondere.
A5: Descrizione dell'innovazione | C5: =LEN(SUBSTITUTE(B5," ",""))& " caratteri / 1000" -> 0 caratteri / 1000
A7: Descrizione dell'innovazione (in inglese) | C7: =LEN(SUBSTITUTE(B7," ",""))& " caratteri / 1000" -> 0 caratteri / 1000 | D7: Raccomandato
A10: Settore/comparto del'innovazione | B10: -- Seleziona --
A14: Trasferibilità e replicabilità dei risultati in un altro contesto produttivo e/o territoriale | B14: -- Seleziona --
A16: Descrizione della trasferibilità dei risultati | C16: =LEN(SUBSTITUTE(B16," ",""))& " caratteri / 1500" -> 0 caratteri / 1500
A19: Motivazione sulla necessità di realizzare eventuali operazioni di investimento produttivo | C19: Obbligatorio in caso di investimenti produttivi
A22: Organizzazione di eventi di divulgazione e disseminazione dei risultati oltre a quelli previsti negli impegni e negli obblighi | B22: -- Seleziona --
A25: Specificare
A26: Azione | B26: Tipologia | C26: Personale
A27: Seleziona | C27: -- Seleziona --
A28: Seleziona | C28: -- Seleziona --
A29: Seleziona | C29: -- Seleziona --
A30: Seleziona | C30: -- Seleziona --
A31: Seleziona | C31: -- Seleziona --
A32: Seleziona | C32: -- Seleziona --
A33: Seleziona | C33: -- Seleziona --
A34: Seleziona | C34: -- Seleziona --
A35: Seleziona | C35: -- Seleziona --

Sheet INNOVAZIONE 2
A1: Innovazione (2) | B1: Torna all'indice
A3: Il numero di innovazioni da inserire dipende dalla dimensione del progetto e dal numero di risultati che si ritiene di implementare. Utilizzare tante schede quante sono le innovazioni da diffondere.
A5: Descrizione dell'innovazione | C5: =LEN(SUBSTITUTE(B5," ",""))& " caratteri / 1000" -> 0 caratteri / 1000
A7: Descrizione dell'innovazione (in inglese) | C7: =LEN(SUBSTITUTE(B7," ",""))& " caratteri / 1000" -> 0 caratteri / 1000 | D7: Raccomandato
A10: Settore/comparto del'innovazione | B10: -- Seleziona --
A14: Trasferibilità e replicabilità dei risultati in un altro contesto produttivo e/o territoriale | B14: -- Seleziona --
A16: Descrizione della trasferibilità dei risultati | C16: =LEN(SUBSTITUTE(B16," ",""))& " caratteri / 1500" -> 0 caratteri / 1500
A19: Motivazione sulla necessità di realizzare eventuali operazioni di investimento produttivo | C19: Raccomandato in caso di investimenti produttivi
A22: Organizzazione di eventi di divulgazione e disseminazione dei risultati oltre a quelli previsti negli impegni e negli obblighi | B22: -- Seleziona --
A25: Specificare
A26: Azione | B26: Tipologia | C26: Personale
A27: Seleziona | C27: -- Seleziona --
A28: Seleziona | C28: -- Seleziona --
A29: Seleziona | C29: -- Seleziona --
A30: Seleziona | C30: -- Seleziona --
A31: Seleziona | C31: -- Seleziona --
A32: Seleziona | C32: -- Seleziona --
A33: Seleziona | C33: -- Seleziona --
A34: Seleziona | C34: -- Seleziona --
A35: Seleziona | C35: -- Seleziona --

Sheet INNOVAZIONE 3
A1: Innovazione (3) | B1: Torna all'indice
A3: Il numero di innovazioni da inserire dipende dalla dimensione del progetto e dal numero di risultati che si ritiene di implementare. Utilizzare tante schede quante sono le innovazioni da diffondere.
A5: Descrizione dell'innovazione | C5: =LEN(SUBSTITUTE(B5," ",""))& " caratteri / 1000" -> 0 caratteri / 1000
A7: Descrizione dell'innovazione (in inglese) | C7: =LEN(SUBSTITUTE(B7," ",""))& " caratteri / 1000" -> 0 caratteri / 1000 | D7: Raccomandato
A10: Settore/comparto del'innovazione | B10: -- Seleziona --
A14: Trasferibilità e replicabilità dei risultati in un altro contesto produttivo e/o territoriale | B14: -- Seleziona --
A16: Descrizione della trasferibilità dei risultati | C16: =LEN(SUBSTITUTE(B16," ",""))& " caratteri / 1500" -> 0 caratteri / 1500
A19: Motivazione sulla necessità di realizzare eventuali operazioni di investimento produttivo | C19: Raccomandato in caso di investimenti produttivi
A22: Organizzazione di eventi di divulgazione e disseminazione dei risultati oltre a quelli previsti negli impegni e negli obblighi | B22: -- Seleziona --
A25: Specificare
A26: Azione | B26: Tipologia | C26: Personale
A27: Seleziona | C27: -- Seleziona --
A28: Seleziona | C28: -- Seleziona --
A29: Seleziona | C29: -- Seleziona --
A30: Seleziona | C30: -- Seleziona --
A31: Seleziona | C31: -- Seleziona --
A32: Seleziona | C32: -- Seleziona --
A33: Seleziona | C33: -- Seleziona --
A34: Seleziona | C34: -- Seleziona --
A35: Seleziona | C35: -- Seleziona --

Sheet Attività e Costi
A1: Attività e Costi | B1: Torna all'indice
A3: =IF(SUM(OL8:OL47)<>'Info generali'!B47,"Controllo totali: Attenzione! Il totale dei costi non coincide con il costo del progetto","Controllo totali: OK") -> Controllo totali: OK
A4: Tipologia azione | B4: Descrizione attività | C4: Data inizio (GG/MM/AAAA) | D4: Data fine (GG/MM/AAAA) | E4: Durata (GG) | F4: Responsabile azione | G4: CAPOFILA | Y4: PARTNER 1 | AQ4: PARTNER 2 | BI4: PARTNER 3 | CA4: PARTNER 4 | CS4: PARTNER 5 | DK4: PARTNER 6 | EC4: PARTNER 7 | EU4: PARTNER 8 | FM4: PARTNER 9 | GE4: PARTNER 10 | GW4: PARTNER 11 | HO4: PARTNER 12 | IG4: PARTNER 13 | IY4: PARTNER 14 | JQ4: PARTNER 15 | KI4: PARTNER 16 | LA4: PARTNER 17 | LS4: PARTNER 18 | MK4: PARTNER 19 | NC4: PARTNER 20 | NU4: TOTALE
G5: =IF(Partenariato!B4<>0,Partenariato!B4,"") | Y5: =IF(Partenariato!C4<>0,Partenariato!C4,"") | AQ5: =IF(Partenariato!D4<>0,Partenariato!D4,"") | BI5: =IF(Partenariato!E4<>0,Partenariato!E4,"") | CA5: =IF(Partenariato!F4<>0,Partenariato!F4,"") | CS5: =IF(Partenariato!G4<>0,Partenariato!G4,"") | DK5: =IF(Partenariato!H4<>0,Partenariato!H4,"") | EC5: =IF(Partenariato!I4<>0,Partenariato!I4,"") | EU5: =IF(Partenariato!J4<>0,Partenariato!J4,"") | FM5: =IF(Partenariato!K4<>0,Partenariato!K4,"") | GE5: =IF(Partenariato!L4<>0,Partenariato!L4,"") | GW5: =IF(Partenariato!M4<>0,Partenariato!M4,"") | HO5: =IF(Partenariato!N4<>0,Partenariato!N4,"") | IG5: =IF(Partenariato!O4<>0,Partenariato!O4,"") | IY5: =IF(Partenariato!P4<>0,Partenariato!P4,"") | JQ5: =IF(Partenariato!Q4<>0,Partenariato!Q4,"") | KI5: =IF(Partenariato!R4<>0,Partenariato!R4,"") | LA5: =IF(Partenariato!S4<>0,Partenariato!S4,"") | LS5: =IF(Partenariato!T4<>0,Partenariato!T4,"") | MK5: =IF(Partenariato!U4<>0,Partenariato!U4,"") | NC5: =IF(Partenariato!V4<>0,Partenariato!V4,"")
G6: 1. Costi amministrativi e legati alla costituzione e modifica del GO | H6: 2.Spese del personale | I6: 3. Corrispettivo economico per l'imprenditore agricolo e forestale | J6: 4. Missioni e trasferte | K6: 5 .Consulenze esterne e altri servizi | L6: 6. Costi di coordinamento e gestione del progetto | M6: 7. Costi indiretti | N6: 8. Quote di ammortamento del materiale durevole | O6: 9. Prototipi/Impianti pilota | P6: 10a. Costi relativi ad investimenti produttivi - SETTORE AGRICOLO | T6: 10b. Costi relativi ad investimenti produttivi - SETTORE FORESTALE | X6: Totale* | Y6: 1. Costi amministrativi e legati alla costituzione e modifica del GO | Z6: 2.Spese del personale | AA6: 3. Corrispettivo economico per l'imprenditore agricolo e forestale | AB6: 4. Missioni e trasferte | AC6: 5 .Consulenze esterne e altri servizi | AD6: 6. Costi di coordinamento e gestione del progetto | AE6: 7. Costi indiretti | AF6: 8. Quote di ammortamento del materiale durevole | AG6: 9. Prototipi/Impianti pilota | AH6: 10a. Costi relativi ad investimenti produttivi - SETTORE AGRICOLO | AL6: 10b. Costi relativi ad investimenti produttivi - SETTORE FORESTALE | AP6: Totale* | AQ6: 1. Costi amministrativi e legati alla costituzione e modifica del GO | AR6: 2.Spese del personale | AS6: 3. Corrispettivo economico per l'imprenditore agricolo e forestale | AT6: 4. Missioni e trasferte | AU6: 5 .Consulenze esterne e altri servizi | AV6: 6. Costi di coordinamento e gestione del progetto | AW6: 7. Costi indiretti | AX6: 8. Quote di ammortamento del materiale durevole | AY6: 9. Prototipi/Impianti pilota | AZ6: 10a. Costi relativi ad investimenti produttivi - SETTORE AGRICOLO | BD6: 10b. Costi relativi ad investimenti produttivi - SETTORE FORESTALE | BH6: Totale* | BI6: 1. Costi amministrativi e legati alla costituzione e modifica del GO | BJ6: 2.Spese del personale | BK6: 3. Corrispettivo economico per l'imprenditore agricolo e forestale | BL6: 4. Missioni e trasferte | BM6: 5 .Consulenze esterne e altri servizi | BN6: 6. Costi di coordinamento e gestione del progetto | BO6: 7. Costi indiretti | BP6: 8. Quote di ammortamento del materiale durevole | BQ6: 9. Prototipi/Impianti pilota | BR6: 10a. Costi relativi ad investimenti produttivi - SETTORE AGRICOLO | BV6: 10b. Costi relativi ad investimenti produttivi - SETTORE FORESTALE | BZ6: Totale* | CA6: 1. Costi amministrativi e legati alla costituzione e modifica del GO | CB6: 2.Spese del personale | CC6: 3. Corrispettivo economico per l'imprenditore agricolo e forestale | CD6: 4. Missioni e trasferte | CE6: 5 .Consulenze esterne e altri servizi | CF6: 6. Costi di coordinamento e gestione del progetto | CG6: 7. Costi indiretti | CH6: 8. Quote di ammortamento del materiale durevole | CI6: 9. Prototipi/Impianti pilota | CJ6: 10a. Costi relativi ad investimenti produttivi - SETTORE AGRICOLO | CN6: 10b. Costi relativi ad investimenti produttivi - SETTORE FORESTALE | CR6: Totale* | CS6: 1. Costi amministrativi e legati alla costituzione e modifica del GO | CT6: 2.Spese del personale | CU6: 3. Corrispettivo economico per l'imprenditore agricolo e forestale | CV6: 4. Missioni e trasferte | CW6: 5 .Consulenze esterne e altri servizi | CX6: 6. Costi di coordinamento e gestione del progetto | CY6: 7. Costi indiretti | CZ6: 8. Quote di ammortamento del materiale durevole | DA6: 9. Prototipi/Impianti pilota | DB6: 10a. Costi relativi ad investimenti produttivi - SETTORE AGRICOLO | DF6: 10b. Costi relativi ad investimenti produttivi - SETTORE FORESTALE | DJ6: Totale* | DK6: 1. Costi amministrativi e legati alla costituzione e modifica del GO | DL6: 2.Spese del personale | DM6: 3. Corrispettivo economico per l'imprenditore agricolo e forestale | DN6: 4. Missioni e trasferte | DO6: 5 .Consulenze esterne e altri servizi | DP6: 6. Costi di coordinamento e gestione del progetto | DQ6: 7. Costi indiretti | DR6: 8. Quote di ammortamento del materiale durevole | DS6: 9. Prototipi/Impianti pilota | DT6: 10a. Costi relativi ad investimenti produttivi - SETTORE AGRICOLO | DX6: 10b. Costi relativi ad investimenti produttivi - SETTORE FORESTALE | EB6: Totale* | EC6: 1. Costi amministrativi e legati alla costituzione e modifica del GO | ED6: 2.Spese del personale | EE6: 3. Corrispettivo economico per l'imprenditore agricolo e forestale | EF6: 4. Missioni e trasferte | EG6: 5 .Consulenze esterne e altri servizi | EH6: 6. Costi di coordinamento e gestione del progetto | EI6: 7. Costi indiretti | EJ6: 8. Quote di ammortamento del materiale durevole | EK6: 9. Prototipi/Impianti pilota | EL6: 10a. Costi relativi ad investimenti produttivi - SETTORE AGRICOLO | EP6: 10b. Costi relativi ad investimenti produttivi - SETTORE FORESTALE | ET6: Totale* | EU6: 1. Costi amministrativi e legati alla costituzione e modifica del GO | EV6: 2.Spese del personale | EW6: 3. Corrispettivo economico per l'imprenditore agricolo e forestale | EX6: 4. Missioni e trasferte | EY6: 5 .Consulenze esterne e altri servizi | EZ6: 6. Costi di coordinamento e gestione del progetto | FA6: 7. Costi indiretti | FB6: 8. Quote di ammortamento del materiale durevole | FC6: 9. Prototipi/Impianti pilota | FD6: 10a. Costi relativi ad investimenti produttivi - SETTORE AGRICOLO | FH6: 10b. Costi relativi ad investimenti produttivi - SETTORE FORESTALE | FL6: Totale* | FM6: 1. Costi amministrativi e legati alla costituzione e modifica del GO | FN6: 2.Spese del personale | FO6: 3. Corrispettivo economico per l'imprenditore agricolo e forestale | FP6: 4. Missioni e trasferte | FQ6: 5 .Consulenze esterne e altri servizi | FR6: 6. Costi di coordinamento e gestione del progetto | FS6: 7. Costi indiretti | FT6: 8. Quote di ammortamento del materiale durevole | FU6: 9. Prototipi/Impianti pilota | FV6: 10a. Costi relativi ad investimenti produttivi - SETTORE AGRICOLO | FZ6: 10b. Costi relativi ad investimenti produttivi - SETTORE FORESTALE | GD6: Totale* | GE6: 1. Costi amministrativi e legati alla costituzione e modifica del GO | GF6: 2.Spese del personale | GG6: 3. Corrispettivo economico per l'imprenditore agricolo e forestale | GH6: 4. Missioni e trasferte | GI6: 5 .Consulenze esterne e altri servizi | GJ6: 6. Costi di coordinamento e gestione del progetto | GK6: 7. Costi indiretti | GL6: 8. Quote di ammortamento del materiale durevole | GM6: 9. Prototipi/Impianti pilota | GN6: 10a. Costi relativi ad investimenti produttivi - SETTORE AGRICOLO | GR6: 10b. Costi relativi ad investimenti produttivi - SETTORE FORESTALE | GV6: Totale* | GW6: 1. Costi amministrativi e legati alla costituzione e modifica del GO | GX6: 2.Spese del personale | GY6: 3. Corrispettivo economico per l'imprenditore agricolo e forestale | GZ6: 4. Missioni e trasferte | HA6: 5 .Consulenze esterne e altri servizi | HB6: 6. Costi di coordinamento e gestione del progetto | HC6: 7. Costi indiretti | HD6: 8. Quote di ammortamento del materiale durevole | HE6: 9. Prototipi/Impianti pilota | HF6: 10a. Costi relativi ad investimenti produttivi - SETTORE AGRICOLO | HJ6: 10b. Costi relativi ad investimenti produttivi - SETTORE FORESTALE | HN6: Totale* | HO6: 1. Costi amministrativi e legati alla costituzione e modifica del GO | HP6: 2.Spese del personale | HQ6: 3. Corrispettivo economico per l'imprenditore agricolo e forestale | HR6: 4. Missioni e trasferte | HS6: 5 .Consulenze esterne e altri servizi | HT6: 6. Costi di coordinamento e gestione del progetto | HU6: 7. Costi indiretti | HV6: 8. Quote di ammortamento del materiale durevole | HW6: 9. Prototipi/Impianti pilota | HX6: 10a. Costi relativi ad investimenti produttivi - SETTORE AGRICOLO | IB6: 10b. Costi relativi ad investimenti produttivi - SETTORE FORESTALE | IF6: Totale* | IG6: 1. Costi amministrativi e legati alla costituzione e modifica del GO | IH6: 2.Spese del personale | II6: 3. Corrispettivo economico per l'imprenditore agricolo e forestale | IJ6: 4. Missioni e trasferte | IK6: 5 .Consulenze esterne e altri servizi | IL6: 6. Costi di coordinamento e gestione del progetto | IM6: 7. Costi indiretti | IN6: 8. Quote di ammortamento del materiale durevole | IO6: 9. Prototipi/Impianti pilota | IP6: 10a. Costi relativi ad investimenti produttivi - SETTORE AGRICOLO | IT6: 10b. Costi relativi ad investimenti produttivi - SETTORE FORESTALE | IX6: Totale* | IY6: 1. Costi amministrativi e legati alla costituzione e modifica del GO | IZ6: 2.Spese del personale | JA6: 3. Corrispettivo economico per l'imprenditore agricolo e forestale | JB6: 4. Missioni e trasferte | JC6: 5 .Consulenze esterne e altri servizi | JD6: 6. Costi di coordinamento e gestione del progetto | JE6: 7. Costi indiretti | JF6: 8. Quote di ammortamento del materiale durevole | JG6: 9. Prototipi/Impianti pilota | JH6: 10a. Costi relativi ad investimenti produttivi - SETTORE AGRICOLO | JL6: 10b. Costi relativi ad investimenti produttivi - SETTORE FORESTALE | JP6: Totale* | JQ6: 1. Costi amministrativi e legati alla costituzione e modifica del GO | JR6: 2.Spese del personale | JS6: 3. Corrispettivo economico per l'imprenditore agricolo e forestale | JT6: 4. Missioni e trasferte | JU6: 5 .Consulenze esterne e altri servizi | JV6: 6. Costi di coordinamento e gestione del progetto | JW6: 7. Costi indiretti | JX6: 8. Quote di ammortamento del materiale durevole | JY6: 9. Prototipi/Impianti pilota | JZ6: 10a. Costi relativi ad investimenti produttivi - SETTORE AGRICOLO | KD6: 10b. Costi relativi ad investimenti produttivi - SETTORE FORESTALE | KH6: Totale* | KI6: 1. Costi amministrativi e legati alla costituzione e modifica del GO | KJ6: 2.Spese del personale | KK6: 3. Corrispettivo economico per l'imprenditore agricolo e forestale | KL6: 4. Missioni e trasferte | KM6: 5 .Consulenze esterne e altri servizi | KN6: 6. Costi di coordinamento e gestione del progetto | KO6: 7. Costi indiretti | KP6: 8. Quote di ammortamento del materiale durevole | KQ6: 9. Prototipi/Impianti pilota | KR6: 10a. Costi relativi ad investimenti produttivi - SETTORE AGRICOLO | KV6: 10b. Costi relativi ad investimenti produttivi - SETTORE FORESTALE | KZ6: Totale* | LA6: 1. Costi amministrativi e legati alla costituzione e modifica del GO | LB6: 2.Spese del personale | LC6: 3. Corrispettivo economico per l'imprenditore agricolo e forestale | LD6: 4. Missioni e trasferte | LE6: 5 .Consulenze esterne e altri servizi | LF6: 6. Costi di coordinamento e gestione del progetto | LG6: 7. Costi indiretti | LH6: 8. Quote di ammortamento del materiale durevole | LI6: 9. Prototipi/Impianti pilota | LJ6: 10a. Costi relativi ad investimenti produttivi - SETTORE AGRICOLO | LN6: 10b. Costi relativi ad investimenti produttivi - SETTORE FORESTALE | LR6: Totale* | LS6: 1. Costi amministrativi e legati alla costituzione e modifica del GO | LT6: 2.Spese del personale | LU6: 3. Corrispettivo economico per l'imprenditore agricolo e forestale | LV6: 4. Missioni e trasferte | LW6: 5 .Consulenze esterne e altri servizi | LX6: 6. Costi di coordinamento e gestione del progetto | LY6: 7. Costi indiretti | LZ6: 8. Quote di ammortamento del materiale durevole | MA6: 9. Prototipi/Impianti pilota | MB6: 10a. Costi relativi ad investimenti produttivi - SETTORE AGRICOLO | MF6: 10b. Costi relativi ad investimenti produttivi - SETTORE FORESTALE | MJ6: Totale* | MK6: 1. Costi amministrativi e legati alla costituzione e modifica del GO | ML6: 2.Spese del personale | MM6: 3. Corrispettivo economico per l'imprenditore agricolo e forestale | MN6: 4. Missioni e trasferte | MO6: 5 .Consulenze esterne e altri servizi | MP6: 6. Costi di coordinamento e gestione del progetto | MQ6: 7. Costi indiretti | MR6: 8. Quote di ammortamento del materiale durevole | MS6: 9. Prototipi/Impianti pilota | MT6: 10a. Costi relativi ad investimenti produttivi - SETTORE AGRICOLO | MX6: 10b. Costi relativi ad investimenti produttivi - SETTORE FORESTALE | NB6: Totale* | NC6: 1. Costi amministrativi e legati alla costituzione e modifica del GO | ND6: 2.Spese del personale | NE6: 3. Corrispettivo economico per l'imprenditore agricolo e forestale | NF6: 4. Missioni e trasferte | NG6: 5 .Consulenze esterne e altri servizi | NH6: 6. Costi di coordinamento e gestione del progetto | NI6: 7. Costi indiretti | NJ6: 8. Quote di ammortamento del materiale durevole | NK6: 9. Prototipi/Impianti pilota | NL6: 10a. Costi relativi ad investimenti produttivi - SETTORE AGRICOLO | NP6: 10b. Costi relativi ad investimenti produttivi - SETTORE FORESTALE | NT6: Totale* | NU6: 1. Costi amministrativi e legati alla costituzione e modifica del GO | NV6: 2.Spese del personale | NW6: 3. Corrispettivo economico per l'imprenditore agricolo e forestale | NX6: 4. Missioni e trasferte | NY6: 5 .Consulenze esterne e altri servizi | NZ6: 6. Costi di coordinamento e gestione del progetto | OA6: 7. Costi indiretti | OB6: 8. Quote di ammortamento del materiale durevole | OC6: 9. Prototipi/Impianti pilota | OD6: 10a. Costi relativi ad investimenti produttivi - SETTORE AGRICOLO | OH6: 10b. Costi relativi ad investimenti produttivi - SETTORE FORESTALE | OL6: Totale*
P7: a) adeguamento di strutture, impianti e fabbricati funzionale al progetto di innovazione | Q7: b) acquisto di attrezzature, macchine e impianti previsti dagli interventi SRD01 e SRD13 | R7: c) spese generali | S7: d) Investimenti immateriali | T7: a) adeguamento di strutture, impianti e fabbricati funzionale al progetto di innovazione | U7: b) acquisto di attrezzature, macchine e impianti previsti dall'intervento SRD15 | V7: c) spese generali | W7: d) Investimenti immateriali | AH7: a) adeguamento di strutture, impianti e fabbricati funzionale al progetto di innovazione | AI7: b) acquisto di attrezzature, macchine e impianti previsti dagli interventi SRD01 e SRD13 | AJ7: c) spese generali | AK7: d) Investimenti immateriali | AL7: a) adeguamento di strutture, impianti e fabbricati funzionale al progetto di innovazione | AM7: b) acquisto di attrezzature, macchine e impianti previsti dall'intervento SRD15 | AN7: c) spese generali | AO7: d) Investimenti immateriali | AZ7: a) adeguamento di strutture, impianti e fabbricati funzionale al progetto di innovazione | BA7: b) acquisto di attrezzature, macchine e impianti previsti dagli interventi SRD01 e SRD13 | BB7: c) spese generali | BC7: d) Investimenti immateriali | BD7: a) adeguamento di strutture, impianti e fabbricati funzionale al progetto di innovazione | BE7: b) acquisto di attrezzature, macchine e impianti previsti dall'intervento SRD15 | BF7: c) spese generali | BG7: d) Investimenti immateriali | BR7: a) adeguamento di strutture, impianti e fabbricati funzionale al progetto di innovazione | BS7: b) acquisto di attrezzature, macchine e impianti previsti dagli interventi SRD01 e SRD13 | BT7: c) spese generali | BU7: d) Investimenti immateriali | BV7: a) adeguamento di strutture, impianti e fabbricati funzionale al progetto di innovazione | BW7: b) acquisto di attrezzature, macchine e impianti previsti dall'intervento SRD15 | BX7: c) spese generali | BY7: d) Investimenti immateriali | CJ7: a) adeguamento di strutture, impianti e fabbricati funzionale al progetto di innovazione | CK7: b) acquisto di attrezzature, macchine e impianti previsti dagli interventi SRD01 e SRD13 | CL7: c) spese generali | CM7: d) Investimenti immateriali | CN7: a) adeguamento di strutture, impianti e fabbricati funzionale al progetto di innovazione | CO7: b) acquisto di attrezzature, macchine e impianti previsti dall'intervento SRD15 | CP7: c) spese generali | CQ7: d) Investimenti immateriali | DB7: a) adeguamento di strutture, impianti e fabbricati funzionale al progetto di innovazione | DC7: b) acquisto di attrezzature, macchine e impianti previsti dagli interventi SRD01 e SRD13 | DD7: c) spese generali | DE7: d) Investimenti immateriali | DF7: a) adeguamento di strutture, impianti e fabbricati funzionale al progetto di innovazione | DG7: b) acquisto di attrezzature, macchine e impianti previsti dall'intervento SRD15 | DH7: c) spese generali | DI7: d) Investimenti immateriali | DT7: a) adeguamento di strutture, impianti e fabbricati funzionale al progetto di innovazione | DU7: b) acquisto di attrezzature, macchine e impianti previsti dagli interventi SRD01 e SRD13 | DV7: c) spese generali | DW7: d) Investimenti immateriali | DX7: a) adeguamento di strutture, impianti e fabbricati funzionale al progetto di innovazione | DY7: b) acquisto di attrezzature, macchine e impianti previsti dall'intervento SRD15 | DZ7: c) spese generali | EA7: d) Investimenti immateriali | EL7: a) adeguamento di strutture, impianti e fabbricati funzionale al progetto di innovazione | EM7: b) acquisto di attrezzature, macchine e impianti previsti dagli interventi SRD01 e SRD13 | EN7: c) spese generali | EO7: d) Investimenti immateriali | EP7: a) adeguamento di strutture, impianti e fabbricati funzionale al progetto di innovazione | EQ7: b) acquisto di attrezzature, macchine e impianti previsti dall'intervento SRD15 | ER7: c) spese generali | ES7: d) Investimenti immateriali | FD7: a) adeguamento di strutture, impianti e fabbricati funzionale al progetto di innovazione | FE7: b) acquisto di attrezzature, macchine e impianti previsti dagli interventi SRD01 e SRD13 | FF7: c) spese generali | FG7: d) Investimenti immateriali | FH7: a) adeguamento di strutture, impianti e fabbricati funzionale al progetto di innovazione | FI7: b) acquisto di attrezzature, macchine e impianti previsti dall'intervento SRD15 | FJ7: c) spese generali | FK7: d) Investimenti immateriali | FV7: a) adeguamento di strutture, impianti e fabbricati funzionale al progetto di innovazione | FW7: b) acquisto di attrezzature, macchine e impianti previsti dagli interventi SRD01 e SRD13 | FX7: c) spese generali | FY7: d) Investimenti immateriali | FZ7: a) adeguamento di strutture, impianti e fabbricati funzionale al progetto di innovazione | GA7: b) acquisto di attrezzature, macchine e impianti previsti dall'intervento SRD15 | GB7: c) spese generali | GC7: d) Investimenti immateriali | GN7: a) adeguamento di strutture, impianti e fabbricati funzionale al progetto di innovazione | GO7: b) acquisto di attrezzature, macchine e impianti previsti dagli interventi SRD01 e SRD13 | GP7: c) spese generali | GQ7: d) Investimenti immateriali | GR7: a) adeguamento di strutture, impianti e fabbricati funzionale al progetto di innovazione | GS7: b) acquisto di attrezzature, macchine e impianti previsti dall'intervento SRD15 | GT7: c) spese generali | GU7: d) Investimenti immateriali | HF7: a) adeguamento di strutture, impianti e fabbricati funzionale al progetto di innovazione | HG7: b) acquisto di attrezzature, macchine e impianti previsti dagli interventi SRD01 e SRD13 | HH7: c) spese generali | HI7: d) Investimenti immateriali | HJ7: a) adeguamento di strutture, impianti e fabbricati funzionale al progetto di innovazione | HK7: b) acquisto di attrezzature, macchine e impianti previsti dall'intervento SRD15 | HL7: c) spese generali | HM7: d) Investimenti immateriali | HX7: a) adeguamento di strutture, impianti e fabbricati funzionale al progetto di innovazione | HY7: b) acquisto di attrezzature, macchine e impianti previsti dagli interventi SRD01 e SRD13 | HZ7: c) spese generali | IA7: d) Investimenti immateriali | IB7: a) adeguamento di strutture, impianti e fabbricati funzionale al progetto di innovazione | IC7: b) acquisto di attrezzature, macchine e impianti previsti dall'intervento SRD15 | ID7: c) spese generali | IE7: d) Investimenti immateriali | IP7: a) adeguamento di strutture, impianti e fabbricati funzionale al progetto di innovazione | IQ7: b) acquisto di attrezzature, macchine e impianti previsti dagli interventi SRD01 e SRD13 | IR7: c) spese generali | IS7: d) Investimenti immateriali | IT7: a) adeguamento di strutture, impianti e fabbricati funzionale al progetto di innovazione | IU7: b) acquisto di attrezzature, macchine e impianti previsti dall'intervento SRD15 | IV7: c) spese generali | IW7: d) Investimenti immateriali | JH7: a) adeguamento di strutture, impianti e fabbricati funzionale al progetto di innovazione | JI7: b) acquisto di attrezzature, macchine e impianti previsti dagli interventi SRD01 e SRD13 | JJ7: c) spese generali | JK7: d) Investimenti immateriali | JL7: a) adeguamento di strutture, impianti e fabbricati funzionale al progetto di innovazione | JM7: b) acquisto di attrezzature, macchine e impianti previsti dall'intervento SRD15 | JN7: c) spese generali | JO7: d) Investimenti immateriali | JZ7: a) adeguamento di strutture, impianti e fabbricati funzionale al progetto di innovazione | KA7: b) acquisto di attrezzature, macchine e impianti previsti dagli interventi SRD01 e SRD13 | KB7: c) spese generali | KC7: d) Investimenti immateriali | KD7: a) adeguamento di strutture, impianti e fabbricati funzionale al progetto di innovazione | KE7: b) acquisto di attrezzature, macchine e impianti previsti dall'intervento SRD15 | KF7: c) spese generali | KG7: d) Investimenti immateriali | KR7: a) adeguamento di strutture, impianti e fabbricati funzionale al progetto di innovazione | KS7: b) acquisto di attrezzature, macchine e impianti previsti dagli interventi SRD01 e SRD13 | KT7: c) spese generali | KU7: d) Investimenti immateriali | KV7: a) adeguamento di strutture, impianti e fabbricati funzionale al progetto di innovazione | KW7: b) acquisto di attrezzature, macchine e impianti previsti dall'intervento SRD15 | KX7: c) spese generali | KY7: d) Investimenti immateriali | LJ7: a) adeguamento di strutture, impianti e fabbricati funzionale al progetto di innovazione | LK7: b) acquisto di attrezzature, macchine e impianti previsti dagli interventi SRD01 e SRD13 | LL7: c) spese generali | LM7: d) Investimenti immateriali | LN7: a) adeguamento di strutture, impianti e fabbricati funzionale al progetto di innovazione | LO7: b) acquisto di attrezzature, macchine e impianti previsti dall'intervento SRD15 | LP7: c) spese generali | LQ7: d) Investimenti immateriali | MB7: a) adeguamento di strutture, impianti e fabbricati funzionale al progetto di innovazione | MC7: b) acquisto di attrezzature, macchine e impianti previsti dagli interventi SRD01 e SRD13 | MD7: c) spese generali | ME7: d) Investimenti immateriali | MF7: a) adeguamento di strutture, impianti e fabbricati funzionale al progetto di innovazione | MG7: b) acquisto di attrezzature, macchine e impianti previsti dall'intervento SRD15 | MH7: c) spese generali | MI7: d) Investimenti immateriali | MT7: a) adeguamento di strutture, impianti e fabbricati funzionale al progetto di innovazione | MU7: b) acquisto di attrezzature, macchine e impianti previsti dagli interventi SRD01 e SRD13 | MV7: c) spese generali | MW7: d) Investimenti immateriali | MX7: a) adeguamento di strutture, impianti e fabbricati funzionale al progetto di innovazione | MY7: b) acquisto di attrezzature, macchine e impianti previsti dall'intervento SRD15 | MZ7: c) spese generali | NA7: d) Investimenti immateriali | NL7: a) adeguamento di strutture, impianti e fabbricati funzionale al progetto di innovazione | NM7: b) acquisto di attrezzature, macchine e impianti previsti dagli interventi SRD01 e SRD13 | NN7: c) spese generali | NO7: d) Investimenti immateriali | NP7: a) adeguamento di strutture, impianti e fabbricati funzionale al progetto di innovazione | NQ7: b) acquisto di attrezzature, macchine e impianti previsti dall'intervento SRD15 | NR7: c) spese generali | NS7: d) Investimenti immateriali | OD7: a) adeguamento di strutture, impianti e fabbricati funzionale al progetto di innovazione | OE7: b) acquisto di attrezzature, macchine e impianti previsti dagli interventi SRD01 e SRD13 | OF7: c) spese generali | OG7: d) Investimenti immateriali | OH7: a) adeguamento di strutture, impianti e fabbricati funzionale al progetto di innovazione | OI7: b) acquisto di attrezzature, macchine e impianti previsti dall'intervento SRD15 | OJ7: c) spese generali | OK7: d) Investimenti immateriali
A8: -- Seleziona -- | E8: =IFERROR(DATEDIF(C8,D8,"D"),0) -> 0 | F8: --Seleziona-- | X8: =SUM(G8:W8) -> 0 | AP8: =SUM(Y8:AO8) -> 0 | BH8: =SUM(AQ8:BG8) -> 0 | BZ8: =SUM(BI8:BY8) -> 0 | CR8: =SUM(CA8:CQ8) -> 0 | DJ8: =SUM(CS8:DI8) -> 0 | EB8: =SUM(DK8:EA8) -> 0 | ET8: =SUM(EC8:ES8) -> 0 | FL8: =SUM(EU8:FK8) -> 0 | GD8: =SUM(FM8:GC8) -> 0 | GV8: =SUM(GE8:GU8) -> 0 | HN8: =SUM(GW8:HM8) -> 0 | IF8: =SUM(HO8:IE8) -> 0 | IX8: =SUM(IG8:IW8) -> 0 | JP8: =SUM(IY8:JO8) -> 0 | KH8: =SUM(JQ8:KG8) -> 0 | KZ8: =SUM(KI8:KY8) -> 0 | LR8: =SUM(LA8:LQ8) -> 0 | MJ8: =SUM(LS8:MI8) -> 0 | NB8: =SUM(MK8:NA8) -> 0 | NT8: =SUM(NC8:NS8) -> 0 | NU8: =G8+Y8+AQ8+BI8+CA8+CS8+DK8+EC8+EU8+FM8+GE8+GW8+HO8+IG8+IY8+JQ8+KI8+LA8+LS8+MK8+NC8 -> 0 | NV8: =H8+Z8+AR8+BJ8+CB8+CT8+DL8+ED8+EV8+FN8+GF8+GX8+HP8+IH8+IZ8+JR8+KJ8+LB8+LT8+ML8+ND8 -> 0 | NW8: =I8+AA8+AS8+BK8+CC8+CU8+DM8+EE8+EW8+FO8+GG8+GY8+HQ8+II8+JA8+JS8+KK8+LC8+LU8+MM8+NE8 -> 0 | NX8: =J8+AB8+AT8+BL8+CD8+CV8+DN8+EF8+EX8+FP8+GH8+GZ8+HR8+IJ8+JB8+JT8+KL8+LD8+LV8+MN8+NF8 -> 0 | NY8: =K8+AC8+AU8+BM8+CE8+CW8+DO8+EG8+EY8+FQ8+GI8+HA8+HS8+IK8+JC8+JU8+KM8+LE8+LW8+MO8+NG8 -> 0 | NZ8: =L8+AD8+AV8+BN8+CF8+CX8+DP8+EH8+EZ8+FR8+GJ8+HB8+HT8+IL8+JD8+JV8+KN8+LF8+LX8+MP8+NH8 -> 0 | OA8: =M8+AE8+AW8+BO8+CG8+CY8+DQ8+EI8+FA8+FS8+GK8+HC8+HU8+IM8+JE8+JW8+KO8+LG8+LY8+MQ8+NI8 -> 0 | OB8: =N8+AF8+AX8+BP8+CH8+CZ8+DR8+EJ8+FB8+FT8+GL8+HD8+HV8+IN8+JF8+JX8+KP8+LH8+LZ8+MR8+NJ8 -> 0 | ... OK8: =W8+AO8+BG8+BY8+CQ8+DI8+EA8+ES8+FK8+GC8+GU8+HM8+IE8+IW8+JO8+KG8+KY8+LQ8+MI8+NA8+NS8 -> 0 | OL8: =SUM(NU8:OK8) -> 0
A9: -- Seleziona -- | E9: =IFERROR(DATEDIF(C9,D9,"D"),0) -> 0 | F9: --Seleziona-- | X9: =SUM(G9:W9) -> 0 | AP9: =SUM(Y9:AO9) -> 0 | BH9: =SUM(AQ9:BG9) -> 0 | BZ9: =SUM(BI9:BY9) -> 0 | CR9: =SUM(CA9:CQ9) -> 0 | DJ9: =SUM(CS9:DI9) -> 0 | EB9: =SUM(DK9:EA9) -> 0 | ET9: =SUM(EC9:ES9) -> 0 | FL9: =SUM(EU9:FK9) -> 0 | GD9: =SUM(FM9:GC9) -> 0 | GV9: =SUM(GE9:GU9) -> 0 | HN9: =SUM(GW9:HM9) -> 0 | IF9: =SUM(HO9:IE9) -> 0 | IX9: =SUM(IG9:IW9) -> 0 | JP9: =SUM(IY9:JO9) -> 0 | KH9: =SUM(JQ9:KG9) -> 0 | KZ9: =SUM(KI9:KY9) -> 0 | LR9: =SUM(LA9:LQ9) -> 0 | MJ9: =SUM(LS9:MI9) -> 0 | NB9: =SUM(MK9:NA9) -> 0 | NT9: =SUM(NC9:NS9) -> 0 | NU9: =G9+Y9+AQ9+BI9+CA9+CS9+DK9+EC9+EU9+FM9+GE9+GW9+HO9+IG9+IY9+JQ9+KI9+LA9+LS9+MK9+NC9 -> 0 | NV9: =H9+Z9+AR9+BJ9+CB9+CT9+DL9+ED9+EV9+FN9+GF9+GX9+HP9+IH9+IZ9+JR9+KJ9+LB9+LT9+ML9+ND9 -> 0 | NW9: =I9+AA9+AS9+BK9+CC9+CU9+DM9+EE9+EW9+FO9+GG9+GY9+HQ9+II9+JA9+JS9+KK9+LC9+LU9+MM9+NE9 -> 0 | NX9: =J9+AB9+AT9+BL9+CD9+CV9+DN9+EF9+EX9+FP9+GH9+GZ9+HR9+IJ9+JB9+JT9+KL9+LD9+LV9+MN9+NF9 -> 0 | NY9: =K9+AC9+AU9+BM9+CE9+CW9+DO9+EG9+EY9+FQ9+GI9+HA9+HS9+IK9+JC9+JU9+KM9+LE9+LW9+MO9+NG9 -> 0 | NZ9: =L9+AD9+AV9+BN9+CF9+CX9+DP9+EH9+EZ9+FR9+GJ9+HB9+HT9+IL9+JD9+JV9+KN9+LF9+LX9+MP9+NH9 -> 0 | OA9: =M9+AE9+AW9+BO9+CG9+CY9+DQ9+EI9+FA9+FS9+GK9+HC9+HU9+IM9+JE9+JW9+KO9+LG9+LY9+MQ9+NI9 -> 0 | OB9: =N9+AF9+AX9+BP9+CH9+CZ9+DR9+EJ9+FB9+FT9+GL9+HD9+HV9+IN9+JF9+JX9+KP9+LH9+LZ9+MR9+NJ9 -> 0 | ... OK9: =W9+AO9+BG9+BY9+CQ9+DI9+EA9+ES9+FK9+GC9+GU9+HM9+IE9+IW9+JO9+KG9+KY9+LQ9+MI9+NA9+NS9 -> 0 | OL9: =SUM(NU9:OK9) -> 0
A10: -- Seleziona -- | E10: =IFERROR(DATEDIF(C10,D10,"D"),0) -> 0 | F10: --Seleziona-- | X10: =SUM(G10:W10) -> 0 | AP10: =SUM(Y10:AO10) -> 0 | BH10: =SUM(AQ10:BG10) -> 0 | BZ10: =SUM(BI10:BY10) -> 0 | CR10: =SUM(CA10:CQ10) -> 0 | DJ10: =SUM(CS10:DI10) -> 0 | EB10: =SUM(DK10:EA10) -> 0 | ET10: =SUM(EC10:ES10) -> 0 | FL10: =SUM(EU10:FK10) -> 0 | GD10: =SUM(FM10:GC10) -> 0 | GV10: =SUM(GE10:GU10) -> 0 | HN10: =SUM(GW10:HM10) -> 0 | IF10: =SUM(HO10:IE10) -> 0 | IX10: =SUM(IG10:IW10) -> 0 | JP10: =SUM(IY10:JO10) -> 0 | KH10: =SUM(JQ10:KG10) -> 0 | KZ10: =SUM(KI10:KY10) -> 0 | LR10: =SUM(LA10:LQ10) -> 0 | MJ10: =SUM(LS10:MI10) -> 0 | NB10: =SUM(MK10:NA10) -> 0 | NT10: =SUM(NC10:NS10) -> 0 | NU10: =G10+Y10+AQ10+BI10+CA10+CS10+DK10+EC10+EU10+FM10+GE10+GW10+HO10+IG10+IY10+JQ10+KI10+LA10+LS10+MK10+NC10 -> 0 | NV10: =H10+Z10+AR10+BJ10+CB10+CT10+DL10+ED10+EV10+FN10+GF10+GX10+HP10+IH10+IZ10+JR10+KJ10+LB10+LT10+ML10+ND10 -> 0 | NW10: =I10+AA10+AS10+BK10+CC10+CU10+DM10+EE10+EW10+FO10+GG10+GY10+HQ10+II10+JA10+JS10+KK10+LC10+LU10+MM10+NE10 -> 0 | NX10: =J10+AB10+AT10+BL10+CD10+CV10+DN10+EF10+EX10+FP10+GH10+GZ10+HR10+IJ10+JB10+JT10+KL10+LD10+LV10+MN10+NF10 -> 0 | NY10: =K10+AC10+AU10+BM10+CE10+CW10+DO10+EG10+EY10+FQ10+GI10+HA10+HS10+IK10+JC10+JU10+KM10+LE10+LW10+MO10+NG10 -> 0 | NZ10: =L10+AD10+AV10+BN10+CF10+CX10+DP10+EH10+EZ10+FR10+GJ10+HB10+HT10+IL10+JD10+JV10+KN10+LF10+LX10+MP10+NH10 -> 0 | OA10: =M10+AE10+AW10+BO10+CG10+CY10+DQ10+EI10+FA10+FS10+GK10+HC10+HU10+IM10+JE10+JW10+KO10+LG10+LY10+MQ10+NI10 -> 0 | OB10: =N10+AF10+AX10+BP10+CH10+CZ10+DR10+EJ10+FB10+FT10+GL10+HD10+HV10+IN10+JF10+JX10+KP10+LH10+LZ10+MR10+NJ10 -> 0 | ... OK10: =W10+AO10+BG10+BY10+CQ10+DI10+EA10+ES10+FK10+GC10+GU10+HM10+IE10+IW10+JO10+KG10+KY10+LQ10+MI10+NA10+NS10 -> 0 | OL10: =SUM(NU10:OK10) -> 0
A11: -- Seleziona -- | E11: =IFERROR(DATEDIF(C11,D11,"D"),0) -> 0 | F11: --Seleziona-- | X11: =SUM(G11:W11) -> 0 | AP11: =SUM(Y11:AO11) -> 0 | BH11: =SUM(AQ11:BG11) -> 0 | BZ11: =SUM(BI11:BY11) -> 0 | CR11: =SUM(CA11:CQ11) -> 0 | DJ11: =SUM(CS11:DI11) -> 0 | EB11: =SUM(DK11:EA11) -> 0 | ET11: =SUM(EC11:ES11) -> 0 | FL11: =SUM(EU11:FK11) -> 0 | GD11: =SUM(FM11:GC11) -> 0 | GV11: =SUM(GE11:GU11) -> 0 | HN11: =SUM(GW11:HM11) -> 0 | IF11: =SUM(HO11:IE11) -> 0 | IX11: =SUM(IG11:IW11) -> 0 | JP11: =SUM(IY11:JO11) -> 0 | KH11: =SUM(JQ11:KG11) -> 0 | KZ11: =SUM(KI11:KY11) -> 0 | LR11: =SUM(LA11:LQ11) -> 0 | MJ11: =SUM(LS11:MI11) -> 0 | NB11: =SUM(MK11:NA11) -> 0 | NT11: =SUM(NC11:NS11) -> 0 | NU11: =G11+Y11+AQ11+BI11+CA11+CS11+DK11+EC11+EU11+FM11+GE11+GW11+HO11+IG11+IY11+JQ11+KI11+LA11+LS11+MK11+NC11 -> 0 | NV11: =H11+Z11+AR11+BJ11+CB11+CT11+DL11+ED11+EV11+FN11+GF11+GX11+HP11+IH11+IZ11+JR11+KJ11+LB11+LT11+ML11+ND11 -> 0 | NW11: =I11+AA11+AS11+BK11+CC11+CU11+DM11+EE11+EW11+FO11+GG11+GY11+HQ11+II11+JA11+JS11+KK11+LC11+LU11+MM11+NE11 -> 0 | NX11: =J11+AB11+AT11+BL11+CD11+CV11+DN11+EF11+EX11+FP11+GH11+GZ11+HR11+IJ11+JB11+JT11+KL11+LD11+LV11+MN11+NF11 -> 0 | NY11: =K11+AC11+AU11+BM11+CE11+CW11+DO11+EG11+EY11+FQ11+GI11+HA11+HS11+IK11+JC11+JU11+KM11+LE11+LW11+MO11+NG11 -> 0 | NZ11: =L11+AD11+AV11+BN11+CF11+CX11+DP11+EH11+EZ11+FR11+GJ11+HB11+HT11+IL11+JD11+JV11+KN11+LF11+LX11+MP11+NH11 -> 0 | OA11: =M11+AE11+AW11+BO11+CG11+CY11+DQ11+EI11+FA11+FS11+GK11+HC11+HU11+IM11+JE11+JW11+KO11+LG11+LY11+MQ11+NI11 -> 0 | OB11: =N11+AF11+AX11+BP11+CH11+CZ11+DR11+EJ11+FB11+FT11+GL11+HD11+HV11+IN11+JF11+JX11+KP11+LH11+LZ11+MR11+NJ11 -> 0 | ... OK11: =W11+AO11+BG11+BY11+CQ11+DI11+EA11+ES11+FK11+GC11+GU11+HM11+IE11+IW11+JO11+KG11+KY11+LQ11+MI11+NA11+NS11 -> 0 | OL11: =SUM(NU11:OK11) -> 0
A12: -- Seleziona -- | E12: =IFERROR(DATEDIF(C12,D12,"D"),0) -> 0 | F12: --Seleziona-- | X12: =SUM(G12:W12) -> 0 | AP12: =SUM(Y12:AO12) -> 0 | BH12: =SUM(AQ12:BG12) -> 0 | BZ12: =SUM(BI12:BY12) -> 0 | CR12: =SUM(CA12:CQ12) -> 0 | DJ12: =SUM(CS12:DI12) -> 0 | EB12: =SUM(DK12:EA12) -> 0 | ET12: =SUM(EC12:ES12) -> 0 | FL12: =SUM(EU12:FK12) -> 0 | GD12: =SUM(FM12:GC12) -> 0 | GV12: =SUM(GE12:GU12) -> 0 | HN12: =SUM(GW12:HM12) -> 0 | IF12: =SUM(HO12:IE12) -> 0 | IX12: =SUM(IG12:IW12) -> 0 | JP12: =SUM(IY12:JO12) -> 0 | KH12: =SUM(JQ12:KG12) -> 0 | KZ12: =SUM(KI12:KY12) -> 0 | LR12: =SUM(LA12:LQ12) -> 0 | MJ12: =SUM(LS12:MI12) -> 0 | NB12: =SUM(MK12:NA12) -> 0 | NT12: =SUM(NC12:NS12) -> 0 | NU12: =G12+Y12+AQ12+BI12+CA12+CS12+DK12+EC12+EU12+FM12+GE12+GW12+HO12+IG12+IY12+JQ12+KI12+LA12+LS12+MK12+NC12 -> 0 | NV12: =H12+Z12+AR12+BJ12+CB12+CT12+DL12+ED12+EV12+FN12+GF12+GX12+HP12+IH12+IZ12+JR12+KJ12+LB12+LT12+ML12+ND12 -> 0 | NW12: =I12+AA12+AS12+BK12+CC12+CU12+DM12+EE12+EW12+FO12+GG12+GY12+HQ12+II12+JA12+JS12+KK12+LC12+LU12+MM12+NE12 -> 0 | NX12: =J12+AB12+AT12+BL12+CD12+CV12+DN12+EF12+EX12+FP12+GH12+GZ12+HR12+IJ12+JB12+JT12+KL12+LD12+LV12+MN12+NF12 -> 0 | NY12: =K12+AC12+AU12+BM12+CE12+CW12+DO12+EG12+EY12+FQ12+GI12+HA12+HS12+IK12+JC12+JU12+KM12+LE12+LW12+MO12+NG12 -> 0 | NZ12: =L12+AD12+AV12+BN12+CF12+CX12+DP12+EH12+EZ12+FR12+GJ12+HB12+HT12+IL12+JD12+JV12+KN12+LF12+LX12+MP12+NH12 -> 0 | OA12: =M12+AE12+AW12+BO12+CG12+CY12+DQ12+EI12+FA12+FS12+GK12+HC12+HU12+IM12+JE12+JW12+KO12+LG12+LY12+MQ12+NI12 -> 0 | OB12: =N12+AF12+AX12+BP12+CH12+CZ12+DR12+EJ12+FB12+FT12+GL12+HD12+HV12+IN12+JF12+JX12+KP12+LH12+LZ12+MR12+NJ12 -> 0 | ... OK12: =W12+AO12+BG12+BY12+CQ12+DI12+EA12+ES12+FK12+GC12+GU12+HM12+IE12+IW12+JO12+KG12+KY12+LQ12+MI12+NA12+NS12 -> 0 | OL12: =SUM(NU12:OK12) -> 0
A13: -- Seleziona -- | E13: =IFERROR(DATEDIF(C13,D13,"D"),0) -> 0 | F13: --Seleziona-- | X13: =SUM(G13:W13) -> 0 | AP13: =SUM(Y13:AO13) -> 0 | BH13: =SUM(AQ13:BG13) -> 0 | BZ13: =SUM(BI13:BY13) -> 0 | CR13: =SUM(CA13:CQ13) -> 0 | DJ13: =SUM(CS13:DI13) -> 0 | EB13: =SUM(DK13:EA13) -> 0 | ET13: =SUM(EC13:ES13) -> 0 | FL13: =SUM(EU13:FK13) -> 0 | GD13: =SUM(FM13:GC13) -> 0 | GV13: =SUM(GE13:GU13) -> 0 | HN13: =SUM(GW13:HM13) -> 0 | IF13: =SUM(HO13:IE13) -> 0 | IX13: =SUM(IG13:IW13) -> 0 | JP13: =SUM(IY13:JO13) -> 0 | KH13: =SUM(JQ13:KG13) -> 0 | KZ13: =SUM(KI13:KY13) -> 0 | LR13: =SUM(LA13:LQ13) -> 0 | MJ13: =SUM(LS13:MI13) -> 0 | NB13: =SUM(MK13:NA13) -> 0 | NT13: =SUM(NC13:NS13) -> 0 | NU13: =G13+Y13+AQ13+BI13+CA13+CS13+DK13+EC13+EU13+FM13+GE13+GW13+HO13+IG13+IY13+JQ13+KI13+LA13+LS13+MK13+NC13 -> 0 | NV13: =H13+Z13+AR13+BJ13+CB13+CT13+DL13+ED13+EV13+FN13+GF13+GX13+HP13+IH13+IZ13+JR13+KJ13+LB13+LT13+ML13+ND13 -> 0 | NW13: =I13+AA13+AS13+BK13+CC13+CU13+DM13+EE13+EW13+FO13+GG13+GY13+HQ13+II13+JA13+JS13+KK13+LC13+LU13+MM13+NE13 -> 0 | NX13: =J13+AB13+AT13+BL13+CD13+CV13+DN13+EF13+EX13+FP13+GH13+GZ13+HR13+IJ13+JB13+JT13+KL13+LD13+LV13+MN13+NF13 -> 0 | NY13: =K13+AC13+AU13+BM13+CE13+CW13+DO13+EG13+EY13+FQ13+GI13+HA13+HS13+IK13+JC13+JU13+KM13+LE13+LW13+MO13+NG13 -> 0 | NZ13: =L13+AD13+AV13+BN13+CF13+CX13+DP13+EH13+EZ13+FR13+GJ13+HB13+HT13+IL13+JD13+JV13+KN13+LF13+LX13+MP13+NH13 -> 0 | OA13: =M13+AE13+AW13+BO13+CG13+CY13+DQ13+EI13+FA13+FS13+GK13+HC13+HU13+IM13+JE13+JW13+KO13+LG13+LY13+MQ13+NI13 -> 0 | OB13: =N13+AF13+AX13+BP13+CH13+CZ13+DR13+EJ13+FB13+FT13+GL13+HD13+HV13+IN13+JF13+JX13+KP13+LH13+LZ13+MR13+NJ13 -> 0 | ... OK13: =W13+AO13+BG13+BY13+CQ13+DI13+EA13+ES13+FK13+GC13+GU13+HM13+IE13+IW13+JO13+KG13+KY13+LQ13+MI13+NA13+NS13 -> 0 | OL13: =SUM(NU13:OK13) -> 0
A14: -- Seleziona -- | E14: =IFERROR(DATEDIF(C14,D14,"D"),0) -> 0 | F14: --Seleziona-- | X14: =SUM(G14:W14) -> 0 | AP14: =SUM(Y14:AO14) -> 0 | BH14: =SUM(AQ14:BG14) -> 0 | BZ14: =SUM(BI14:BY14) -> 0 | CR14: =SUM(CA14:CQ14) -> 0 | DJ14: =SUM(CS14:DI14) -> 0 | EB14: =SUM(DK14:EA14) -> 0 | ET14: =SUM(EC14:ES14) -> 0 | FL14: =SUM(EU14:FK14) -> 0 | GD14: =SUM(FM14:GC14) -> 0 | GV14: =SUM(GE14:GU14) -> 0 | HN14: =SUM(GW14:HM14) -> 0 | IF14: =SUM(HO14:IE14) -> 0 | IX14: =SUM(IG14:IW14) -> 0 | JP14: =SUM(IY14:JO14) -> 0 | KH14: =SUM(JQ14:KG14) -> 0 | KZ14: =SUM(KI14:KY14) -> 0 | LR14: =SUM(LA14:LQ14) -> 0 | MJ14: =SUM(LS14:MI14) -> 0 | NB14: =SUM(MK14:NA14) -> 0 | NT14: =SUM(NC14:NS14) -> 0 | NU14: =G14+Y14+AQ14+BI14+CA14+CS14+DK14+EC14+EU14+FM14+GE14+GW14+HO14+IG14+IY14+JQ14+KI14+LA14+LS14+MK14+NC14 -> 0 | NV14: =H14+Z14+AR14+BJ14+CB14+CT14+DL14+ED14+EV14+FN14+GF14+GX14+HP14+IH14+IZ14+JR14+KJ14+LB14+LT14+ML14+ND14 -> 0 | NW14: =I14+AA14+AS14+BK14+CC14+CU14+DM14+EE14+EW14+FO14+GG14+GY14+HQ14+II14+JA14+JS14+KK14+LC14+LU14+MM14+NE14 -> 0 | NX14: =J14+AB14+AT14+BL14+CD14+CV14+DN14+EF14+EX14+FP14+GH14+GZ14+HR14+IJ14+JB14+JT14+KL14+LD14+LV14+MN14+NF14 -> 0 | NY14: =K14+AC14+AU14+BM14+CE14+CW14+DO14+EG14+EY14+FQ14+GI14+HA14+HS14+IK14+JC14+JU14+KM14+LE14+LW14+MO14+NG14 -> 0 | NZ14: =L14+AD14+AV14+BN14+CF14+CX14+DP14+EH14+EZ14+FR14+GJ14+HB14+HT14+IL14+JD14+JV14+KN14+LF14+LX14+MP14+NH14 -> 0 | OA14: =M14+AE14+AW14+BO14+CG14+CY14+DQ14+EI14+FA14+FS14+GK14+HC14+HU14+IM14+JE14+JW14+KO14+LG14+LY14+MQ14+NI14 -> 0 | OB14: =N14+AF14+AX14+BP14+CH14+CZ14+DR14+EJ14+FB14+FT14+GL14+HD14+HV14+IN14+JF14+JX14+KP14+LH14+LZ14+MR14+NJ14 -> 0 | ... OK14: =W14+AO14+BG14+BY14+CQ14+DI14+EA14+ES14+FK14+GC14+GU14+HM14+IE14+IW14+JO14+KG14+KY14+LQ14+MI14+NA14+NS14 -> 0 | OL14: =SUM(NU14:OK14) -> 0
A15: -- Seleziona -- | E15: =IFERROR(DATEDIF(C15,D15,"D"),0) -> 0 | F15: --Seleziona-- | X15: =SUM(G15:W15) -> 0 | AP15: =SUM(Y15:AO15) -> 0 | BH15: =SUM(AQ15:BG15) -> 0 | BZ15: =SUM(BI15:BY15) -> 0 | CR15: =SUM(CA15:CQ15) -> 0 | DJ15: =SUM(CS15:DI15) -> 0 | EB15: =SUM(DK15:EA15) -> 0 | ET15: =SUM(EC15:ES15) -> 0 | FL15: =SUM(EU15:FK15) -> 0 | GD15: =SUM(FM15:GC15) -> 0 | GV15: =SUM(GE15:GU15) -> 0 | HN15: =SUM(GW15:HM15) -> 0 | IF15: =SUM(HO15:IE15) -> 0 | IX15: =SUM(IG15:IW15) -> 0 | JP15: =SUM(IY15:JO15) -> 0 | KH15: =SUM(JQ15:KG15) -> 0 | KZ15: =SUM(KI15:KY15) -> 0 | LR15: =SUM(LA15:LQ15) -> 0 | MJ15: =SUM(LS15:MI15) -> 0 | NB15: =SUM(MK15:NA15) -> 0 | NT15: =SUM(NC15:NS15) -> 0 | NU15: =G15+Y15+AQ15+BI15+CA15+CS15+DK15+EC15+EU15+FM15+GE15+GW15+HO15+IG15+IY15+JQ15+KI15+LA15+LS15+MK15+NC15 -> 0 | NV15: =H15+Z15+AR15+BJ15+CB15+CT15+DL15+ED15+EV15+FN15+GF15+GX15+HP15+IH15+IZ15+JR15+KJ15+LB15+LT15+ML15+ND15 -> 0 | NW15: =I15+AA15+AS15+BK15+CC15+CU15+DM15+EE15+EW15+FO15+GG15+GY15+HQ15+II15+JA15+JS15+KK15+LC15+LU15+MM15+NE15 -> 0 | NX15: =J15+AB15+AT15+BL15+CD15+CV15+DN15+EF15+EX15+FP15+GH15+GZ15+HR15+IJ15+JB15+JT15+KL15+LD15+LV15+MN15+NF15 -> 0 | NY15: =K15+AC15+AU15+BM15+CE15+CW15+DO15+EG15+EY15+FQ15+GI15+HA15+HS15+IK15+JC15+JU15+KM15+LE15+LW15+MO15+NG15 -> 0 | NZ15: =L15+AD15+AV15+BN15+CF15+CX15+DP15+EH15+EZ15+FR15+GJ15+HB15+HT15+IL15+JD15+JV15+KN15+LF15+LX15+MP15+NH15 -> 0 | OA15: =M15+AE15+AW15+BO15+CG15+CY15+DQ15+EI15+FA15+FS15+GK15+HC15+HU15+IM15+JE15+JW15+KO15+LG15+LY15+MQ15+NI15 -> 0 | OB15: =N15+AF15+AX15+BP15+CH15+CZ15+DR15+EJ15+FB15+FT15+GL15+HD15+HV15+IN15+JF15+JX15+KP15+LH15+LZ15+MR15+NJ15 -> 0 | ... OK15: =W15+AO15+BG15+BY15+CQ15+DI15+EA15+ES15+FK15+GC15+GU15+HM15+IE15+IW15+JO15+KG15+KY15+LQ15+MI15+NA15+NS15 -> 0 | OL15: =SUM(NU15:OK15) -> 0
A16: -- Seleziona -- | E16: =IFERROR(DATEDIF(C16,D16,"D"),0) -> 0 | F16: --Seleziona-- | X16: =SUM(G16:W16) -> 0 | AP16: =SUM(Y16:AO16) -> 0 | BH16: =SUM(AQ16:BG16) -> 0 | BZ16: =SUM(BI16:BY16) -> 0 | CR16: =SUM(CA16:CQ16) -> 0 | DJ16: =SUM(CS16:DI16) -> 0 | EB16: =SUM(DK16:EA16) -> 0 | ET16: =SUM(EC16:ES16) -> 0 | FL16: =SUM(EU16:FK16) -> 0 | GD16: =SUM(FM16:GC16) -> 0 | GV16: =SUM(GE16:GU16) -> 0 | HN16: =SUM(GW16:HM16) -> 0 | IF16: =SUM(HO16:IE16) -> 0 | IX16: =SUM(IG16:IW16) -> 0 | JP16: =SUM(IY16:JO16) -> 0 | KH16: =SUM(JQ16:KG16) -> 0 | KZ16: =SUM(KI16:KY16) -> 0 | LR16: =SUM(LA16:LQ16) -> 0 | MJ16: =SUM(LS16:MI16) -> 0 | NB16: =SUM(MK16:NA16) -> 0 | NT16: =SUM(NC16:NS16) -> 0 | NU16: =G16+Y16+AQ16+BI16+CA16+CS16+DK16+EC16+EU16+FM16+GE16+GW16+HO16+IG16+IY16+JQ16+KI16+LA16+LS16+MK16+NC16 -> 0 | NV16: =H16+Z16+AR16+BJ16+CB16+CT16+DL16+ED16+EV16+FN16+GF16+GX16+HP16+IH16+IZ16+JR16+KJ16+LB16+LT16+ML16+ND16 -> 0 | NW16: =I16+AA16+AS16+BK16+CC16+CU16+DM16+EE16+EW16+FO16+GG16+GY16+HQ16+II16+JA16+JS16+KK16+LC16+LU16+MM16+NE16 -> 0 | NX16: =J16+AB16+AT16+BL16+CD16+CV16+DN16+EF16+EX16+FP16+GH16+GZ16+HR16+IJ16+JB16+JT16+KL16+LD16+LV16+MN16+NF16 -> 0 | NY16: =K16+AC16+AU16+BM16+CE16+CW16+DO16+EG16+EY16+FQ16+GI16+HA16+HS16+IK16+JC16+JU16+KM16+LE16+LW16+MO16+NG16 -> 0 | NZ16: =L16+AD16+AV16+BN16+CF16+CX16+DP16+EH16+EZ16+FR16+GJ16+HB16+HT16+IL16+JD16+JV16+KN16+LF16+LX16+MP16+NH16 -> 0 | OA16: =M16+AE16+AW16+BO16+CG16+CY16+DQ16+EI16+FA16+FS16+GK16+HC16+HU16+IM16+JE16+JW16+KO16+LG16+LY16+MQ16+NI16 -> 0 | OB16: =N16+AF16+AX16+BP16+CH16+CZ16+DR16+EJ16+FB16+FT16+GL16+HD16+HV16+IN16+JF16+JX16+KP16+LH16+LZ16+MR16+NJ16 -> 0 | ... OK16: =W16+AO16+BG16+BY16+CQ16+DI16+EA16+ES16+FK16+GC16+GU16+HM16+IE16+IW16+JO16+KG16+KY16+LQ16+MI16+NA16+NS16 -> 0 | OL16: =SUM(NU16:OK16) -> 0
A17: -- Seleziona -- | E17: =IFERROR(DATEDIF(C17,D17,"D"),0) -> 0 | F17: --Seleziona-- | X17: =SUM(G17:W17) -> 0 | AP17: =SUM(Y17:AO17) -> 0 | BH17: =SUM(AQ17:BG17) -> 0 | BZ17: =SUM(BI17:BY17) -> 0 | CR17: =SUM(CA17:CQ17) -> 0 | DJ17: =SUM(CS17:DI17) -> 0 | EB17: =SUM(DK17:EA17) -> 0 | ET17: =SUM(EC17:ES17) -> 0 | FL17: =SUM(EU17:FK17) -> 0 | GD17: =SUM(FM17:GC17) -> 0 | GV17: =SUM(GE17:GU17) -> 0 | HN17: =SUM(GW17:HM17) -> 0 | IF17: =SUM(HO17:IE17) -> 0 | IX17: =SUM(IG17:IW17) -> 0 | JP17: =SUM(IY17:JO17) -> 0 | KH17: =SUM(JQ17:KG17) -> 0 | KZ17: =SUM(KI17:KY17) -> 0 | LR17: =SUM(LA17:LQ17) -> 0 | MJ17: =SUM(LS17:MI17) -> 0 | NB17: =SUM(MK17:NA17) -> 0 | NT17: =SUM(NC17:NS17) -> 0 | NU17: =G17+Y17+AQ17+BI17+CA17+CS17+DK17+EC17+EU17+FM17+GE17+GW17+HO17+IG17+IY17+JQ17+KI17+LA17+LS17+MK17+NC17 -> 0 | NV17: =H17+Z17+AR17+BJ17+CB17+CT17+DL17+ED17+EV17+FN17+GF17+GX17+HP17+IH17+IZ17+JR17+KJ17+LB17+LT17+ML17+ND17 -> 0 | NW17: =I17+AA17+AS17+BK17+CC17+CU17+DM17+EE17+EW17+FO17+GG17+GY17+HQ17+II17+JA17+JS17+KK17+LC17+LU17+MM17+NE17 -> 0 | NX17: =J17+AB17+AT17+BL17+CD17+CV17+DN17+EF17+EX17+FP17+GH17+GZ17+HR17+IJ17+JB17+JT17+KL17+LD17+LV17+MN17+NF17 -> 0 | NY17: =K17+AC17+AU17+BM17+CE17+CW17+DO17+EG17+EY17+FQ17+GI17+HA17+HS17+IK17+JC17+JU17+KM17+LE17+LW17+MO17+NG17 -> 0 | NZ17: =L17+AD17+AV17+BN17+CF17+CX17+DP17+EH17+EZ17+FR17+GJ17+HB17+HT17+IL17+JD17+JV17+KN17+LF17+LX17+MP17+NH17 -> 0 | OA17: =M17+AE17+AW17+BO17+CG17+CY17+DQ17+EI17+FA17+FS17+GK17+HC17+HU17+IM17+JE17+JW17+KO17+LG17+LY17+MQ17+NI17 -> 0 | OB17: =N17+AF17+AX17+BP17+CH17+CZ17+DR17+EJ17+FB17+FT17+GL17+HD17+HV17+IN17+JF17+JX17+KP17+LH17+LZ17+MR17+NJ17 -> 0 | ... OK17: =W17+AO17+BG17+BY17+CQ17+DI17+EA17+ES17+FK17+GC17+GU17+HM17+IE17+IW17+JO17+KG17+KY17+LQ17+MI17+NA17+NS17 -> 0 | OL17: =SUM(NU17:OK17) -> 0
A18: -- Seleziona -- | E18: =IFERROR(DATEDIF(C18,D18,"D"),0) -> 0 | F18: --Seleziona-- | X18: =SUM(G18:W18) -> 0 | AP18: =SUM(Y18:AO18) -> 0 | BH18: =SUM(AQ18:BG18) -> 0 | BZ18: =SUM(BI18:BY18) -> 0 | CR18: =SUM(CA18:CQ18) -> 0 | DJ18: =SUM(CS18:DI18) -> 0 | EB18: =SUM(DK18:EA18) -> 0 | ET18: =SUM(EC18:ES18) -> 0 | FL18: =SUM(EU18:FK18) -> 0 | GD18: =SUM(FM18:GC18) -> 0 | GV18: =SUM(GE18:GU18) -> 0 | HN18: =SUM(GW18:HM18) -> 0 | IF18: =SUM(HO18:IE18) -> 0 | IX18: =SUM(IG18:IW18) -> 0 | JP18: =SUM(IY18:JO18) -> 0 | KH18: =SUM(JQ18:KG18) -> 0 | KZ18: =SUM(KI18:KY18) -> 0 | LR18: =SUM(LA18:LQ18) -> 0 | MJ18: =SUM(LS18:MI18) -> 0 | NB18: =SUM(MK18:NA18) -> 0 | NT18: =SUM(NC18:NS18) -> 0 | NU18: =G18+Y18+AQ18+BI18+CA18+CS18+DK18+EC18+EU18+FM18+GE18+GW18+HO18+IG18+IY18+JQ18+KI18+LA18+LS18+MK18+NC18 -> 0 | NV18: =H18+Z18+AR18+BJ18+CB18+CT18+DL18+ED18+EV18+FN18+GF18+GX18+HP18+IH18+IZ18+JR18+KJ18+LB18+LT18+ML18+ND18 -> 0 | NW18: =I18+AA18+AS18+BK18+CC18+CU18+DM18+EE18+EW18+FO18+GG18+GY18+HQ18+II18+JA18+JS18+KK18+LC18+LU18+MM18+NE18 -> 0 | NX18: =J18+AB18+AT18+BL18+CD18+CV18+DN18+EF18+EX18+FP18+GH18+GZ18+HR18+IJ18+JB18+JT18+KL18+LD18+LV18+MN18+NF18 -> 0 | NY18: =K18+AC18+AU18+BM18+CE18+CW18+DO18+EG18+EY18+FQ18+GI18+HA18+HS18+IK18+JC18+JU18+KM18+LE18+LW18+MO18+NG18 -> 0 | NZ18: =L18+AD18+AV18+BN18+CF18+CX18+DP18+EH18+EZ18+FR18+GJ18+HB18+HT18+IL18+JD18+JV18+KN18+LF18+LX18+MP18+NH18 -> 0 | OA18: =M18+AE18+AW18+BO18+CG18+CY18+DQ18+EI18+FA18+FS18+GK18+HC18+HU18+IM18+JE18+JW18+KO18+LG18+LY18+MQ18+NI18 -> 0 | OB18: =N18+AF18+AX18+BP18+CH18+CZ18+DR18+EJ18+FB18+FT18+GL18+HD18+HV18+IN18+JF18+JX18+KP18+LH18+LZ18+MR18+NJ18 -> 0 | ... OK18: =W18+AO18+BG18+BY18+CQ18+DI18+EA18+ES18+FK18+GC18+GU18+HM18+IE18+IW18+JO18+KG18+KY18+LQ18+MI18+NA18+NS18 -> 0 | OL18: =SUM(NU18:OK18) -> 0
