Workbook

Sheet COPERTINA

Sheet DATI DI PARTENZA
AC1: =SUM(#REF!) -> #REF!
AC2: =IF(AC1>500,"PROPOSTA AMMISSIBILE","PROPOSTA NON AMMISSIBILE") -> #REF!
A4: ENTE PROPONENTE * | C4: PERIMETRO DI INTERVENTO (1-25)
A5: NUMERO PERIMETRI DI INTERVENTO * | C5: 1 | D5: 2 | E5: 3 | F5: 4 | G5: 5 | H5: 6 | I5: 7 | J5: 8 | K5: 9 | L5: 10 | M5: 11 | N5: 12 | O5: 13 | P5: 14 | Q5: 15 | R5: 16 | S5: 17 | T5: 18 | U5: 19 | V5: 20 | W5: 21 | X5: 22 | Y5: 23 | Z5: 24 | AA5: 25
A6: CODICE PUNTO DI FORNITURA (POD) - PERIMETRO DI INTERVENTO *
A7: INDIRIZZO DI RIFERIMENTO DEL POD - PERIMETRO DI INTERVENTO *
A8: COFINANZIAMENTO ENTE PROPONENTE [€]
A9: COFINANZIAMENTO ALTRO PUBBLICO [€]
A10: COFINANZIAMENTO PRIVATO [€]
A11: REGIME IVA - INDICARE LA PERCENTUALE DI RECUPERABILITA' [%] * | B11: 0 | C11: Nota: Inserire "0" (ZERO) nel caso di "non recuperabilità" dell'aliquota IVA, oppure "100" (CENTO) nel caso di "recuperabilità" totale dell'aliquota IVA
A12: ESPERTO GESTIONE ENERGIA (EGE) (scegliere da menù a tendina) * | B12: NO
A13: SISTEMI DI GESTIONE AMBIENTALE/ENERGETICA (scegliere da menù a tendina) * | B13: NO
A14: PROPONENTE MEMBRO CER OPERATIVA (scegliere da menù a tendina) * | B14: NO
A15: LIVELLO PROGETTAZIONE (scegliere da menù a tendina) * | B15: PFTE
A17: NOTA: COMPILARE ESCLUSIVAMENTE LE CELLE IN GRIGIO
A18: * DATI OBBLIGATORI

Sheet PdI_1
AF1: PFTE
AF2: Progetto Esecutivo | AL2: 1 - | AM2: 2 - | AN2: 3 - | AO2: 4 - | AP2: 5 - | AW2: OPZIONE | AX2: IMPORTO
A3: =CONCATENATE(AJ3,AK3,'DATI DI PARTENZA'!C6) -> PERIMETRO DI INTERVENTO: | AF3: Nessun progetto | AJ3: PERIMETRO DI INTERVENTO | AK3: : | AL3: =+'DATI DI PARTENZA'!C6 -> 0 | AM3: =+'DATI DI PARTENZA'!D6 -> 0 | AN3: =+'DATI DI PARTENZA'!E6 -> 0 | AO3: =+'DATI DI PARTENZA'!F6 -> 0 | AP3: =+'DATI DI PARTENZA'!G6 -> 0 | AR3: =CONCATENATE(AW3,AU3,AS3,AT3) -> OPZIONE A: 5555,59 € | AS3: =+BB13 -> 5555.59 | AT3: € | AU3: : | AW3: OPZIONE A | AX3: =+BB13 -> 5555.59 | AY3: Vapori di Mercurio | AZ3: SI | BA3: 4151.875 | BB3: OPZA | BC3: OPZB | BD3: OPZC | BE3: OPZD
A4: INDIRIZZO DI RIFERIMENTO DEL POD - PERIMETRO DI INTERVENTO | X4: =+'DATI DI PARTENZA'!C7 -> 0 | AJ4: Perimetro di Intervento | AL4: =+'DATI DI PARTENZA'!C6 -> 0 | AM4: =+'DATI DI PARTENZA'!D6 -> 0 | AN4: =+'DATI DI PARTENZA'!E6 -> 0 | AO4: =+'DATI DI PARTENZA'!F6 -> 0 | AP4: =+'DATI DI PARTENZA'!G6 -> 0 | AR4: =CONCATENATE(AW4,AU4,AS4,AT4) -> OPZIONE B: 3800,9 € | AS4: =+BC13 -> 3800.9 | AT4: € | AU4: : | AW4: OPZIONE B | AX4: =+BC13 -> 3800.9 | AY4: Incandescenza | AZ4: NO | BB4: 3867.72 | BC4: 2646.13 | BD4: 1407.67 | BE4: 11227.5
A5: SITUAZIONE ANTE INTERVENTO | H5: SITUAZIONE POST INTERVENTO | R5: NUOVI PUNTI LUCE | AR5: =CONCATENATE(AW5,AU5,AS5,AT5) -> OPZIONE C: 2021,97 € | AS5: =+BD13 -> 2021.97 | AT5: € | AU5: : | AW5: OPZIONE C | AX5: =+BD13 -> 2021.97 | AY5: Fluorescenti Compatte | BB5: =+(0.22)-(0.22*'DATI DI PARTENZA'!$B$11) -> 0.22 | BC5: =+(0.22)-(0.22*'DATI DI PARTENZA'!$B$11) -> 0.22 | BD5: =+(0.22)-(0.22*'DATI DI PARTENZA'!$B$11) -> 0.22 | BE5: =+(0.22)-(0.22*'DATI DI PARTENZA'!$B$11) -> 0.22
A6: N° Punti Luce * | B6: Tipologia Sorgente Luminosa (scegliere da menù a tendina) * | C6: Potenza Nominale Unitaria (W) * | D6: Regolazione di flusso (scegliere da menù a tendina) * | E6: Potenza Complessiva [kW] (campo compilato in automatico) | F6: Consumo Energetico [kWh/anno] (campo compilato in automatico) | H6: Intervento (scegliere da menù a tendina) * | I6: N° Punti Luce (campo compilato in automatico) | J6: Tipologia Sorgente Luminosa (scegliere da menù a tendina) * | K6: Potenza Nominale Unitaria (W) * | L6: Regolazione di flusso (scegliere da menù a tendina) * | M6: Potenza Complessiva [kW] (campo compilato in automatico) | N6: Consumo Energetico [kWh/anno] (campo compilato in automatico) | O6: Costo Unitario [€] (campo compilato in automatico) | P6: Costo Totale [€] (campo compilato in automatico) | R6: Intervento (scegliere da menù a tendina) * | S6: N° Punti Luce * | T6: Tipologia Sorgente Luminosa (scegliere da menù a tendina) * | U6: Potenza Nominale Unitaria (W) * | V6: Regolazione di flusso (scegliere da menù a tendina) * | W6: Potenza Complessiva [kW] (campo compilato in automatico) | X6: Costo Unitario [€] (campo compilato in automatico) | Y6: Costo Totale [€] (campo compilato in automatico) | AE6: SOSTITUZIONE | AF6: NUOVI | AJ6: Perimetro di Intervento | AL6: =+'DATI DI PARTENZA'!C7 -> 0 | AM6: =+'DATI DI PARTENZA'!D7 -> 0 | AN6: =+'DATI DI PARTENZA'!E7 -> 0 | AO6: =+'DATI DI PARTENZA'!F7 -> 0 | AP6: =+'DATI DI PARTENZA'!G7 -> 0 | AR6: =CONCATENATE(AW6,AU6,AS6,AT6) -> OPZIONE D: 16127,18 € | AS6: =+BE13 -> 16127.18 | AT6: € | AU6: : | AW6: OPZIONE D | AX6: =+BE13 -> 16127.18 | AY6: Fluorescenti Tubolari | BB6: =+BB4*BB5 -> 850.8984 | BC6: =+BC4*BC5 -> 582.1486 | BD6: =+BD4*BD5 -> 309.6874 | BE6: =+BE4*BE5 -> 2470.05
E7: =+A7*C7*AB7/1000 -> 0 | F7: =+E7*$BA$3 -> 0 | I7: =+A7 -> 0 | M7: =+I7*K7*AC7/1000 -> 0 | N7: =+M7*$BA$3 -> 0 | O7: =+AE7 -> #N/A | P7: =+I7*O7 -> #N/A | W7: =+S7*U7*AD7/1000 -> 0 | X7: =+AF7 -> #N/A | Y7: =+Z7 -> #N/A | Z7: =+S7*X7 -> #N/A | AA7: =+I7*O7 -> #N/A | AB7: =IF(D7="SI",0.67,1) -> 1 | AC7: =IF(L7="SI",0.67,1) -> 1 | AD7: =IF(V7="SI",0.67,1) -> 1 | AE7: =VLOOKUP(H7,$AW$2:$AX$5,2) -> #N/A | AF7: =VLOOKUP(R7,$AW$2:$AX$5,2) -> #N/A | AG7: =IF(M7>0,M7,0) -> 0 | AY7: Sodio Alta Pressione | BB7: 0.12 | BC7: 0.12 | BD7: 0.12 | BE7: 0.12
E8: =+A8*C8*AB8/1000 -> 0 | F8: =+E8*$BA$3 -> 0 | I8: =+A8 -> 0 | M8: =+I8*K8*AC8/1000 -> 0 | N8: =+M8*$BA$3 -> 0 | O8: =+AE8 -> #N/A | P8: =+I8*O8 -> #N/A | W8: =+S8*U8*AD8/1000 -> 0 | X8: =+AF8 -> #N/A | Y8: =+Z8 -> #N/A | Z8: =+S8*X8 -> #N/A | AA8: =+I8*O8 -> #N/A | AB8: =IF(D8="SI",0.67,1) -> 1 | AC8: =IF(L8="SI",0.67,1) -> 1 | AD8: =IF(V8="SI",0.67,1) -> 1 | AE8: =VLOOKUP(H8,$AW$2:$AX$5,2) -> #N/A | AF8: =VLOOKUP(R8,$AW$2:$AX$5,2) -> #N/A | AG8: =IF(M8>0,M8,0) -> 0 | AY8: Sodio Bassa Pressione | BB8: =+BB4*BB7 -> 464.1264 | BC8: =+BC4*BC7 -> 317.5356 | BD8: =+BD4*BD7 -> 168.9204 | BE8: =+BE4*BE7 -> 1347.3
E9: =+A9*C9*AB9/1000 -> 0 | F9: =+E9*$BA$3 -> 0 | I9: =+A9 -> 0 | M9: =+I9*K9*AC9/1000 -> 0 | N9: =+M9*$BA$3 -> 0 | O9: =+AE9 -> #N/A | P9: =+I9*O9 -> #N/A | W9: =+S9*U9*AD9/1000 -> 0 | X9: =+AF9 -> #N/A | Y9: =+Z9 -> #N/A | Z9: =+S9*X9 -> #N/A | AA9: =+I9*O9 -> #N/A | AB9: =IF(D9="SI",0.67,1) -> 1 | AC9: =IF(L9="SI",0.67,1) -> 1 | AD9: =IF(V9="SI",0.67,1) -> 1 | AE9: =VLOOKUP(H9,$AW$2:$AX$5,2) -> #N/A | AF9: =VLOOKUP(R9,$AW$2:$AX$5,2) -> #N/A | AG9: =IF(M9>0,M9,0) -> 0 | AY9: Ioduri Metallici | BB9: =+BB8*BB5 -> 102.10781 | BC9: =+BC8*BC5 -> 69.857832 | BD9: =+BD8*BD5 -> 37.162488 | BE9: =+BE8*BE5 -> 296.406
E10: =+A10*C10*AB10/1000 -> 0 | F10: =+E10*$BA$3 -> 0 | I10: =+A10 -> 0 | M10: =+I10*K10*AC10/1000 -> 0 | N10: =+M10*$BA$3 -> 0 | O10: =+AE10 -> #N/A | P10: =+I10*O10 -> #N/A | W10: =+S10*U10*AD10/1000 -> 0 | X10: =+AF10 -> #N/A | Y10: =+Z10 -> #N/A | Z10: =+S10*X10 -> #N/A | AA10: =+I10*O10 -> #N/A | AB10: =IF(D10="SI",0.67,1) -> 1 | AC10: =IF(L10="SI",0.67,1) -> 1 | AD10: =IF(V10="SI",0.67,1) -> 1 | AE10: =VLOOKUP(H10,$AW$2:$AX$5,2) -> #N/A | AF10: =VLOOKUP(R10,$AW$2:$AX$5,2) -> #N/A | AG10: =IF(M10>0,M10,0) -> 0 | AW10: OPZIONE D | AX10: OPZIONE D | AY10: Alogena | BB10: 0.07 | BC10: 0.07 | BD10: 0.07 | BE10: 0.07
E11: =+A11*C11*AB11/1000 -> 0 | F11: =+E11*$BA$3 -> 0 | I11: =+A11 -> 0 | M11: =+I11*K11*AC11/1000 -> 0 | N11: =+M11*$BA$3 -> 0 | O11: =+AE11 -> #N/A | P11: =+I11*O11 -> #N/A | W11: =+S11*U11*AD11/1000 -> 0 | X11: =+AF11 -> #N/A | Y11: =+Z11 -> #N/A | Z11: =+S11*X11 -> #N/A | AA11: =+I11*O11 -> #N/A | AB11: =IF(D11="SI",0.67,1) -> 1 | AC11: =IF(L11="SI",0.67,1) -> 1 | AD11: =IF(V11="SI",0.67,1) -> 1 | AE11: =VLOOKUP(H11,$AW$2:$AX$5,2) -> #N/A | AF11: =VLOOKUP(R11,$AW$2:$AX$5,2) -> #N/A | AG11: =IF(M11>0,M11,0) -> 0 | AY11: LED | BB11: =+BB10*BB4 -> 270.7404 | BC11: =+BC10*BC4 -> 185.2291 | BD11: =+BD10*BD4 -> 98.5369 | BE11: =+BE10*BE4 -> 785.925
E12: =+A12*C12*AB12/1000 -> 0 | F12: =+E12*$BA$3 -> 0 | I12: =+A12 -> 0 | M12: =+I12*K12*AC12/1000 -> 0 | N12: =+M12*$BA$3 -> 0 | O12: =+AE12 -> #N/A | P12: =+I12*O12 -> #N/A | W12: =+S12*U12*AD12/1000 -> 0 | X12: =+AF12 -> #N/A | Y12: =+Z12 -> #N/A | Z12: =+S12*X12 -> #N/A | AA12: =+I12*O12 -> #N/A | AB12: =IF(D12="SI",0.67,1) -> 1 | AC12: =IF(L12="SI",0.67,1) -> 1 | AD12: =IF(V12="SI",0.67,1) -> 1 | AE12: =VLOOKUP(H12,$AW$2:$AX$5,2) -> #N/A | AF12: =VLOOKUP(R12,$AW$2:$AX$5,2) -> #N/A | AG12: =IF(M12>0,M12,0) -> 0 | AY12: Altro | BB12: =+BB4+BB6+BB8+BB9+BB11 -> 5555.593 | BC12: =+BC4+BC6+BC8+BC9+BC11 -> 3800.9011 | BD12: =+BD4+BD6+BD8+BD9+BD11 -> 2021.9772 | BE12: =+BE4+BE6+BE8+BE9+BE11 -> 16127.181
E13: =+A13*C13*AB13/1000 -> 0 | F13: =+E13*$BA$3 -> 0 | I13: =+A13 -> 0 | M13: =+I13*K13*AC13/1000 -> 0 | N13: =+M13*$BA$3 -> 0 | O13: =+AE13 -> #N/A | P13: =+I13*O13 -> #N/A | W13: =+S13*U13*AD13/1000 -> 0 | X13: =+AF13 -> #N/A | Y13: =+Z13 -> #N/A | Z13: =+S13*X13 -> #N/A | AA13: =+I13*O13 -> #N/A | AB13: =IF(D13="SI",0.67,1) -> 1 | AC13: =IF(L13="SI",0.67,1) -> 1 | AD13: =IF(V13="SI",0.67,1) -> 1 | AE13: =VLOOKUP(H13,$AW$2:$AX$5,2) -> #N/A | AF13: =VLOOKUP(R13,$AW$2:$AX$5,2) -> #N/A | AG13: =IF(M13>0,M13,0) -> 0 | BB13: =TRUNC(BB12,2) -> 5555.59 | BC13: =TRUNC(BC12,2) -> 3800.9 | BD13: =TRUNC(BD12,2) -> 2021.97 | BE13: =TRUNC(BE12,2) -> 16127.18
E14: =+A14*C14*AB14/1000 -> 0 | F14: =+E14*$BA$3 -> 0 | I14: =+A14 -> 0 | M14: =+I14*K14*AC14/1000 -> 0 | N14: =+M14*$BA$3 -> 0 | O14: =+AE14 -> #N/A | P14: =+I14*O14 -> #N/A | W14: =+S14*U14*AD14/1000 -> 0 | X14: =+AF14 -> #N/A | Y14: =+Z14 -> #N/A | Z14: =+S14*X14 -> #N/A | AA14: =+I14*O14 -> #N/A | AB14: =IF(D14="SI",0.67,1) -> 1 | AC14: =IF(L14="SI",0.67,1) -> 1 | AD14: =IF(V14="SI",0.67,1) -> 1 | AE14: =VLOOKUP(H14,$AW$2:$AX$5,2) -> #N/A | AF14: =VLOOKUP(R14,$AW$2:$AX$5,2) -> #N/A | AG14: =IF(M14>0,M14,0) -> 0
E15: =+A15*C15*AB15/1000 -> 0 | F15: =+E15*$BA$3 -> 0 | I15: =+A15 -> 0 | M15: =+I15*K15*AC15/1000 -> 0 | N15: =+M15*$BA$3 -> 0 | O15: =+AE15 -> #N/A | P15: =+I15*O15 -> #N/A | W15: =+S15*U15*AD15/1000 -> 0 | X15: =+AF15 -> #N/A | Y15: =+Z15 -> #N/A | Z15: =+S15*X15 -> #N/A | AA15: =+I15*O15 -> #N/A | AB15: =IF(D15="SI",0.67,1) -> 1 | AC15: =IF(L15="SI",0.67,1) -> 1 | AD15: =IF(V15="SI",0.67,1) -> 1 | AE15: =VLOOKUP(H15,$AW$2:$AX$5,2) -> #N/A | AF15: =VLOOKUP(R15,$AW$2:$AX$5,2) -> #N/A | AG15: =IF(M15>0,M15,0) -> 0 | AV15: FONTE: ISPRA | AW15: 558.7 | AX15: g
E16: =+A16*C16*AB16/1000 -> 0 | F16: =+E16*$BA$3 -> 0 | I16: =+A16 -> 0 | M16: =+I16*K16*AC16/1000 -> 0 | N16: =+M16*$BA$3 -> 0 | O16: =+AE16 -> #N/A | P16: =+I16*O16 -> #N/A | W16: =+S16*U16*AD16/1000 -> 0 | X16: =+AF16 -> #N/A | Y16: =+Z16 -> #N/A | Z16: =+S16*X16 -> #N/A | AA16: =+I16*O16 -> #N/A | AB16: =IF(D16="SI",0.67,1) -> 1 | AC16: =IF(L16="SI",0.67,1) -> 1 | AD16: =IF(V16="SI",0.67,1) -> 1 | AE16: =VLOOKUP(H16,$AW$2:$AX$5,2) -> #N/A | AF16: =VLOOKUP(R16,$AW$2:$AX$5,2) -> #N/A | AG16: =IF(M16>0,M16,0) -> 0 | AV16: Consumi Settore Elettrico | AW16: =+AW15/1000/1000 -> 0.0005587 | AX16: ton CO2
E17: =+A17*C17*AB17/1000 -> 0 | F17: =+E17*$BA$3 -> 0 | I17: =+A17 -> 0 | M17: =+I17*K17*AC17/1000 -> 0 | N17: =+M17*$BA$3 -> 0 | O17: =+AE17 -> #N/A | P17: =+I17*O17 -> #N/A | W17: =+S17*U17*AD17/1000 -> 0 | X17: =+AF17 -> #N/A | Y17: =+Z17 -> #N/A | Z17: =+S17*X17 -> #N/A | AA17: =+I17*O17 -> #N/A | AB17: =IF(D17="SI",0.67,1) -> 1 | AC17: =IF(L17="SI",0.67,1) -> 1 | AD17: =IF(V17="SI",0.67,1) -> 1 | AE17: =VLOOKUP(H17,$AW$2:$AX$5,2) -> #N/A | AF17: =VLOOKUP(R17,$AW$2:$AX$5,2) -> #N/A | AG17: =IF(M17>0,M17,0) -> 0 | AW17: =+E81*1000 -> 0
E18: =+A18*C18*AB18/1000 -> 0 | F18: =+E18*$BA$3 -> 0 | I18: =+A18 -> 0 | M18: =+I18*K18*AC18/1000 -> 0 | N18: =+M18*$BA$3 -> 0 | O18: =+AE18 -> #N/A | P18: =+I18*O18 -> #N/A | W18: =+S18*U18*AD18/1000 -> 0 | X18: =+AF18 -> #N/A | Y18: =+Z18 -> #N/A | Z18: =+S18*X18 -> #N/A | AA18: =+I18*O18 -> #N/A | AB18: =IF(D18="SI",0.67,1) -> 1 | AC18: =IF(L18="SI",0.67,1) -> 1 | AD18: =IF(V18="SI",0.67,1) -> 1 | AE18: =VLOOKUP(H18,$AW$2:$AX$5,2) -> #N/A | AF18: =VLOOKUP(R18,$AW$2:$AX$5,2) -> #N/A | AG18: =IF(M18>0,M18,0) -> 0 | AW18: =+AW16*AW17 -> 0
E19: =+A19*C19*AB19/1000 -> 0 | F19: =+E19*$BA$3 -> 0 | I19: =+A19 -> 0 | M19: =+I19*K19*AC19/1000 -> 0 | N19: =+M19*$BA$3 -> 0 | O19: =+AE19 -> #N/A | P19: =+I19*O19 -> #N/A | W19: =+S19*U19*AD19/1000 -> 0 | X19: =+AF19 -> #N/A | Y19: =+Z19 -> #N/A | Z19: =+S19*X19 -> #N/A | AA19: =+I19*O19 -> #N/A | AB19: =IF(D19="SI",0.67,1) -> 1 | AC19: =IF(L19="SI",0.67,1) -> 1 | AD19: =IF(V19="SI",0.67,1) -> 1 | AE19: =VLOOKUP(H19,$AW$2:$AX$5,2) -> #N/A | AF19: =VLOOKUP(R19,$AW$2:$AX$5,2) -> #N/A | AG19: =IF(M19>0,M19,0) -> 0 | AW19: =+AW17*AW15 -> 0
E20: =+A20*C20*AB20/1000 -> 0 | F20: =+E20*$BA$3 -> 0 | I20: =+A20 -> 0 | M20: =+I20*K20*AC20/1000 -> 0 | N20: =+M20*$BA$3 -> 0 | O20: =+AE20 -> #N/A | P20: =+I20*O20 -> #N/A | W20: =+S20*U20*AD20/1000 -> 0 | X20: =+AF20 -> #N/A | Y20: =+Z20 -> #N/A | Z20: =+S20*X20 -> #N/A | AA20: =+I20*O20 -> #N/A | AB20: =IF(D20="SI",0.67,1) -> 1 | AC20: =IF(L20="SI",0.67,1) -> 1 | AD20: =IF(V20="SI",0.67,1) -> 1 | AE20: =VLOOKUP(H20,$AW$2:$AX$5,2) -> #N/A | AF20: =VLOOKUP(R20,$AW$2:$AX$5,2) -> #N/A | AG20: =IF(M20>0,M20,0) -> 0 | AW20: =+AW19/1000000 -> 0
E21: =+A21*C21*AB21/1000 -> 0 | F21: =+E21*$BA$3 -> 0 | I21: =+A21 -> 0 | M21: =+I21*K21*AC21/1000 -> 0 | N21: =+M21*$BA$3 -> 0 | O21: =+AE21 -> #N/A | P21: =+I21*O21 -> #N/A | W21: =+S21*U21*AD21/1000 -> 0 | X21: =+AF21 -> #N/A | Y21: =+Z21 -> #N/A | Z21: =+S21*X21 -> #N/A | AA21: =+I21*O21 -> #N/A | AB21: =IF(D21="SI",0.67,1) -> 1 | AC21: =IF(L21="SI",0.67,1) -> 1 | AD21: =IF(V21="SI",0.67,1) -> 1 | AE21: =VLOOKUP(H21,$AW$2:$AX$5,2) -> #N/A | AF21: =VLOOKUP(R21,$AW$2:$AX$5,2) -> #N/A | AG21: =IF(M21>0,M21,0) -> 0
E22: =+A22*C22*AB22/1000 -> 0 | F22: =+E22*$BA$3 -> 0 | I22: =+A22 -> 0 | M22: =+I22*K22*AC22/1000 -> 0 | N22: =+M22*$BA$3 -> 0 | O22: =+AE22 -> #N/A | P22: =+I22*O22 -> #N/A | W22: =+S22*U22*AD22/1000 -> 0 | X22: =+AF22 -> #N/A | Y22: =+Z22 -> #N/A | Z22: =+S22*X22 -> #N/A | AA22: =+I22*O22 -> #N/A | AB22: =IF(D22="SI",0.67,1) -> 1 | AC22: =IF(L22="SI",0.67,1) -> 1 | AD22: =IF(V22="SI",0.67,1) -> 1 | AE22: =VLOOKUP(H22,$AW$2:$AX$5,2) -> #N/A | AF22: =VLOOKUP(R22,$AW$2:$AX$5,2) -> #N/A | AG22: =IF(M22>0,M22,0) -> 0
E23: =+A23*C23*AB23/1000 -> 0 | F23: =+E23*$BA$3 -> 0 | I23: =+A23 -> 0 | M23: =+I23*K23*AC23/1000 -> 0 | N23: =+M23*$BA$3 -> 0 | O23: =+AE23 -> #N/A | P23: =+I23*O23 -> #N/A | W23: =+S23*U23*AD23/1000 -> 0 | X23: =+AF23 -> #N/A | Y23: =+Z23 -> #N/A | Z23: =+S23*X23 -> #N/A | AA23: =+I23*O23 -> #N/A | AB23: =IF(D23="SI",0.67,1) -> 1 | AC23: =IF(L23="SI",0.67,1) -> 1 | AD23: =IF(V23="SI",0.67,1) -> 1 | AE23: =VLOOKUP(H23,$AW$2:$AX$5,2) -> #N/A | AF23: =VLOOKUP(R23,$AW$2:$AX$5,2) -> #N/A | AG23: =IF(M23>0,M23,0) -> 0
E24: =+A24*C24*AB24/1000 -> 0 | F24: =+E24*$BA$3 -> 0 | I24: =+A24 -> 0 | M24: =+I24*K24*AC24/1000 -> 0 | N24: =+M24*$BA$3 -> 0 | O24: =+AE24 -> #N/A | P24: =+I24*O24 -> #N/A | W24: =+S24*U24*AD24/1000 -> 0 | X24: =+AF24 -> #N/A | Y24: =+Z24 -> #N/A | Z24: =+S24*X24 -> #N/A | AA24: =+I24*O24 -> #N/A | AB24: =IF(D24="SI",0.67,1) -> 1 | AC24: =IF(L24="SI",0.67,1) -> 1 | AD24: =IF(V24="SI",0.67,1) -> 1 | AE24: =VLOOKUP(H24,$AW$2:$AX$5,2) -> #N/A | AF24: =VLOOKUP(R24,$AW$2:$AX$5,2) -> #N/A | AG24: =IF(M24>0,M24,0) -> 0
E25: =+A25*C25*AB25/1000 -> 0 | F25: =+E25*$BA$3 -> 0 | I25: =+A25 -> 0 | M25: =+I25*K25*AC25/1000 -> 0 | N25: =+M25*$BA$3 -> 0 | O25: =+AE25 -> #N/A | P25: =+I25*O25 -> #N/A | W25: =+S25*U25*AD25/1000 -> 0 | X25: =+AF25 -> #N/A | Y25: =+Z25 -> #N/A | Z25: =+S25*X25 -> #N/A | AA25: =+I25*O25 -> #N/A | AB25: =IF(D25="SI",0.67,1) -> 1 | AC25: =IF(L25="SI",0.67,1) -> 1 | AD25: =IF(V25="SI",0.67,1) -> 1 | AE25: =VLOOKUP(H25,$AW$2:$AX$5,2) -> #N/A | AF25: =VLOOKUP(R25,$AW$2:$AX$5,2) -> #N/A | AG25: =IF(M25>0,M25,0) -> 0
E26: =+A26*C26*AB26/1000 -> 0 | F26: =+E26*$BA$3 -> 0 | I26: =+A26 -> 0 | M26: =+I26*K26*AC26/1000 -> 0 | N26: =+M26*$BA$3 -> 0 | O26: =+AE26 -> #N/A | P26: =+I26*O26 -> #N/A | W26: =+S26*U26*AD26/1000 -> 0 | X26: =+AF26 -> #N/A | Y26: =+Z26 -> #N/A | Z26: =+S26*X26 -> #N/A | AA26: =+I26*O26 -> #N/A | AB26: =IF(D26="SI",0.67,1) -> 1 | AC26: =IF(L26="SI",0.67,1) -> 1 | AD26: =IF(V26="SI",0.67,1) -> 1 | AE26: =VLOOKUP(H26,$AW$2:$AX$5,2) -> #N/A | AF26: =VLOOKUP(R26,$AW$2:$AX$5,2) -> #N/A | AG26: =IF(M26>0,M26,0) -> 0
E27: =+A27*C27*AB27/1000 -> 0 | F27: =+E27*$BA$3 -> 0 | I27: =+A27 -> 0 | M27: =+I27*K27*AC27/1000 -> 0 | N27: =+M27*$BA$3 -> 0 | O27: =+AE27 -> #N/A | P27: =+I27*O27 -> #N/A | W27: =+S27*U27*AD27/1000 -> 0 | X27: =+AF27 -> #N/A | Y27: =+Z27 -> #N/A | Z27: =+S27*X27 -> #N/A | AA27: =+I27*O27 -> #N/A | AB27: =IF(D27="SI",0.67,1) -> 1 | AC27: =IF(L27="SI",0.67,1) -> 1 | AD27: =IF(V27="SI",0.67,1) -> 1 | AE27: =VLOOKUP(H27,$AW$2:$AX$5,2) -> #N/A | AF27: =VLOOKUP(R27,$AW$2:$AX$5,2) -> #N/A | AG27: =IF(M27>0,M27,0) -> 0
E28: =+A28*C28*AB28/1000 -> 0 | F28: =+E28*$BA$3 -> 0 | I28: =+A28 -> 0 | M28: =+I28*K28*AC28/1000 -> 0 | N28: =+M28*$BA$3 -> 0 | O28: =+AE28 -> #N/A | P28: =+I28*O28 -> #N/A | W28: =+S28*U28*AD28/1000 -> 0 | X28: =+AF28 -> #N/A | Y28: =+Z28 -> #N/A | Z28: =+S28*X28 -> #N/A | AA28: =+I28*O28 -> #N/A | AB28: =IF(D28="SI",0.67,1) -> 1 | AC28: =IF(L28="SI",0.67,1) -> 1 | AD28: =IF(V28="SI",0.67,1) -> 1 | AE28: =VLOOKUP(H28,$AW$2:$AX$5,2) -> #N/A | AF28: =VLOOKUP(R28,$AW$2:$AX$5,2) -> #N/A | AG28: =IF(M28>0,M28,0) -> 0
E29: =+A29*C29*AB29/1000 -> 0 | F29: =+E29*$BA$3 -> 0 | I29: =+A29 -> 0 | M29: =+I29*K29*AC29/1000 -> 0 | N29: =+M29*$BA$3 -> 0 | O29: =+AE29 -> #N/A | P29: =+I29*O29 -> #N/A | W29: =+S29*U29*AD29/1000 -> 0 | X29: =+AF29 -> #N/A | Y29: =+Z29 -> #N/A | Z29: =+S29*X29 -> #N/A | AA29: =+I29*O29 -> #N/A | AB29: =IF(D29="SI",0.67,1) -> 1 | AC29: =IF(L29="SI",0.67,1) -> 1 | AD29: =IF(V29="SI",0.67,1) -> 1 | AE29: =VLOOKUP(H29,$AW$2:$AX$5,2) -> #N/A | AF29: =VLOOKUP(R29,$AW$2:$AX$5,2) -> #N/A | AG29: =IF(M29>0,M29,0) -> 0
E30: =+A30*C30*AB30/1000 -> 0 | F30: =+E30*$BA$3 -> 0 | I30: =+A30 -> 0 | M30: =+I30*K30*AC30/1000 -> 0 | N30: =+M30*$BA$3 -> 0 | O30: =+AE30 -> #N/A | P30: =+I30*O30 -> #N/A | W30: =+S30*U30*AD30/1000 -> 0 | X30: =+AF30 -> #N/A | Y30: =+Z30 -> #N/A | Z30: =+S30*X30 -> #N/A | AA30: =+I30*O30 -> #N/A | AB30: =IF(D30="SI",0.67,1) -> 1 | AC30: =IF(L30="SI",0.67,1) -> 1 | AD30: =IF(V30="SI",0.67,1) -> 1 | AE30: =VLOOKUP(H30,$AW$2:$AX$5,2) -> #N/A | AF30: =VLOOKUP(R30,$AW$2:$AX$5,2) -> #N/A | AG30: =IF(M30>0,M30,0) -> 0
E31: =+A31*C31*AB31/1000 -> 0 | F31: =+E31*$BA$3 -> 0 | I31: =+A31 -> 0 | M31: =+I31*K31*AC31/1000 -> 0 | N31: =+M31*$BA$3 -> 0 | O31: =+AE31 -> #N/A | P31: =+I31*O31 -> #N/A | W31: =+S31*U31*AD31/1000 -> 0 | X31: =+AF31 -> #N/A | Y31: =+Z31 -> #N/A | Z31: =+S31*X31 -> #N/A | AA31: =+I31*O31 -> #N/A | AB31: =IF(D31="SI",0.67,1) -> 1 | AC31: =IF(L31="SI",0.67,1) -> 1 | AD31: =IF(V31="SI",0.67,1) -> 1 | AE31: =VLOOKUP(H31,$AW$2:$AX$5,2) -> #N/A | AF31: =VLOOKUP(R31,$AW$2:$AX$5,2) -> #N/A | AG31: =IF(M31>0,M31,0) -> 0
E32: =+A32*C32*AB32/1000 -> 0 | F32: =+E32*$BA$3 -> 0 | I32: =+A32 -> 0 | M32: =+I32*K32*AC32/1000 -> 0 | N32: =+M32*$BA$3 -> 0 | O32: =+AE32 -> #N/A | P32: =+I32*O32 -> #N/A | W32: =+S32*U32*AD32/1000 -> 0 | X32: =+AF32 -> #N/A | Y32: =+Z32 -> #N/A | Z32: =+S32*X32 -> #N/A | AA32: =+I32*O32 -> #N/A | AB32: =IF(D32="SI",0.67,1) -> 1 | AC32: =IF(L32="SI",0.67,1) -> 1 | AD32: =IF(V32="SI",0.67,1) -> 1 | AE32: =VLOOKUP(H32,$AW$2:$AX$5,2) -> #N/A | AF32: =VLOOKUP(R32,$AW$2:$AX$5,2) -> #N/A | AG32: =IF(M32>0,M32,0) -> 0
... E56: =+A56*C56*AB56/1000 -> 0 | F56: =+E56*$BA$3 -> 0 | I56: =+A56 -> 0 | M56: =+I56*K56*AC56/1000 -> 0 | N56: =+M56*$BA$3 -> 0 | O56: =+AE56 -> #N/A | P56: =+I56*O56 -> #N/A | W56: =+S56*U56*AD56/1000 -> 0 | X56: =+AF56 -> #N/A | Y56: =+Z56 -> #N/A | Z56: =+S56*X56 -> #N/A | AA56: =+I56*O56 -> #N/A | AB56: =IF(D56="SI",0.67,1) -> 1 | AC56: =IF(L56="SI",0.67,1) -> 1 | AD56: =IF(V56="SI",0.67,1) -> 1 | AE56: =VLOOKUP(H56,$AW$2:$AX$5,2) -> #N/A | AF56: =VLOOKUP(R56,$AW$2:$AX$5,2) -> #N/A | AG56: =IF(M56>0,M56,0) -> 0
A57: =SUM(A7:A56) -> 0 | B57: TOTALE | E57: =SUM(E7:E56) -> 0 | F57: =SUM(F7:F56) -> 0 | I57: =SUM(I7:I56) -> 0 | J57: TOTALE | M57: =SUM(M7:M56) -> 0 | N57: =SUM(N7:N56) -> 0 | P57: =+AB58 -> 0 | S57: =SUM(S7:S56) -> 0 | T57: TOTALE | W57: =SUM(W7:W56) -> 0 | Y57: =+AE58 -> 0
AB58: =SUMIFS(P7:P56,P7:P56,">0") -> 0 | AC58: =SUMIFS(Q7:Q56,Q7:Q56,">0") -> 0 | AD58: =SUMIFS(R7:R56,R7:R56,">0") -> 0 | AE58: =SUMIFS(Y7:Y56,Y7:Y56,">0") -> 0
A60: S.T.I. (scegliere da menù a tendina) * | B60: Descrizione dettagliata del servizio tecnologico integrato ed analisi del potenziale risparmio energetico atteso * | X60: Risparmio energetico Energia Primaria Atteso [kWh/anno] * | Y60: Costo Totale [€] (campo compilato in automatico)
Y61: =+AA61 -> 0 | AA61: =IF(A61="SI",$BE$13,0) -> 0 | AB61: =IF(A61="SI",1,0) -> 0 | AC61: =IF(B61="SI",1,0) -> 0 | AD61: =IF(C61="SI",1,0) -> 0
Y62: =+AA62 -> 0 | AA62: =IF(A62="SI",$BE$13,0) -> 0 | AB62: =IF(A62="SI",1,0) -> 0 | AC62: =IF(B62="SI",1,0) -> 0 | AD62: =IF(C62="SI",1,0) -> 0
Y63: =+AA63 -> 0 | AA63: =IF(A63="SI",$BE$13,0) -> 0 | AB63: =IF(A63="SI",1,0) -> 0 | AC63: =IF(B63="SI",1,0) -> 0 | AD63: =IF(C63="SI",1,0) -> 0
Y64: =+AA64 -> 0 | AA64: =IF(A64="SI",$BE$13,0) -> 0 | AB64: =IF(A64="SI",1,0) -> 0 | AC64: =IF(B64="SI",1,0) -> 0 | AD64: =IF(C64="SI",1,0) -> 0
Y65: =+AA65 -> 0 | AA65: =IF(A65="SI",$BE$13,0) -> 0 | AB65: =IF(A65="SI",1,0) -> 0 | AC65: =IF(B65="SI",1,0) -> 0 | AD65: =IF(C65="SI",1,0) -> 0
Y66: =+AA66 -> 0 | AA66: =IF(A66="SI",$BE$13,0) -> 0 | AB66: =IF(A66="SI",1,0) -> 0 | AC66: =IF(B66="SI",1,0) -> 0 | AD66: =IF(C66="SI",1,0) -> 0
Y67: =+AA67 -> 0 | AA67: =IF(A67="SI",$BE$13,0) -> 0 | AB67: =IF(A67="SI",1,0) -> 0 | AC67: =IF(B67="SI",1,0) -> 0 | AD67: =IF(C67="SI",1,0) -> 0
Y68: =+AA68 -> 0 | AA68: =IF(A68="SI",$BE$13,0) -> 0 | AB68: =IF(A68="SI",1,0) -> 0 | AC68: =IF(B68="SI",1,0) -> 0 | AD68: =IF(C68="SI",1,0) -> 0
Y69: =+AA69 -> 0 | AA69: =IF(A69="SI",$BE$13,0) -> 0 | AB69: =IF(A69="SI",1,0) -> 0 | AC69: =IF(B69="SI",1,0) -> 0 | AD69: =IF(C69="SI",1,0) -> 0
Y70: =+AA70 -> 0 | AA70: =IF(A70="SI",$BE$13,0) -> 0 | AB70: =IF(A70="SI",1,0) -> 0 | AC70: =IF(B70="SI",1,0) -> 0 | AD70: =IF(C70="SI",1,0) -> 0
Y71: =+AA71 -> 0 | AA71: =IF(A71="SI",$BE$13,0) -> 0 | AB71: =IF(A71="SI",1,0) -> 0 | AC71: =IF(B71="SI",1,0) -> 0 | AD71: =IF(C71="SI",1,0) -> 0
Y72: =+AA72 -> 0 | AA72: =IF(A72="SI",$BE$13,0) -> 0 | AB72: =IF(A72="SI",1,0) -> 0 | AC72: =IF(B72="SI",1,0) -> 0 | AD72: =IF(C72="SI",1,0) -> 0
... Y75: =+AA75 -> 0 | AA75: =IF(A75="SI",$BE$13,0) -> 0 | AB75: =IF(A75="SI",1,0) -> 0 | AC75: =IF(B75="SI",1,0) -> 0 | AD75: =IF(C75="SI",1,0) -> 0
A76: TOTALE | X76: =SUM(X61:X75) -> 0 | Y76: =SUM(Y61:Y75) -> 0 | AB76: =SUM(AB61:AB75) -> 0 | AC76: =SUM(AC61:AC75) -> 0 | AD76: =SUM(AD61:AD75) -> 0
A78: Costo Totale [€] (campo compilato in automatico) | E78: =+P57+Y57+Y76 -> 0
A79: Risparmio Energetico Opz. A/B/C [MWh/anno] (campo compilato in automatico) | E79: =+(F57-N57)/1000 -> 0
A80: Risparmio Energetico Atteso Opz. D [MWh/anno] (campo compilato in automatico) | E80: =+X76/1000 -> 0
A81: Risparmio Energetico Totale [MWh/anno] (campo compilato in automatico) | E81: =+E79+E80 -> 0
A82: Riduzione emissioni [ton. CO2/anno] (campo compilato in automatico) | E82: =+E81*1000*AW16 -> 0
A84: NOTA: COMPILARE ESCLUSIVAMENTE LE CELLE IN GRIGIO
A85: * DATI OBBLIGATORI
A87: =+E78-Y76 -> 0 | B87: 312a
A88: =+Y76 -> 0 | B88: 331b
A89: =+A87+A88 -> 0 | B89: totale | C89: =+E78-A89 -> 0
A91: =+F57 -> 0 | B91: CONSUMO PRE | C91: =+A91/1000 -> 0
A92: =+N57 -> 0 | B92: CONSUMO POST | C92: =+N57/1000 -> 0
B93: RISPARMIO A/B/C | C93: =+C91-C92 -> 0
B94: RISPARMIO D | C94: =+E80 -> 0
B95: RISPARMIO TOTALE | C95: =+C93+C94 -> 0 | D95: =+E81-C95 -> 0
B96: PERCENTUALE RISPARMIO | C96: =+C95/C91 -> #DIV/0!
B98: PUNTI LUCE | C98: =+I57+S57 -> 0
B99: STI | C99: =+AB76 -> 0

Sheet PdI_2
AF1: PFTE
AF2: Progetto Esecutivo | AL2: 1 - | AM2: 2 - | AN2: 3 - | AO2: 4 - | AP2: 5 - | AW2: OPZIONE | AX2: IMPORTO
A3: =CONCATENATE(AJ3,AK3,'DATI DI PARTENZA'!D6) -> PERIMETRO DI INTERVENTO: | AF3: Nessun progetto | AJ3: PERIMETRO DI INTERVENTO | AK3: : | AL3: =+'DATI DI PARTENZA'!C6 -> 0 | AM3: =+'DATI DI PARTENZA'!D6 -> 0 | AN3: =+'DATI DI PARTENZA'!E6 -> 0 | AO3: =+'DATI DI PARTENZA'!F6 -> 0 | AP3: =+'DATI DI PARTENZA'!G6 -> 0 | AR3: =CONCATENATE(AW3,AU3,AS3,AT3) -> OPZIONE A: 5555,59 € | AS3: =+BB13 -> 5555.59 | AT3: € | AU3: : | AW3: OPZIONE A | AX3: =+BB13 -> 5555.59 | AY3: Vapori di Mercurio | AZ3: SI | BA3: 4151.875 | BB3: OPZA | BC3: OPZB | BD3: OPZC | BE3: OPZD
A4: INDIRIZZO DI RIFERIMENTO DEL POD - PERIMETRO DI INTERVENTO | X4: =+'DATI DI PARTENZA'!D7 -> 0 | AJ4: Perimetro di Intervento | AL4: =+'DATI DI PARTENZA'!C6 -> 0 | AM4: =+'DATI DI PARTENZA'!D6 -> 0 | AN4: =+'DATI DI PARTENZA'!E6 -> 0 | AO4: =+'DATI DI PARTENZA'!F6 -> 0 | AP4: =+'DATI DI PARTENZA'!G6 -> 0 | AR4: =CONCATENATE(AW4,AU4,AS4,AT4) -> OPZIONE B: 3800,9 € | AS4: =+BC13 -> 3800.9 | AT4: € | AU4: : | AW4: OPZIONE B | AX4: =+BC13 -> 3800.9 | AY4: Incandescenza | AZ4: NO | BB4: 3867.72 | BC4: 2646.13 | BD4: 1407.67 | BE4: 11227.5
A5: SITUAZIONE ANTE INTERVENTO | H5: SITUAZIONE POST INTERVENTO | R5: NUOVI PUNTI LUCE | AR5: =CONCATENATE(AW5,AU5,AS5,AT5) -> OPZIONE C: 2021,97 € | AS5: =+BD13 -> 2021.97 | AT5: € | AU5: : | AW5: OPZIONE C | AX5: =+BD13 -> 2021.97 | AY5: Fluorescenti Compatte | BB5: =+(0.22)-(0.22*'DATI DI PARTENZA'!$B$11) -> 0.22 | BC5: =+(0.22)-(0.22*'DATI DI PARTENZA'!$B$11) -> 0.22 | BD5: =+(0.22)-(0.22*'DATI DI PARTENZA'!$B$11) -> 0.22 | BE5: =+(0.22)-(0.22*'DATI DI PARTENZA'!$B$11) -> 0.22
A6: N° Punti Luce * | B6: Tipologia Sorgente Luminosa (scegliere da menù a tendina) * | C6: Potenza Nominale Unitaria (W) * | D6: Regolazione di flusso (scegliere da menù a tendina) * | E6: Potenza Complessiva [kW] (campo compilato in automatico) | F6: Consumo Energetico [kWh/anno] (campo compilato in automatico) | H6: Intervento (scegliere da menù a tendina) * | I6: N° Punti Luce (campo compilato in automatico) | J6: Tipologia Sorgente Luminosa (scegliere da menù a tendina) * | K6: Potenza Nominale Unitaria (W) * | L6: Regolazione di flusso (scegliere da menù a tendina) * | M6: Potenza Complessiva [kW] (campo compilato in automatico) | N6: Consumo Energetico [kWh/anno] (campo compilato in automatico) | O6: Costo Unitario [€] (campo compilato in automatico) | P6: Costo Totale [€] (campo compilato in automatico) | R6: Intervento (scegliere da menù a tendina) * | S6: N° Punti Luce * | T6: Tipologia Sorgente Luminosa (scegliere da menù a tendina) * | U6: Potenza Nominale Unitaria (W) * | V6: Regolazione di flusso (scegliere da menù a tendina) * | W6: Potenza Complessiva [kW] (campo compilato in automatico) | X6: Costo Unitario [€] (campo compilato in automatico) | Y6: Costo Totale [€] (campo compilato in automatico) | AE6: SOSTITUZIONE | AF6: NUOVI | AJ6: Perimetro di Intervento | AL6: =+'DATI DI PARTENZA'!C7 -> 0 | AM6: =+'DATI DI PARTENZA'!D7 -> 0 | AN6: =+'DATI DI PARTENZA'!E7 -> 0 | AO6: =+'DATI DI PARTENZA'!F7 -> 0 | AP6: =+'DATI DI PARTENZA'!G7 -> 0 | AR6: =CONCATENATE(AW6,AU6,AS6,AT6) -> OPZIONE D: 16127,18 € | AS6: =+BE13 -> 16127.18 | AT6: € | AU6: : | AW6: OPZIONE D | AX6: =+BE13 -> 16127.18 | AY6: Fluorescenti Tubolari | BB6: =+BB4*BB5 -> 850.8984 | BC6: =+BC4*BC5 -> 582.1486 | BD6: =+BD4*BD5 -> 309.6874 | BE6: =+BE4*BE5 -> 2470.05
E7: =+A7*C7*AB7/1000 -> 0 | F7: =+E7*$BA$3 -> 0 | I7: =+A7 -> 0 | M7: =+I7*K7*AC7/1000 -> 0 | N7: =+M7*$BA$3 -> 0 | O7: =+AE7 -> #N/A | P7: =+I7*O7 -> #N/A | W7: =+S7*U7*AD7/1000 -> 0 | X7: =+AF7 -> #N/A | Y7: =+Z7 -> #N/A | Z7: =+S7*X7 -> #N/A | AA7: =+I7*O7 -> #N/A | AB7: =IF(D7="SI",0.67,1) -> 1 | AC7: =IF(L7="SI",0.67,1) -> 1 | AD7: =IF(V7="SI",0.67,1) -> 1 | AE7: =VLOOKUP(H7,$AW$2:$AX$5,2) -> #N/A | AF7: =VLOOKUP(R7,$AW$2:$AX$5,2) -> #N/A | AG7: =IF(P7="NUMERO",P7,0) -> #N/A | AY7: Sodio Alta Pressione | BB7: 0.12 | BC7: 0.12 | BD7: 0.12 | BE7: 0.12
E8: =+A8*C8*AB8/1000 -> 0 | F8: =+E8*$BA$3 -> 0 | I8: =+A8 -> 0 | M8: =+I8*K8*AC8/1000 -> 0 | N8: =+M8*$BA$3 -> 0 | O8: =+AE8 -> #N/A | P8: =+I8*O8 -> #N/A | W8: =+S8*U8*AD8/1000 -> 0 | X8: =+AF8 -> #N/A | Y8: =+Z8 -> #N/A | Z8: =+S8*X8 -> #N/A | AA8: =+I8*O8 -> #N/A | AB8: =IF(D8="SI",0.67,1) -> 1 | AC8: =IF(L8="SI",0.67,1) -> 1 | AD8: =IF(V8="SI",0.67,1) -> 1 | AE8: =VLOOKUP(H8,$AW$2:$AX$5,2) -> #N/A | AF8: =VLOOKUP(R8,$AW$2:$AX$5,2) -> #N/A | AG8: =IF(P8>0,P8,0) -> #N/A | AY8: Sodio Bassa Pressione | BB8: =+BB4*BB7 -> 464.1264 | BC8: =+BC4*BC7 -> 317.5356 | BD8: =+BD4*BD7 -> 168.9204 | BE8: =+BE4*BE7 -> 1347.3
E9: =+A9*C9*AB9/1000 -> 0 | F9: =+E9*$BA$3 -> 0 | I9: =+A9 -> 0 | M9: =+I9*K9*AC9/1000 -> 0 | N9: =+M9*$BA$3 -> 0 | O9: =+AE9 -> #N/A | P9: =+I9*O9 -> #N/A | W9: =+S9*U9*AD9/1000 -> 0 | X9: =+AF9 -> #N/A | Y9: =+Z9 -> #N/A | Z9: =+S9*X9 -> #N/A | AA9: =+I9*O9 -> #N/A | AB9: =IF(D9="SI",0.67,1) -> 1 | AC9: =IF(L9="SI",0.67,1) -> 1 | AD9: =IF(V9="SI",0.67,1) -> 1 | AE9: =VLOOKUP(H9,$AW$2:$AX$5,2) -> #N/A | AF9: =VLOOKUP(R9,$AW$2:$AX$5,2) -> #N/A | AG9: =IF(P9>0,P9,0) -> #N/A | AY9: Ioduri Metallici | BB9: =+BB8*BB5 -> 102.10781 | BC9: =+BC8*BC5 -> 69.857832 | BD9: =+BD8*BD5 -> 37.162488 | BE9: =+BE8*BE5 -> 296.406
E10: =+A10*C10*AB10/1000 -> 0 | F10: =+E10*$BA$3 -> 0 | I10: =+A10 -> 0 | M10: =+I10*K10*AC10/1000 -> 0 | N10: =+M10*$BA$3 -> 0 | O10: =+AE10 -> #N/A | P10: =+I10*O10 -> #N/A | W10: =+S10*U10*AD10/1000 -> 0 | X10: =+AF10 -> #N/A | Y10: =+Z10 -> #N/A | Z10: =+S10*X10 -> #N/A | AA10: =+I10*O10 -> #N/A | AB10: =IF(D10="SI",0.67,1) -> 1 | AC10: =IF(L10="SI",0.67,1) -> 1 | AD10: =IF(V10="SI",0.67,1) -> 1 | AE10: =VLOOKUP(H10,$AW$2:$AX$5,2) -> #N/A | AF10: =VLOOKUP(R10,$AW$2:$AX$5,2) -> #N/A | AG10: =IF(P10>0,P10,0) -> #N/A | AW10: OPZIONE D | AX10: OPZIONE D | AY10: Alogena | BB10: 0.07 | BC10: 0.07 | BD10: 0.07 | BE10: 0.07
E11: =+A11*C11*AB11/1000 -> 0 | F11: =+E11*$BA$3 -> 0 | I11: =+A11 -> 0 | M11: =+I11*K11*AC11/1000 -> 0 | N11: =+M11*$BA$3 -> 0 | O11: =+AE11 -> #N/A | P11: =+I11*O11 -> #N/A | W11: =+S11*U11*AD11/1000 -> 0 | X11: =+AF11 -> #N/A | Y11: =+Z11 -> #N/A | Z11: =+S11*X11 -> #N/A | AA11: =+I11*O11 -> #N/A | AB11: =IF(D11="SI",0.67,1) -> 1 | AC11: =IF(L11="SI",0.67,1) -> 1 | AD11: =IF(V11="SI",0.67,1) -> 1 | AE11: =VLOOKUP(H11,$AW$2:$AX$5,2) -> #N/A | AF11: =VLOOKUP(R11,$AW$2:$AX$5,2) -> #N/A | AG11: =IF(P11>0,P11,0) -> #N/A | AY11: LED | BB11: =+BB10*BB4 -> 270.7404 | BC11: =+BC10*BC4 -> 185.2291 | BD11: =+BD10*BD4 -> 98.5369 | BE11: =+BE10*BE4 -> 785.925
E12: =+A12*C12*AB12/1000 -> 0 | F12: =+E12*$BA$3 -> 0 | I12: =+A12 -> 0 | M12: =+I12*K12*AC12/1000 -> 0 | N12: =+M12*$BA$3 -> 0 | O12: =+AE12 -> #N/A | P12: =+I12*O12 -> #N/A | W12: =+S12*U12*AD12/1000 -> 0 | X12: =+AF12 -> #N/A | Y12: =+Z12 -> #N/A | Z12: =+S12*X12 -> #N/A | AA12: =+I12*O12 -> #N/A | AB12: =IF(D12="SI",0.67,1) -> 1 | AC12: =IF(L12="SI",0.67,1) -> 1 | AD12: =IF(V12="SI",0.67,1) -> 1 | AE12: =VLOOKUP(H12,$AW$2:$AX$5,2) -> #N/A | AF12: =VLOOKUP(R12,$AW$2:$AX$5,2) -> #N/A | AG12: =IF(P12>0,P12,0) -> #N/A | AY12: Altro | BB12: =+BB4+BB6+BB8+BB9+BB11 -> 5555.593 | BC12: =+BC4+BC6+BC8+BC9+BC11 -> 3800.9011 | BD12: =+BD4+BD6+BD8+BD9+BD11 -> 2021.9772 | BE12: =+BE4+BE6+BE8+BE9+BE11 -> 16127.181
E13: =+A13*C13*AB13/1000 -> 0 | F13: =+E13*$BA$3 -> 0 | I13: =+A13 -> 0 | M13: =+I13*K13*AC13/1000 -> 0 | N13: =+M13*$BA$3 -> 0 | O13: =+AE13 -> #N/A | P13: =+I13*O13 -> #N/A | W13: =+S13*U13*AD13/1000 -> 0 | X13: =+AF13 -> #N/A | Y13: =+Z13 -> #N/A | Z13: =+S13*X13 -> #N/A | AA13: =+I13*O13 -> #N/A | AB13: =IF(D13="SI",0.67,1) -> 1 | AC13: =IF(L13="SI",0.67,1) -> 1 | AD13: =IF(V13="SI",0.67,1) -> 1 | AE13: =VLOOKUP(H13,$AW$2:$AX$5,2) -> #N/A | AF13: =VLOOKUP(R13,$AW$2:$AX$5,2) -> #N/A | AG13: =IF(P13>0,P13,0) -> #N/A | BB13: =TRUNC(BB12,2) -> 5555.59 | BC13: =TRUNC(BC12,2) -> 3800.9 | BD13: =TRUNC(BD12,2) -> 2021.97 | BE13: =TRUNC(BE12,2) -> 16127.18
E14: =+A14*C14*AB14/1000 -> 0 | F14: =+E14*$BA$3 -> 0 | I14: =+A14 -> 0 | M14: =+I14*K14*AC14/1000 -> 0 | N14: =+M14*$BA$3 -> 0 | O14: =+AE14 -> #N/A | P14: =+I14*O14 -> #N/A | W14: =+S14*U14*AD14/1000 -> 0 | X14: =+AF14 -> #N/A | Y14: =+Z14 -> #N/A | Z14: =+S14*X14 -> #N/A | AA14: =+I14*O14 -> #N/A | AB14: =IF(D14="SI",0.67,1) -> 1 | AC14: =IF(L14="SI",0.67,1) -> 1 | AD14: =IF(V14="SI",0.67,1) -> 1 | AE14: =VLOOKUP(H14,$AW$2:$AX$5,2) -> #N/A | AF14: =VLOOKUP(R14,$AW$2:$AX$5,2) -> #N/A | AG14: =IF(P14>0,P14,0) -> #N/A
E15: =+A15*C15*AB15/1000 -> 0 | F15: =+E15*$BA$3 -> 0 | I15: =+A15 -> 0 | M15: =+I15*K15*AC15/1000 -> 0 | N15: =+M15*$BA$3 -> 0 | O15: =+AE15 -> #N/A | P15: =+I15*O15 -> #N/A | W15: =+S15*U15*AD15/1000 -> 0 | X15: =+AF15 -> #N/A | Y15: =+Z15 -> #N/A | Z15: =+S15*X15 -> #N/A | AA15: =+I15*O15 -> #N/A | AB15: =IF(D15="SI",0.67,1) -> 1 | AC15: =IF(L15="SI",0.67,1) -> 1 | AD15: =IF(V15="SI",0.67,1) -> 1 | AE15: =VLOOKUP(H15,$AW$2:$AX$5,2) -> #N/A | AF15: =VLOOKUP(R15,$AW$2:$AX$5,2) -> #N/A | AG15: =IF(P15>0,P15,0) -> #N/A | AV15: FONTE: ISPRA | AW15: 558.7 | AX15: g
E16: =+A16*C16*AB16/1000 -> 0 | F16: =+E16*$BA$3 -> 0 | I16: =+A16 -> 0 | M16: =+I16*K16*AC16/1000 -> 0 | N16: =+M16*$BA$3 -> 0 | O16: =+AE16 -> #N/A | P16: =+I16*O16 -> #N/A | W16: =+S16*U16*AD16/1000 -> 0 | X16: =+AF16 -> #N/A | Y16: =+Z16 -> #N/A | Z16: =+S16*X16 -> #N/A | AA16: =+I16*O16 -> #N/A | AB16: =IF(D16="SI",0.67,1) -> 1 | AC16: =IF(L16="SI",0.67,1) -> 1 | AD16: =IF(V16="SI",0.67,1) -> 1 | AE16: =VLOOKUP(H16,$AW$2:$AX$5,2) -> #N/A | AF16: =VLOOKUP(R16,$AW$2:$AX$5,2) -> #N/A | AG16: =IF(P16>0,P16,0) -> #N/A | AV16: Consumi Settore Elettrico | AW16: =+AW15/1000/1000 -> 0.0005587 | AX16: ton CO2
E17: =+A17*C17*AB17/1000 -> 0 | F17: =+E17*$BA$3 -> 0 | I17: =+A17 -> 0 | M17: =+I17*K17*AC17/1000 -> 0 | N17: =+M17*$BA$3 -> 0 | O17: =+AE17 -> #N/A | P17: =+I17*O17 -> #N/A | W17: =+S17*U17*AD17/1000 -> 0 | X17: =+AF17 -> #N/A | Y17: =+Z17 -> #N/A | Z17: =+S17*X17 -> #N/A | AA17: =+I17*O17 -> #N/A | AB17: =IF(D17="SI",0.67,1) -> 1 | AC17: =IF(L17="SI",0.67,1) -> 1 | AD17: =IF(V17="SI",0.67,1) -> 1 | AE17: =VLOOKUP(H17,$AW$2:$AX$5,2) -> #N/A | AF17: =VLOOKUP(R17,$AW$2:$AX$5,2) -> #N/A | AG17: =IF(P17>0,P17,0) -> #N/A | AW17: =+E81*1000 -> 0
E18: =+A18*C18*AB18/1000 -> 0 | F18: =+E18*$BA$3 -> 0 | I18: =+A18 -> 0 | M18: =+I18*K18*AC18/1000 -> 0 | N18: =+M18*$BA$3 -> 0 | O18: =+AE18 -> #N/A | P18: =+I18*O18 -> #N/A | W18: =+S18*U18*AD18/1000 -> 0 | X18: =+AF18 -> #N/A | Y18: =+Z18 -> #N/A | Z18: =+S18*X18 -> #N/A | AA18: =+I18*O18 -> #N/A | AB18: =IF(D18="SI",0.67,1) -> 1 | AC18: =IF(L18="SI",0.67,1) -> 1 | AD18: =IF(V18="SI",0.67,1) -> 1 | AE18: =VLOOKUP(H18,$AW$2:$AX$5,2) -> #N/A | AF18: =VLOOKUP(R18,$AW$2:$AX$5,2) -> #N/A | AG18: =IF(P18>0,P18,0) -> #N/A | AW18: =+AW16*AW17 -> 0
E19: =+A19*C19*AB19/1000 -> 0 | F19: =+E19*$BA$3 -> 0 | I19: =+A19 -> 0 | M19: =+I19*K19*AC19/1000 -> 0 | N19: =+M19*$BA$3 -> 0 | O19: =+AE19 -> #N/A | P19: =+I19*O19 -> #N/A | W19: =+S19*U19*AD19/1000 -> 0 | X19: =+AF19 -> #N/A | Y19: =+Z19 -> #N/A | Z19: =+S19*X19 -> #N/A | AA19: =+I19*O19 -> #N/A | AB19: =IF(D19="SI",0.67,1) -> 1 | AC19: =IF(L19="SI",0.67,1) -> 1 | AD19: =IF(V19="SI",0.67,1) -> 1 | AE19: =VLOOKUP(H19,$AW$2:$AX$5,2) -> #N/A | AF19: =VLOOKUP(R19,$AW$2:$AX$5,2) -> #N/A | AG19: =IF(P19>0,P19,0) -> #N/A | AW19: =+AW17*AW15 -> 0
E20: =+A20*C20*AB20/1000 -> 0 | F20: =+E20*$BA$3 -> 0 | I20: =+A20 -> 0 | M20: =+I20*K20*AC20/1000 -> 0 | N20: =+M20*$BA$3 -> 0 | O20: =+AE20 -> #N/A | P20: =+I20*O20 -> #N/A | W20: =+S20*U20*AD20/1000 -> 0 | X20: =+AF20 -> #N/A | Y20: =+Z20 -> #N/A | Z20: =+S20*X20 -> #N/A | AA20: =+I20*O20 -> #N/A | AB20: =IF(D20="SI",0.67,1) -> 1 | AC20: =IF(L20="SI",0.67,1) -> 1 | AD20: =IF(V20="SI",0.67,1) -> 1 | AE20: =VLOOKUP(H20,$AW$2:$AX$5,2) -> #N/A | AF20: =VLOOKUP(R20,$AW$2:$AX$5,2) -> #N/A | AG20: =IF(P20>0,P20,0) -> #N/A | AW20: =+AW19/1000000 -> 0
E21: =+A21*C21*AB21/1000 -> 0 | F21: =+E21*$BA$3 -> 0 | I21: =+A21 -> 0 | M21: =+I21*K21*AC21/1000 -> 0 | N21: =+M21*$BA$3 -> 0 | O21: =+AE21 -> #N/A | P21: =+I21*O21 -> #N/A | W21: =+S21*U21*AD21/1000 -> 0 | X21: =+AF21 -> #N/A | Y21: =+Z21 -> #N/A | Z21: =+S21*X21 -> #N/A | AA21: =+I21*O21 -> #N/A | AB21: =IF(D21="SI",0.67,1) -> 1 | AC21: =IF(L21="SI",0.67,1) -> 1 | AD21: =IF(V21="SI",0.67,1) -> 1 | AE21: =VLOOKUP(H21,$AW$2:$AX$5,2) -> #N/A | AF21: =VLOOKUP(R21,$AW$2:$AX$5,2) -> #N/A | AG21: =IF(P21>0,P21,0) -> #N/A
E22: =+A22*C22*AB22/1000 -> 0 | F22: =+E22*$BA$3 -> 0 | I22: =+A22 -> 0 | M22: =+I22*K22*AC22/1000 -> 0 | N22: =+M22*$BA$3 -> 0 | O22: =+AE22 -> #N/A | P22: =+I22*O22 -> #N/A | W22: =+S22*U22*AD22/1000 -> 0 | X22: =+AF22 -> #N/A | Y22: =+Z22 -> #N/A | Z22: =+S22*X22 -> #N/A | AA22: =+I22*O22 -> #N/A | AB22: =IF(D22="SI",0.67,1) -> 1 | AC22: =IF(L22="SI",0.67,1) -> 1 | AD22: =IF(V22="SI",0.67,1) -> 1 | AE22: =VLOOKUP(H22,$AW$2:$AX$5,2) -> #N/A | AF22: =VLOOKUP(R22,$AW$2:$AX$5,2) -> #N/A | AG22: =IF(P22>0,P22,0) -> #N/A
E23: =+A23*C23*AB23/1000 -> 0 | F23: =+E23*$BA$3 -> 0 | I23: =+A23 -> 0 | M23: =+I23*K23*AC23/1000 -> 0 | N23: =+M23*$BA$3 -> 0 | O23: =+AE23 -> #N/A | P23: =+I23*O23 -> #N/A | W23: =+S23*U23*AD23/1000 -> 0 | X23: =+AF23 -> #N/A | Y23: =+Z23 -> #N/A | Z23: =+S23*X23 -> #N/A | AA23: =+I23*O23 -> #N/A | AB23: =IF(D23="SI",0.67,1) -> 1 | AC23: =IF(L23="SI",0.67,1) -> 1 | AD23: =IF(V23="SI",0.67,1) -> 1 | AE23: =VLOOKUP(H23,$AW$2:$AX$5,2) -> #N/A | AF23: =VLOOKUP(R23,$AW$2:$AX$5,2) -> #N/A | AG23: =IF(P23>0,P23,0) -> #N/A
E24: =+A24*C24*AB24/1000 -> 0 | F24: =+E24*$BA$3 -> 0 | I24: =+A24 -> 0 | M24: =+I24*K24*AC24/1000 -> 0 | N24: =+M24*$BA$3 -> 0 | O24: =+AE24 -> #N/A | P24: =+I24*O24 -> #N/A | W24: =+S24*U24*AD24/1000 -> 0 | X24: =+AF24 -> #N/A | Y24: =+Z24 -> #N/A | Z24: =+S24*X24 -> #N/A | AA24: =+I24*O24 -> #N/A | AB24: =IF(D24="SI",0.67,1) -> 1 | AC24: =IF(L24="SI",0.67,1) -> 1 | AD24: =IF(V24="SI",0.67,1) -> 1 | AE24: =VLOOKUP(H24,$AW$2:$AX$5,2) -> #N/A | AF24: =VLOOKUP(R24,$AW$2:$AX$5,2) -> #N/A | AG24: =IF(P24>0,P24,0) -> #N/A
E25: =+A25*C25*AB25/1000 -> 0 | F25: =+E25*$BA$3 -> 0 | I25: =+A25 -> 0 | M25: =+I25*K25*AC25/1000 -> 0 | N25: =+M25*$BA$3 -> 0 | O25: =+AE25 -> #N/A | P25: =+I25*O25 -> #N/A | W25: =+S25*U25*AD25/1000 -> 0 | X25: =+AF25 -> #N/A | Y25: =+Z25 -> #N/A | Z25: =+S25*X25 -> #N/A | AA25: =+I25*O25 -> #N/A | AB25: =IF(D25="SI",0.67,1) -> 1 | AC25: =IF(L25="SI",0.67,1) -> 1 | AD25: =IF(V25="SI",0.67,1) -> 1 | AE25: =VLOOKUP(H25,$AW$2:$AX$5,2) -> #N/A | AF25: =VLOOKUP(R25,$AW$2:$AX$5,2) -> #N/A | AG25: =IF(P25>0,P25,0) -> #N/A
E26: =+A26*C26*AB26/1000 -> 0 | F26: =+E26*$BA$3 -> 0 | I26: =+A26 -> 0 | M26: =+I26*K26*AC26/1000 -> 0 | N26: =+M26*$BA$3 -> 0 | O26: =+AE26 -> #N/A | P26: =+I26*O26 -> #N/A | W26: =+S26*U26*AD26/1000 -> 0 | X26: =+AF26 -> #N/A | Y26: =+Z26 -> #N/A | Z26: =+S26*X26 -> #N/A | AA26: =+I26*O26 -> #N/A | AB26: =IF(D26="SI",0.67,1) -> 1 | AC26: =IF(L26="SI",0.67,1) -> 1 | AD26: =IF(V26="SI",0.67,1) -> 1 | AE26: =VLOOKUP(H26,$AW$2:$AX$5,2) -> #N/A | AF26: =VLOOKUP(R26,$AW$2:$AX$5,2) -> #N/A | AG26: =IF(P26>0,P26,0) -> #N/A
E27: =+A27*C27*AB27/1000 -> 0 | F27: =+E27*$BA$3 -> 0 | I27: =+A27 -> 0 | M27: =+I27*K27*AC27/1000 -> 0 | N27: =+M27*$BA$3 -> 0 | O27: =+AE27 -> #N/A | P27: =+I27*O27 -> #N/A | W27: =+S27*U27*AD27/1000 -> 0 | X27: =+AF27 -> #N/A | Y27: =+Z27 -> #N/A | Z27: =+S27*X27 -> #N/A | AA27: =+I27*O27 -> #N/A | AB27: =IF(D27="SI",0.67,1) -> 1 | AC27: =IF(L27="SI",0.67,1) -> 1 | AD27: =IF(V27="SI",0.67,1) -> 1 | AE27: =VLOOKUP(H27,$AW$2:$AX$5,2) -> #N/A | AF27: =VLOOKUP(R27,$AW$2:$AX$5,2) -> #N/A | AG27: =IF(P27>0,P27,0) -> #N/A
E28: =+A28*C28*AB28/1000 -> 0 | F28: =+E28*$BA$3 -> 0 | I28: =+A28 -> 0 | M28: =+I28*K28*AC28/1000 -> 0 | N28: =+M28*$BA$3 -> 0 | O28: =+AE28 -> #N/A | P28: =+I28*O28 -> #N/A | W28: =+S28*U28*AD28/1000 -> 0 | X28: =+AF28 -> #N/A | Y28: =+Z28 -> #N/A | Z28: =+S28*X28 -> #N/A | AA28: =+I28*O28 -> #N/A | AB28: =IF(D28="SI",0.67,1) -> 1 | AC28: =IF(L28="SI",0.67,1) -> 1 | AD28: =IF(V28="SI",0.67,1) -> 1 | AE28: =VLOOKUP(H28,$AW$2:$AX$5,2) -> #N/A | AF28: =VLOOKUP(R28,$AW$2:$AX$5,2) -> #N/A | AG28: =IF(P28>0,P28,0) -> #N/A
E29: =+A29*C29*AB29/1000 -> 0 | F29: =+E29*$BA$3 -> 0 | I29: =+A29 -> 0 | M29: =+I29*K29*AC29/1000 -> 0 | N29: =+M29*$BA$3 -> 0 | O29: =+AE29 -> #N/A | P29: =+I29*O29 -> #N/A | W29: =+S29*U29*AD29/1000 -> 0 | X29: =+AF29 -> #N/A | Y29: =+Z29 -> #N/A | Z29: =+S29*X29 -> #N/A | AA29: =+I29*O29 -> #N/A | AB29: =IF(D29="SI",0.67,1) -> 1 | AC29: =IF(L29="SI",0.67,1) -> 1 | AD29: =IF(V29="SI",0.67,1) -> 1 | AE29: =VLOOKUP(H29,$AW$2:$AX$5,2) -> #N/A | AF29: =VLOOKUP(R29,$AW$2:$AX$5,2) -> #N/A | AG29: =IF(P29>0,P29,0) -> #N/A
E30: =+A30*C30*AB30/1000 -> 0 | F30: =+E30*$BA$3 -> 0 | I30: =+A30 -> 0 | M30: =+I30*K30*AC30/1000 -> 0 | N30: =+M30*$BA$3 -> 0 | O30: =+AE30 -> #N/A | P30: =+I30*O30 -> #N/A | W30: =+S30*U30*AD30/1000 -> 0 | X30: =+AF30 -> #N/A | Y30: =+Z30 -> #N/A | Z30: =+S30*X30 -> #N/A | AA30: =+I30*O30 -> #N/A | AB30: =IF(D30="SI",0.67,1) -> 1 | AC30: =IF(L30="SI",0.67,1) -> 1 | AD30: =IF(V30="SI",0.67,1) -> 1 | AE30: =VLOOKUP(H30,$AW$2:$AX$5,2) -> #N/A | AF30: =VLOOKUP(R30,$AW$2:$AX$5,2) -> #N/A | AG30: =IF(P30>0,P30,0) -> #N/A
E31: =+A31*C31*AB31/1000 -> 0 | F31: =+E31*$BA$3 -> 0 | I31: =+A31 -> 0 | M31: =+I31*K31*AC31/1000 -> 0 | N31: =+M31*$BA$3 -> 0 | O31: =+AE31 -> #N/A | P31: =+I31*O31 -> #N/A | W31: =+S31*U31*AD31/1000 -> 0 | X31: =+AF31 -> #N/A | Y31: =+Z31 -> #N/A | Z31: =+S31*X31 -> #N/A | AA31: =+I31*O31 -> #N/A | AB31: =IF(D31="SI",0.67,1) -> 1 | AC31: =IF(L31="SI",0.67,1) -> 1 | AD31: =IF(V31="SI",0.67,1) -> 1 | AE31: =VLOOKUP(H31,$AW$2:$AX$5,2) -> #N/A | AF31: =VLOOKUP(R31,$AW$2:$AX$5,2) -> #N/A | AG31: =IF(P31>0,P31,0) -> #N/A
E32: =+A32*C32*AB32/1000 -> 0 | F32: =+E32*$BA$3 -> 0 | I32: =+A32 -> 0 | M32: =+I32*K32*AC32/1000 -> 0 | N32: =+M32*$BA$3 -> 0 | O32: =+AE32 -> #N/A | P32: =+I32*O32 -> #N/A | W32: =+S32*U32*AD32/1000 -> 0 | X32: =+AF32 -> #N/A | Y32: =+Z32 -> #N/A | Z32: =+S32*X32 -> #N/A | AA32: =+I32*O32 -> #N/A | AB32: =IF(D32="SI",0.67,1) -> 1 | AC32: =IF(L32="SI",0.67,1) -> 1 | AD32: =IF(V32="SI",0.67,1) -> 1 | AE32: =VLOOKUP(H32,$AW$2:$AX$5,2) -> #N/A | AF32: =VLOOKUP(R32,$AW$2:$AX$5,2) -> #N/A | AG32: =IF(P32>0,P32,0) -> #N/A
... E56: =+A56*C56*AB56/1000 -> 0 | F56: =+E56*$BA$3 -> 0 | I56: =+A56 -> 0 | M56: =+I56*K56*AC56/1000 -> 0 | N56: =+M56*$BA$3 -> 0 | O56: =+AE56 -> #N/A | P56: =+I56*O56 -> #N/A | W56: =+S56*U56*AD56/1000 -> 0 | X56: =+AF56 -> #N/A | Y56: =+Z56 -> #N/A | Z56: =+S56*X56 -> #N/A | AA56: =+I56*O56 -> #N/A | AB56: =IF(D56="SI",0.67,1) -> 1 | AC56: =IF(L56="SI",0.67,1) -> 1 | AD56: =IF(V56="SI",0.67,1) -> 1 | AE56: =VLOOKUP(H56,$AW$2:$AX$5,2) -> #N/A | AF56: =VLOOKUP(R56,$AW$2:$AX$5,2) -> #N/A | AG56: =IF(P56>0,P56,0) -> #N/A
A57: =SUM(A7:A56) -> 0 | B57: TOTALE | E57: =SUM(E7:E56) -> 0 | F57: =SUM(F7:F56) -> 0 | I57: =SUM(I7:I56) -> 0 | J57: TOTALE | M57: =SUM(M7:M56) -> 0 | N57: =SUM(N7:N56) -> 0 | P57: =+AB58 -> 0 | S57: =SUM(S7:S56) -> 0 | T57: TOTALE | W57: =SUM(W7:W56) -> 0 | Y57: =+AE58 -> 0
AB58: =SUMIFS(P7:P56,P7:P56,">0") -> 0 | AC58: =SUMIFS(Q7:Q56,Q7:Q56,">0") -> 0 | AD58: =SUMIFS(R7:R56,R7:R56,">0") -> 0 | AE58: =SUMIFS(Y7:Y56,Y7:Y56,">0") -> 0
A60: S.T.I. (scegliere da menù a tendina) * | B60: Descrizione dettagliata del servizio tecnologico integrato ed analisi del potenziale risparmio energetico atteso * | X60: Risparmio energetico Energia Primaria Atteso [kWh/anno] * | Y60: Costo Totale [€] (campo compilato in automatico)
Y61: =+AA61 -> 0 | AA61: =IF(A61="SI",$BE$13,0) -> 0 | AB61: =IF(A61="SI",1,0) -> 0 | AC61: =IF(B61="SI",1,0) -> 0 | AD61: =IF(C61="SI",1,0) -> 0
Y62: =+AA62 -> 0 | AA62: =IF(A62="SI",$BE$13,0) -> 0 | AB62: =IF(A62="SI",1,0) -> 0 | AC62: =IF(B62="SI",1,0) -> 0 | AD62: =IF(C62="SI",1,0) -> 0
Y63: =+AA63 -> 0 | AA63: =IF(A63="SI",$BE$13,0) -> 0 | AB63: =IF(A63="SI",1,0) -> 0 | AC63: =IF(B63="SI",1,0) -> 0 | AD63: =IF(C63="SI",1,0) -> 0
Y64: =+AA64 -> 0 | AA64: =IF(A64="SI",$BE$13,0) -> 0 | AB64: =IF(A64="SI",1,0) -> 0 | AC64: =IF(B64="SI",1,0) -> 0 | AD64: =IF(C64="SI",1,0) -> 0
Y65: =+AA65 -> 0 | AA65: =IF(A65="SI",$BE$13,0) -> 0 | AB65: =IF(A65="SI",1,0) -> 0 | AC65: =IF(B65="SI",1,0) -> 0 | AD65: =IF(C65="SI",1,0) -> 0
Y66: =+AA66 -> 0 | AA66: =IF(A66="SI",$BE$13,0) -> 0 | AB66: =IF(A66="SI",1,0) -> 0 | AC66: =IF(B66="SI",1,0) -> 0 | AD66: =IF(C66="SI",1,0) -> 0
Y67: =+AA67 -> 0 | AA67: =IF(A67="SI",$BE$13,0) -> 0 | AB67: =IF(A67="SI",1,0) -> 0 | AC67: =IF(B67="SI",1,0) -> 0 | AD67: =IF(C67="SI",1,0) -> 0
Y68: =+AA68 -> 0 | AA68: =IF(A68="SI",$BE$13,0) -> 0 | AB68: =IF(A68="SI",1,0) -> 0 | AC68: =IF(B68="SI",1,0) -> 0 | AD68: =IF(C68="SI",1,0) -> 0
Y69: =+AA69 -> 0 | AA69: =IF(A69="SI",$BE$13,0) -> 0 | AB69: =IF(A69="SI",1,0) -> 0 | AC69: =IF(B69="SI",1,0) -> 0 | AD69: =IF(C69="SI",1,0) -> 0
Y70: =+AA70 -> 0 | AA70: =IF(A70="SI",$BE$13,0) -> 0 | AB70: =IF(A70="SI",1,0) -> 0 | AC70: =IF(B70="SI",1,0) -> 0 | AD70: =IF(C70="SI",1,0) -> 0
Y71: =+AA71 -> 0 | AA71: =IF(A71="SI",$BE$13,0) -> 0 | AB71: =IF(A71="SI",1,0) -> 0 | AC71: =IF(B71="SI",1,0) -> 0 | AD71: =IF(C71="SI",1,0) -> 0
Y72: =+AA72 -> 0 | AA72: =IF(A72="SI",$BE$13,0) -> 0 | AB72: =IF(A72="SI",1,0) -> 0 | AC72: =IF(B72="SI",1,0) -> 0 | AD72: =IF(C72="SI",1,0) -> 0
... Y75: =+AA75 -> 0 | AA75: =IF(A75="SI",$BE$13,0) -> 0 | AB75: =IF(A75="SI",1,0) -> 0 | AC75: =IF(B75="SI",1,0) -> 0 | AD75: =IF(C75="SI",1,0) -> 0
A76: TOTALE | X76: =SUM(X61:X75) -> 0 | Y76: =SUM(Y61:Y75) -> 0 | AB76: =SUM(AB61:AB75) -> 0 | AC76: =SUM(AC61:AC75) -> 0 | AD76: =SUM(AD61:AD75) -> 0
A78: Costo Totale [€] (campo compilato in automatico) | E78: =+P57+Y57+Y76 -> 0
A79: Risparmio Energetico Opz. A/B/C [MWh/anno] (campo compilato in automatico) | E79: =+(F57-N57)/1000 -> 0
A80: Risparmio Energetico Atteso Opz. D [MWh/anno] (campo compilato in automatico) | E80: =+X76/1000 -> 0
A81: Risparmio Energetico Totale [MWh/anno] (campo compilato in automatico) | E81: =+E79+E80 -> 0
A82: Riduzione emissioni [ton. CO2/anno] (campo compilato in automatico) | E82: =+E81*1000*AW16 -> 0
A84: NOTA: COMPILARE ESCLUSIVAMENTE LE CELLE IN GRIGIO
A85: * DATI OBBLIGATORI | B85: * DATI OBBLIGATORI
A87: =+E78-Y76 -> 0 | B87: 312a
A88: =+Y76 -> 0 | B88: 331b
A89: =+A87+A88 -> 0 | B89: totale | C89: =+E78-A89 -> 0
A91: =+F57 -> 0 | B91: CONSUMO PRE | C91: =+A91/1000 -> 0
A92: =+N57 -> 0 | B92: CONSUMO POST | C92: =+N57/1000 -> 0
B93: RISPARMIO A/B/C | C93: =+C91-C92 -> 0
B94: RISPARMIO D | C94: =+E80 -> 0
B95: RISPARMIO TOTALE | C95: =+C93+C94 -> 0 | D95: =+E81-C95 -> 0
B96: PERCENTUALE RISPARMIO | C96: =+C95/C91 -> #DIV/0!
B98: PUNTI LUCE | C98: =+I57+S57 -> 0
B99: STI | C99: =+AB76 -> 0

Sheet PdI_3
AF1: PFTE
AF2: Progetto Esecutivo | AL2: 1 - | AM2: 2 - | AN2: 3 - | AO2: 4 - | AP2: 5 - | AW2: OPZIONE | AX2: IMPORTO
A3: =CONCATENATE(AJ3,AK3,'DATI DI PARTENZA'!E6) -> PERIMETRO DI INTERVENTO: | AF3: Nessun progetto | AJ3: PERIMETRO DI INTERVENTO | AK3: : | AL3: =+'DATI DI PARTENZA'!C6 -> 0 | AM3: =+'DATI DI PARTENZA'!D6 -> 0 | AN3: =+'DATI DI PARTENZA'!E6 -> 0 | AO3: =+'DATI DI PARTENZA'!F6 -> 0 | AP3: =+'DATI DI PARTENZA'!G6 -> 0 | AR3: =CONCATENATE(AW3,AU3,AS3,AT3) -> OPZIONE A: 5555,59 € | AS3: =+BB13 -> 5555.59 | AT3: € | AU3: : | AW3: OPZIONE A | AX3: =+BB13 -> 5555.59 | AY3: Vapori di Mercurio | AZ3: SI | BA3: 4151.875 | BB3: OPZA | BC3: OPZB | BD3: OPZC | BE3: OPZD
A4: INDIRIZZO DI RIFERIMENTO DEL POD - PERIMETRO DI INTERVENTO | X4: =+'DATI DI PARTENZA'!E7 -> 0 | AJ4: Perimetro di Intervento | AL4: =+'DATI DI PARTENZA'!C6 -> 0 | AM4: =+'DATI DI PARTENZA'!D6 -> 0 | AN4: =+'DATI DI PARTENZA'!E6 -> 0 | AO4: =+'DATI DI PARTENZA'!F6 -> 0 | AP4: =+'DATI DI PARTENZA'!G6 -> 0 | AR4: =CONCATENATE(AW4,AU4,AS4,AT4) -> OPZIONE B: 3800,9 € | AS4: =+BC13 -> 3800.9 | AT4: € | AU4: : | AW4: OPZIONE B | AX4: =+BC13 -> 3800.9 | AY4: Incandescenza | AZ4: NO | BB4: 3867.72 | BC4: 2646.13 | BD4: 1407.67 | BE4: 11227.5
A5: SITUAZIONE ANTE INTERVENTO | H5: SITUAZIONE POST INTERVENTO | R5: NUOVI PUNTI LUCE | AR5: =CONCATENATE(AW5,AU5,AS5,AT5) -> OPZIONE C: 2021,97 € | AS5: =+BD13 -> 2021.97 | AT5: € | AU5: : | AW5: OPZIONE C | AX5: =+BD13 -> 2021.97 | AY5: Fluorescenti Compatte | BB5: =+(0.22)-(0.22*'DATI DI PARTENZA'!$B$11) -> 0.22 | BC5: =+(0.22)-(0.22*'DATI DI PARTENZA'!$B$11) -> 0.22 | BD5: =+(0.22)-(0.22*'DATI DI PARTENZA'!$B$11) -> 0.22 | BE5: =+(0.22)-(0.22*'DATI DI PARTENZA'!$B$11) -> 0.22
A6: N° Punti Luce * | B6: Tipologia Sorgente Luminosa (scegliere da menù a tendina) * | C6: Potenza Nominale Unitaria (W) * | D6: Regolazione di flusso (scegliere da menù a tendina) * | E6: Potenza Complessiva [kW] (campo compilato in automatico) | F6: Consumo Energetico [kWh/anno] (campo compilato in automatico) | H6: Intervento (scegliere da menù a tendina) * | I6: N° Punti Luce (campo compilato in automatico) | J6: Tipologia Sorgente Luminosa (scegliere da menù a tendina) * | K6: Potenza Nominale Unitaria (W) * | L6: Regolazione di flusso (scegliere da menù a tendina) * | M6: Potenza Complessiva [kW] (campo compilato in automatico) | N6: Consumo Energetico [kWh/anno] (campo compilato in automatico) | O6: Costo Unitario [€] (campo compilato in automatico) | P6: Costo Totale [€] (campo compilato in automatico) | R6: Intervento (scegliere da menù a tendina) * | S6: N° Punti Luce * | T6: Tipologia Sorgente Luminosa (scegliere da menù a tendina) * | U6: Potenza Nominale Unitaria (W) * | V6: Regolazione di flusso (scegliere da menù a tendina) * | W6: Potenza Complessiva [kW] (campo compilato in automatico) | X6: Costo Unitario [€] (campo compilato in automatico) | Y6: Costo Totale [€] (campo compilato in automatico) | AE6: SOSTITUZIONE | AF6: NUOVI | AJ6: Perimetro di Intervento | AL6: =+'DATI DI PARTENZA'!C7 -> 0 | AM6: =+'DATI DI PARTENZA'!D7 -> 0 | AN6: =+'DATI DI PARTENZA'!E7 -> 0 | AO6: =+'DATI DI PARTENZA'!F7 -> 0 | AP6: =+'DATI DI PARTENZA'!G7 -> 0 | AR6: =CONCATENATE(AW6,AU6,AS6,AT6) -> OPZIONE D: 16127,18 € | AS6: =+BE13 -> 16127.18 | AT6: € | AU6: : | AW6: OPZIONE D | AX6: =+BE13 -> 16127.18 | AY6: Fluorescenti Tubolari | BB6: =+BB4*BB5 -> 850.8984 | BC6: =+BC4*BC5 -> 582.1486 | BD6: =+BD4*BD5 -> 309.6874 | BE6: =+BE4*BE5 -> 2470.05
E7: =+A7*C7*AB7/1000 -> 0 | F7: =+E7*$BA$3 -> 0 | I7: =+A7 -> 0 | M7: =+I7*K7*AC7/1000 -> 0 | N7: =+M7*$BA$3 -> 0 | O7: =+AE7 -> #N/A | P7: =+I7*O7 -> #N/A | W7: =+S7*U7*AD7/1000 -> 0 | X7: =+AF7 -> #N/A | Y7: =+Z7 -> #N/A | Z7: =+S7*X7 -> #N/A | AA7: =+I7*O7 -> #N/A | AB7: =IF(D7="SI",0.67,1) -> 1 | AC7: =IF(L7="SI",0.67,1) -> 1 | AD7: =IF(V7="SI",0.67,1) -> 1 | AE7: =VLOOKUP(H7,$AW$2:$AX$5,2) -> #N/A | AF7: =VLOOKUP(R7,$AW$2:$AX$5,2) -> #N/A | AG7: =IF(P7="NUMERO",P7,0) -> #N/A | AY7: Sodio Alta Pressione | BB7: 0.12 | BC7: 0.12 | BD7: 0.12 | BE7: 0.12
E8: =+A8*C8*AB8/1000 -> 0 | F8: =+E8*$BA$3 -> 0 | I8: =+A8 -> 0 | M8: =+I8*K8*AC8/1000 -> 0 | N8: =+M8*$BA$3 -> 0 | O8: =+AE8 -> #N/A | P8: =+I8*O8 -> #N/A | W8: =+S8*U8*AD8/1000 -> 0 | X8: =+AF8 -> #N/A | Y8: =+Z8 -> #N/A | Z8: =+S8*X8 -> #N/A | AA8: =+I8*O8 -> #N/A | AB8: =IF(D8="SI",0.67,1) -> 1 | AC8: =IF(L8="SI",0.67,1) -> 1 | AD8: =IF(V8="SI",0.67,1) -> 1 | AE8: =VLOOKUP(H8,$AW$2:$AX$5,2) -> #N/A | AF8: =VLOOKUP(R8,$AW$2:$AX$5,2) -> #N/A | AG8: =IF(P8>0,P8,0) -> #N/A | AY8: Sodio Bassa Pressione | BB8: =+BB4*BB7 -> 464.1264 | BC8: =+BC4*BC7 -> 317.5356 | BD8: =+BD4*BD7 -> 168.9204 | BE8: =+BE4*BE7 -> 1347.3
E9: =+A9*C9*AB9/1000 -> 0 | F9: =+E9*$BA$3 -> 0 | I9: =+A9 -> 0 | M9: =+I9*K9*AC9/1000 -> 0 | N9: =+M9*$BA$3 -> 0 | O9: =+AE9 -> #N/A | P9: =+I9*O9 -> #N/A | W9: =+S9*U9*AD9/1000 -> 0 | X9: =+AF9 -> #N/A | Y9: =+Z9 -> #N/A | Z9: =+S9*X9 -> #N/A | AA9: =+I9*O9 -> #N/A | AB9: =IF(D9="SI",0.67,1) -> 1 | AC9: =IF(L9="SI",0.67,1) -> 1 | AD9: =IF(V9="SI",0.67,1) -> 1 | AE9: =VLOOKUP(H9,$AW$2:$AX$5,2) -> #N/A | AF9: =VLOOKUP(R9,$AW$2:$AX$5,2) -> #N/A | AG9: =IF(P9>0,P9,0) -> #N/A | AY9: Ioduri Metallici | BB9: =+BB8*BB5 -> 102.10781 | BC9: =+BC8*BC5 -> 69.857832 | BD9: =+BD8*BD5 -> 37.162488 | BE9: =+BE8*BE5 -> 296.406
E10: =+A10*C10*AB10/1000 -> 0 | F10: =+E10*$BA$3 -> 0 | I10: =+A10 -> 0 | M10: =+I10*K10*AC10/1000 -> 0 | N10: =+M10*$BA$3 -> 0 | O10: =+AE10 -> #N/A | P10: =+I10*O10 -> #N/A | W10: =+S10*U10*AD10/1000 -> 0 | X10: =+AF10 -> #N/A | Y10: =+Z10 -> #N/A | Z10: =+S10*X10 -> #N/A | AA10: =+I10*O10 -> #N/A | AB10: =IF(D10="SI",0.67,1) -> 1 | AC10: =IF(L10="SI",0.67,1) -> 1 | AD10: =IF(V10="SI",0.67,1) -> 1 | AE10: =VLOOKUP(H10,$AW$2:$AX$5,2) -> #N/A | AF10: =VLOOKUP(R10,$AW$2:$AX$5,2) -> #N/A | AG10: =IF(P10>0,P10,0) -> #N/A | AW10: OPZIONE D | AX10: OPZIONE D | AY10: Alogena | BB10: 0.07 | BC10: 0.07 | BD10: 0.07 | BE10: 0.07
E11: =+A11*C11*AB11/1000 -> 0 | F11: =+E11*$BA$3 -> 0 | I11: =+A11 -> 0 | M11: =+I11*K11*AC11/1000 -> 0 | N11: =+M11*$BA$3 -> 0 | O11: =+AE11 -> #N/A | P11: =+I11*O11 -> #N/A | W11: =+S11*U11*AD11/1000 -> 0 | X11: =+AF11 -> #N/A | Y11: =+Z11 -> #N/A | Z11: =+S11*X11 -> #N/A | AA11: =+I11*O11 -> #N/A | AB11: =IF(D11="SI",0.67,1) -> 1 | AC11: =IF(L11="SI",0.67,1) -> 1 | AD11: =IF(V11="SI",0.67,1) -> 1 | AE11: =VLOOKUP(H11,$AW$2:$AX$5,2) -> #N/A | AF11: =VLOOKUP(R11,$AW$2:$AX$5,2) -> #N/A | AG11: =IF(P11>0,P11,0) -> #N/A | AY11: LED | BB11: =+BB10*BB4 -> 270.7404 | BC11: =+BC10*BC4 -> 185.2291 | BD11: =+BD10*BD4 -> 98.5369 | BE11: =+BE10*BE4 -> 785.925
E12: =+A12*C12*AB12/1000 -> 0 | F12: =+E12*$BA$3 -> 0 | I12: =+A12 -> 0 | M12: =+I12*K12*AC12/1000 -> 0 | N12: =+M12*$BA$3 -> 0 | O12: =+AE12 -> #N/A | P12: =+I12*O12 -> #N/A | W12: =+S12*U12*AD12/1000 -> 0 | X12: =+AF12 -> #N/A | Y12: =+Z12 -> #N/A | Z12: =+S12*X12 -> #N/A | AA12: =+I12*O12 -> #N/A | AB12: =IF(D12="SI",0.67,1) -> 1 | AC12: =IF(L12="SI",0.67,1) -> 1 | AD12: =IF(V12="SI",0.67,1) -> 1 | AE12: =VLOOKUP(H12,$AW$2:$AX$5,2) -> #N/A | AF12: =VLOOKUP(R12,$AW$2:$AX$5,2) -> #N/A | AG12: =IF(P12>0,P12,0) -> #N/A | AY12: Altro | BB12: =+BB4+BB6+BB8+BB9+BB11 -> 5555.593 | BC12: =+BC4+BC6+BC8+BC9+BC11 -> 3800.9011 | BD12: =+BD4+BD6+BD8+BD9+BD11 -> 2021.9772 | BE12: =+BE4+BE6+BE8+BE9+BE11 -> 16127.181
E13: =+A13*C13*AB13/1000 -> 0 | F13: =+E13*$BA$3 -> 0 | I13: =+A13 -> 0 | M13: =+I13*K13*AC13/1000 -> 0 | N13: =+M13*$BA$3 -> 0 | O13: =+AE13 -> #N/A | P13: =+I13*O13 -> #N/A | W13: =+S13*U13*AD13/1000 -> 0 | X13: =+AF13 -> #N/A | Y13: =+Z13 -> #N/A | Z13: =+S13*X13 -> #N/A | AA13: =+I13*O13 -> #N/A | AB13: =IF(D13="SI",0.67,1) -> 1 | AC13: =IF(L13="SI",0.67,1) -> 1 | AD13: =IF(V13="SI",0.67,1) -> 1 | AE13: =VLOOKUP(H13,$AW$2:$AX$5,2) -> #N/A | AF13: =VLOOKUP(R13,$AW$2:$AX$5,2) -> #N/A | AG13: =IF(P13>0,P13,0) -> #N/A | BB13: =TRUNC(BB12,2) -> 5555.59 | BC13: =TRUNC(BC12,2) -> 3800.9 | BD13: =TRUNC(BD12,2) -> 2021.97 | BE13: =TRUNC(BE12,2) -> 16127.18
E14: =+A14*C14*AB14/1000 -> 0 | F14: =+E14*$BA$3 -> 0 | I14: =+A14 -> 0 | M14: =+I14*K14*AC14/1000 -> 0 | N14: =+M14*$BA$3 -> 0 | O14: =+AE14 -> #N/A | P14: =+I14*O14 -> #N/A | W14: =+S14*U14*AD14/1000 -> 0 | X14: =+AF14 -> #N/A | Y14: =+Z14 -> #N/A | Z14: =+S14*X14 -> #N/A | AA14: =+I14*O14 -> #N/A | AB14: =IF(D14="SI",0.67,1) -> 1 | AC14: =IF(L14="SI",0.67,1) -> 1 | AD14: =IF(V14="SI",0.67,1) -> 1 | AE14: =VLOOKUP(H14,$AW$2:$AX$5,2) -> #N/A | AF14: =VLOOKUP(R14,$AW$2:$AX$5,2) -> #N/A | AG14: =IF(P14>0,P14,0) -> #N/A
E15: =+A15*C15*AB15/1000 -> 0 | F15: =+E15*$BA$3 -> 0 | I15: =+A15 -> 0 | M15: =+I15*K15*AC15/1000 -> 0 | N15: =+M15*$BA$3 -> 0 | O15: =+AE15 -> #N/A | P15: =+I15*O15 -> #N/A | W15: =+S15*U15*AD15/1000 -> 0 | X15: =+AF15 -> #N/A | Y15: =+Z15 -> #N/A | Z15: =+S15*X15 -> #N/A | AA15: =+I15*O15 -> #N/A | AB15: =IF(D15="SI",0.67,1) -> 1 | AC15: =IF(L15="SI",0.67,1) -> 1 | AD15: =IF(V15="SI",0.67,1) -> 1 | AE15: =VLOOKUP(H15,$AW$2:$AX$5,2) -> #N/A | AF15: =VLOOKUP(R15,$AW$2:$AX$5,2) -> #N/A | AG15: =IF(P15>0,P15,0) -> #N/A | AV15: FONTE: ISPRA | AW15: 558.7 | AX15: g
E16: =+A16*C16*AB16/1000 -> 0 | F16: =+E16*$BA$3 -> 0 | I16: =+A16 -> 0 | M16: =+I16*K16*AC16/1000 -> 0 | N16: =+M16*$BA$3 -> 0 | O16: =+AE16 -> #N/A | P16: =+I16*O16 -> #N/A | W16: =+S16*U16*AD16/1000 -> 0 | X16: =+AF16 -> #N/A | Y16: =+Z16 -> #N/A | Z16: =+S16*X16 -> #N/A | AA16: =+I16*O16 -> #N/A | AB16: =IF(D16="SI",0.67,1) -> 1 | AC16: =IF(L16="SI",0.67,1) -> 1 | AD16: =IF(V16="SI",0.67,1) -> 1 | AE16: =VLOOKUP(H16,$AW$2:$AX$5,2) -> #N/A | AF16: =VLOOKUP(R16,$AW$2:$AX$5,2) -> #N/A | AG16: =IF(P16>0,P16,0) -> #N/A | AV16: Consumi Settore Elettrico | AW16: =+AW15/1000/1000 -> 0.0005587 | AX16: ton CO2
E17: =+A17*C17*AB17/1000 -> 0 | F17: =+E17*$BA$3 -> 0 | I17: =+A17 -> 0 | M17: =+I17*K17*AC17/1000 -> 0 | N17: =+M17*$BA$3 -> 0 | O17: =+AE17 -> #N/A | P17: =+I17*O17 -> #N/A | W17: =+S17*U17*AD17/1000 -> 0 | X17: =+AF17 -> #N/A | Y17: =+Z17 -> #N/A | Z17: =+S17*X17 -> #N/A | AA17: =+I17*O17 -> #N/A | AB17: =IF(D17="SI",0.67,1) -> 1 | AC17: =IF(L17="SI",0.67,1) -> 1 | AD17: =IF(V17="SI",0.67,1) -> 1 | AE17: =VLOOKUP(H17,$AW$2:$AX$5,2) -> #N/A | AF17: =VLOOKUP(R17,$AW$2:$AX$5,2) -> #N/A | AG17: =IF(P17>0,P17,0) -> #N/A | AW17: =+E81*1000 -> 0
E18: =+A18*C18*AB18/1000 -> 0 | F18: =+E18*$BA$3 -> 0 | I18: =+A18 -> 0 | M18: =+I18*K18*AC18/1000 -> 0 | N18: =+M18*$BA$3 -> 0 | O18: =+AE18 -> #N/A | P18: =+I18*O18 -> #N/A | W18: =+S18*U18*AD18/1000 -> 0 | X18: =+AF18 -> #N/A | Y18: =+Z18 -> #N/A | Z18: =+S18*X18 -> #N/A | AA18: =+I18*O18 -> #N/A | AB18: =IF(D18="SI",0.67,1) -> 1 | AC18: =IF(L18="SI",0.67,1) -> 1 | AD18: =IF(V18="SI",0.67,1) -> 1 | AE18: =VLOOKUP(H18,$AW$2:$AX$5,2) -> #N/A | AF18: =VLOOKUP(R18,$AW$2:$AX$5,2) -> #N/A | AG18: =IF(P18>0,P18,0) -> #N/A | AW18: =+AW16*AW17 -> 0
E19: =+A19*C19*AB19/1000 -> 0 | F19: =+E19*$BA$3 -> 0 | I19: =+A19 -> 0 | M19: =+I19*K19*AC19/1000 -> 0 | N19: =+M19*$BA$3 -> 0 | O19: =+AE19 -> #N/A | P19: =+I19*O19 -> #N/A | W19: =+S19*U19*AD19/1000 -> 0 | X19: =+AF19 -> #N/A | Y19: =+Z19 -> #N/A | Z19: =+S19*X19 -> #N/A | AA19: =+I19*O19 -> #N/A | AB19: =IF(D19="SI",0.67,1) -> 1 | AC19: =IF(L19="SI",0.67,1) -> 1 | AD19: =IF(V19="SI",0.67,1) -> 1 | AE19: =VLOOKUP(H19,$AW$2:$AX$5,2) -> #N/A | AF19: =VLOOKUP(R19,$AW$2:$AX$5,2) -> #N/A | AG19: =IF(P19>0,P19,0) -> #N/A | AW19: =+AW17*AW15 -> 0
E20: =+A20*C20*AB20/1000 -> 0 | F20: =+E20*$BA$3 -> 0 | I20: =+A20 -> 0 | M20: =+I20*K20*AC20/1000 -> 0 | N20: =+M20*$BA$3 -> 0 | O20: =+AE20 -> #N/A | P20: =+I20*O20 -> #N/A | W20: =+S20*U20*AD20/1000 -> 0 | X20: =+AF20 -> #N/A | Y20: =+Z20 -> #N/A | Z20: =+S20*X20 -> #N/A | AA20: =+I20*O20 -> #N/A | AB20: =IF(D20="SI",0.67,1) -> 1 | AC20: =IF(L20="SI",0.67,1) -> 1 | AD20: =IF(V20="SI",0.67,1) -> 1 | AE20: =VLOOKUP(H20,$AW$2:$AX$5,2) -> #N/A | AF20: =VLOOKUP(R20,$AW$2:$AX$5,2) -> #N/A | AG20: =IF(P20>0,P20,0) -> #N/A | AW20: =+AW19/1000000 -> 0
E21: =+A21*C21*AB21/1000 -> 0 | F21: =+E21*$BA$3 -> 0 | I21: =+A21 -> 0 | M21: =+I21*K21*AC21/1000 -> 0 | N21: =+M21*$BA$3 -> 0 | O21: =+AE21 -> #N/A | P21: =+I21*O21 -> #N/A | W21: =+S21*U21*AD21/1000 -> 0 | X21: =+AF21 -> #N/A | Y21: =+Z21 -> #N/A | Z21: =+S21*X21 -> #N/A | AA21: =+I21*O21 -> #N/A | AB21: =IF(D21="SI",0.67,1) -> 1 | AC21: =IF(L21="SI",0.67,1) -> 1 | AD21: =IF(V21="SI",0.67,1) -> 1 | AE21: =VLOOKUP(H21,$AW$2:$AX$5,2) -> #N/A | AF21: =VLOOKUP(R21,$AW$2:$AX$5,2) -> #N/A | AG21: =IF(P21>0,P21,0) -> #N/A
E22: =+A22*C22*AB22/1000 -> 0 | F22: =+E22*$BA$3 -> 0 | I22: =+A22 -> 0 | M22: =+I22*K22*AC22/1000 -> 0 | N22: =+M22*$BA$3 -> 0 | O22: =+AE22 -> #N/A | P22: =+I22*O22 -> #N/A | W22: =+S22*U22*AD22/1000 -> 0 | X22: =+AF22 -> #N/A | Y22: =+Z22 -> #N/A | Z22: =+S22*X22 -> #N/A | AA22: =+I22*O22 -> #N/A | AB22: =IF(D22="SI",0.67,1) -> 1 | AC22: =IF(L22="SI",0.67,1) -> 1 | AD22: =IF(V22="SI",0.67,1) -> 1 | AE22: =VLOOKUP(H22,$AW$2:$AX$5,2) -> #N/A | AF22: =VLOOKUP(R22,$AW$2:$AX$5,2) -> #N/A | AG22: =IF(P22>0,P22,0) -> #N/A
E23: =+A23*C23*AB23/1000 -> 0 | F23: =+E23*$BA$3 -> 0 | I23: =+A23 -> 0 | M23: =+I23*K23*AC23/1000 -> 0 | N23: =+M23*$BA$3 -> 0 | O23: =+AE23 -> #N/A | P23: =+I23*O23 -> #N/A | W23: =+S23*U23*AD23/1000 -> 0 | X23: =+AF23 -> #N/A | Y23: =+Z23 -> #N/A | Z23: =+S23*X23 -> #N/A | AA23: =+I23*O23 -> #N/A | AB23: =IF(D23="SI",0.67,1) -> 1 | AC23: =IF(L23="SI",0.67,1) -> 1 | AD23: =IF(V23="SI",0.67,1) -> 1 | AE23: =VLOOKUP(H23,$AW$2:$AX$5,2) -> #N/A | AF23: =VLOOKUP(R23,$AW$2:$AX$5,2) -> #N/A | AG23: =IF(P23>0,P23,0) -> #N/A
E24: =+A24*C24*AB24/1000 -> 0 | F24: =+E24*$BA$3 -> 0 | I24: =+A24 -> 0 | M24: =+I24*K24*AC24/1000 -> 0 | N24: =+M24*$BA$3 -> 0 | O24: =+AE24 -> #N/A | P24: =+I24*O24 -> #N/A | W24: =+S24*U24*AD24/1000 -> 0 | X24: =+AF24 -> #N/A | Y24: =+Z24 -> #N/A | Z24: =+S24*X24 -> #N/A | AA24: =+I24*O24 -> #N/A | AB24: =IF(D24="SI",0.67,1) -> 1 | AC24: =IF(L24="SI",0.67,1) -> 1 | AD24: =IF(V24="SI",0.67,1) -> 1 | AE24: =VLOOKUP(H24,$AW$2:$AX$5,2) -> #N/A | AF24: =VLOOKUP(R24,$AW$2:$AX$5,2) -> #N/A | AG24: =IF(P24>0,P24,0) -> #N/A
E25: =+A25*C25*AB25/1000 -> 0 | F25: =+E25*$BA$3 -> 0 | I25: =+A25 -> 0 | M25: =+I25*K25*AC25/1000 -> 0 | N25: =+M25*$BA$3 -> 0 | O25: =+AE25 -> #N/A | P25: =+I25*O25 -> #N/A | W25: =+S25*U25*AD25/1000 -> 0 | X25: =+AF25 -> #N/A | Y25: =+Z25 -> #N/A | Z25: =+S25*X25 -> #N/A | AA25: =+I25*O25 -> #N/A | AB25: =IF(D25="SI",0.67,1) -> 1 | AC25: =IF(L25="SI",0.67,1) -> 1 | AD25: =IF(V25="SI",0.67,1) -> 1 | AE25: =VLOOKUP(H25,$AW$2:$AX$5,2) -> #N/A | AF25: =VLOOKUP(R25,$AW$2:$AX$5,2) -> #N/A | AG25: =IF(P25>0,P25,0) -> #N/A
E26: =+A26*C26*AB26/1000 -> 0 | F26: =+E26*$BA$3 -> 0 | I26: =+A26 -> 0 | M26: =+I26*K26*AC26/1000 -> 0 | N26: =+M26*$BA$3 -> 0 | O26: =+AE26 -> #N/A | P26: =+I26*O26 -> #N/A | W26: =+S26*U26*AD26/1000 -> 0 | X26: =+AF26 -> #N/A | Y26: =+Z26 -> #N/A | Z26: =+S26*X26 -> #N/A | AA26: =+I26*O26 -> #N/A | AB26: =IF(D26="SI",0.67,1) -> 1 | AC26: =IF(L26="SI",0.67,1) -> 1 | AD26: =IF(V26="SI",0.67,1) -> 1 | AE26: =VLOOKUP(H26,$AW$2:$AX$5,2) -> #N/A | AF26: =VLOOKUP(R26,$AW$2:$AX$5,2) -> #N/A | AG26: =IF(P26>0,P26,0) -> #N/A
E27: =+A27*C27*AB27/1000 -> 0 | F27: =+E27*$BA$3 -> 0 | I27: =+A27 -> 0 | M27: =+I27*K27*AC27/1000 -> 0 | N27: =+M27*$BA$3 -> 0 | O27: =+AE27 -> #N/A | P27: =+I27*O27 -> #N/A | W27: =+S27*U27*AD27/1000 -> 0 | X27: =+AF27 -> #N/A | Y27: =+Z27 -> #N/A | Z27: =+S27*X27 -> #N/A | AA27: =+I27*O27 -> #N/A | AB27: =IF(D27="SI",0.67,1) -> 1 | AC27: =IF(L27="SI",0.67,1) -> 1 | AD27: =IF(V27="SI",0.67,1) -> 1 | AE27: =VLOOKUP(H27,$AW$2:$AX$5,2) -> #N/A | AF27: =VLOOKUP(R27,$AW$2:$AX$5,2) -> #N/A | AG27: =IF(P27>0,P27,0) -> #N/A
E28: =+A28*C28*AB28/1000 -> 0 | F28: =+E28*$BA$3 -> 0 | I28: =+A28 -> 0 | M28: =+I28*K28*AC28/1000 -> 0 | N28: =+M28*$BA$3 -> 0 | O28: =+AE28 -> #N/A | P28: =+I28*O28 -> #N/A | W28: =+S28*U28*AD28/1000 -> 0 | X28: =+AF28 -> #N/A | Y28: =+Z28 -> #N/A | Z28: =+S28*X28 -> #N/A | AA28: =+I28*O28 -> #N/A | AB28: =IF(D28="SI",0.67,1) -> 1 | AC28: =IF(L28="SI",0.67,1) -> 1 | AD28: =IF(V28="SI",0.67,1) -> 1 | AE28: =VLOOKUP(H28,$AW$2:$AX$5,2) -> #N/A | AF28: =VLOOKUP(R28,$AW$2:$AX$5,2) -> #N/A | AG28: =IF(P28>0,P28,0) -> #N/A
E29: =+A29*C29*AB29/1000 -> 0 | F29: =+E29*$BA$3 -> 0 | I29: =+A29 -> 0 | M29: =+I29*K29*AC29/1000 -> 0 | N29: =+M29*$BA$3 -> 0 | O29: =+AE29 -> #N/A | P29: =+I29*O29 -> #N/A | W29: =+S29*U29*AD29/1000 -> 0 | X29: =+AF29 -> #N/A | Y29: =+Z29 -> #N/A | Z29: =+S29*X29 -> #N/A | AA29: =+I29*O29 -> #N/A | AB29: =IF(D29="SI",0.67,1) -> 1 | AC29: =IF(L29="SI",0.67,1) -> 1 | AD29: =IF(V29="SI",0.67,1) -> 1 | AE29: =VLOOKUP(H29,$AW$2:$AX$5,2) -> #N/A | AF29: =VLOOKUP(R29,$AW$2:$AX$5,2) -> #N/A | AG29: =IF(P29>0,P29,0) -> #N/A
E30: =+A30*C30*AB30/1000 -> 0 | F30: =+E30*$BA$3 -> 0 | I30: =+A30 -> 0 | M30: =+I30*K30*AC30/1000 -> 0 | N30: =+M30*$BA$3 -> 0 | O30: =+AE30 -> #N/A | P30: =+I30*O30 -> #N/A | W30: =+S30*U30*AD30/1000 -> 0 | X30: =+AF30 -> #N/A | Y30: =+Z30 -> #N/A | Z30: =+S30*X30 -> #N/A | AA30: =+I30*O30 -> #N/A | AB30: =IF(D30="SI",0.67,1) -> 1 | AC30: =IF(L30="SI",0.67,1) -> 1 | AD30: =IF(V30="SI",0.67,1) -> 1 | AE30: =VLOOKUP(H30,$AW$2:$AX$5,2) -> #N/A | AF30: =VLOOKUP(R30,$AW$2:$AX$5,2) -> #N/A | AG30: =IF(P30>0,P30,0) -> #N/A
E31: =+A31*C31*AB31/1000 -> 0 | F31: =+E31*$BA$3 -> 0 | I31: =+A31 -> 0 | M31: =+I31*K31*AC31/1000 -> 0 | N31: =+M31*$BA$3 -> 0 | O31: =+AE31 -> #N/A | P31: =+I31*O31 -> #N/A | W31: =+S31*U31*AD31/1000 -> 0 | X31: =+AF31 -> #N/A | Y31: =+Z31 -> #N/A | Z31: =+S31*X31 -> #N/A | AA31: =+I31*O31 -> #N/A | AB31: =IF(D31="SI",0.67,1) -> 1 | AC31: =IF(L31="SI",0.67,1) -> 1 | AD31: =IF(V31="SI",0.67,1) -> 1 | AE31: =VLOOKUP(H31,$AW$2:$AX$5,2) -> #N/A | AF31: =VLOOKUP(R31,$AW$2:$AX$5,2) -> #N/A | AG31: =IF(P31>0,P31,0) -> #N/A
E32: =+A32*C32*AB32/1000 -> 0 | F32: =+E32*$BA$3 -> 0 | I32: =+A32 -> 0 | M32: =+I32*K32*AC32/1000 -> 0 | N32: =+M32*$BA$3 -> 0 | O32: =+AE32 -> #N/A | P32: =+I32*O32 -> #N/A | W32: =+S32*U32*AD32/1000 -> 0 | X32: =+AF32 -> #N/A | Y32: =+Z32 -> #N/A | Z32: =+S32*X32 -> #N/A | AA32: =+I32*O32 -> #N/A | AB32: =IF(D32="SI",0.67,1) -> 1 | AC32: =IF(L32="SI",0.67,1) -> 1 | AD32: =IF(V32="SI",0.67,1) -> 1 | AE32: =VLOOKUP(H32,$AW$2:$AX$5,2) -> #N/A | AF32: =VLOOKUP(R32,$AW$2:$AX$5,2) -> #N/A | AG32: =IF(P32>0,P32,0) -> #N/A
... E56: =+A56*C56*AB56/1000 -> 0 | F56: =+E56*$BA$3 -> 0 | I56: =+A56 -> 0 | M56: =+I56*K56*AC56/1000 -> 0 | N56: =+M56*$BA$3 -> 0 | O56: =+AE56 -> #N/A | P56: =+I56*O56 -> #N/A | W56: =+S56*U56*AD56/1000 -> 0 | X56: =+AF56 -> #N/A | Y56: =+Z56 -> #N/A | Z56: =+S56*X56 -> #N/A | AA56: =+I56*O56 -> #N/A | AB56: =IF(D56="SI",0.67,1) -> 1 | AC56: =IF(L56="SI",0.67,1) -> 1 | AD56: =IF(V56="SI",0.67,1) -> 1 | AE56: =VLOOKUP(H56,$AW$2:$AX$5,2) -> #N/A | AF56: =VLOOKUP(R56,$AW$2:$AX$5,2) -> #N/A | AG56: =IF(P56>0,P56,0) -> #N/A
A57: =SUM(A7:A56) -> 0 | B57: TOTALE | E57: =SUM(E7:E56) -> 0 | F57: =SUM(F7:F56) -> 0 | I57: =SUM(I7:I56) -> 0 | J57: TOTALE | M57: =SUM(M7:M56) -> 0 | N57: =SUM(N7:N56) -> 0 | P57: =+AB58 -> 0 | S57: =SUM(S7:S56) -> 0 | T57: TOTALE | W57: =SUM(W7:W56) -> 0 | Y57: =+AE58 -> 0
AB58: =SUMIFS(P7:P56,P7:P56,">0") -> 0 | AC58: =SUMIFS(Q7:Q56,Q7:Q56,">0") -> 0 | AD58: =SUMIFS(R7:R56,R7:R56,">0") -> 0 | AE58: =SUMIFS(Y7:Y56,Y7:Y56,">0") -> 0
A60: S.T.I. (scegliere da menù a tendina) * | B60: Descrizione dettagliata del servizio tecnologico integrato ed analisi del potenziale risparmio energetico atteso * | X60: Risparmio energetico Energia Primaria Atteso [kWh/anno] * | Y60: Costo Totale [€] (campo compilato in automatico)
Y61: =+AA61 -> 0 | AA61: =IF(A61="SI",$BE$13,0) -> 0 | AB61: =IF(A61="SI",1,0) -> 0 | AC61: =IF(B61="SI",1,0) -> 0 | AD61: =IF(C61="SI",1,0) -> 0
Y62: =+AA62 -> 0 | AA62: =IF(A62="SI",$BE$13,0) -> 0 | AB62: =IF(A62="SI",1,0) -> 0 | AC62: =IF(B62="SI",1,0) -> 0 | AD62: =IF(C62="SI",1,0) -> 0
Y63: =+AA63 -> 0 | AA63: =IF(A63="SI",$BE$13,0) -> 0 | AB63: =IF(A63="SI",1,0) -> 0 | AC63: =IF(B63="SI",1,0) -> 0 | AD63: =IF(C63="SI",1,0) -> 0
Y64: =+AA64 -> 0 | AA64: =IF(A64="SI",$BE$13,0) -> 0 | AB64: =IF(A64="SI",1,0) -> 0 | AC64: =IF(B64="SI",1,0) -> 0 | AD64: =IF(C64="SI",1,0) -> 0
Y65: =+AA65 -> 0 | AA65: =IF(A65="SI",$BE$13,0) -> 0 | AB65: =IF(A65="SI",1,0) -> 0 | AC65: =IF(B65="SI",1,0) -> 0 | AD65: =IF(C65="SI",1,0) -> 0
Y66: =+AA66 -> 0 | AA66: =IF(A66="SI",$BE$13,0) -> 0 | AB66: =IF(A66="SI",1,0) -> 0 | AC66: =IF(B66="SI",1,0) -> 0 | AD66: =IF(C66="SI",1,0) -> 0
Y67: =+AA67 -> 0 | AA67: =IF(A67="SI",$BE$13,0) -> 0 | AB67: =IF(A67="SI",1,0) -> 0 | AC67: =IF(B67="SI",1,0) -> 0 | AD67: =IF(C67="SI",1,0) -> 0
Y68: =+AA68 -> 0 | AA68: =IF(A68="SI",$BE$13,0) -> 0 | AB68: =IF(A68="SI",1,0) -> 0 | AC68: =IF(B68="SI",1,0) -> 0 | AD68: =IF(C68="SI",1,0) -> 0
Y69: =+AA69 -> 0 | AA69: =IF(A69="SI",$BE$13,0) -> 0 | AB69: =IF(A69="SI",1,0) -> 0 | AC69: =IF(B69="SI",1,0) -> 0 | AD69: =IF(C69="SI",1,0) -> 0
Y70: =+AA70 -> 0 | AA70: =IF(A70="SI",$BE$13,0) -> 0 | AB70: =IF(A70="SI",1,0) -> 0 | AC70: =IF(B70="SI",1,0) -> 0 | AD70: =IF(C70="SI",1,0) -> 0
Y71: =+AA71 -> 0 | AA71: =IF(A71="SI",$BE$13,0) -> 0 | AB71: =IF(A71="SI",1,0) -> 0 | AC71: =IF(B71="SI",1,0) -> 0 | AD71: =IF(C71="SI",1,0) -> 0
Y72: =+AA72 -> 0 | AA72: =IF(A72="SI",$BE$13,0) -> 0 | AB72: =IF(A72="SI",1,0) -> 0 | AC72: =IF(B72="SI",1,0) -> 0 | AD72: =IF(C72="SI",1,0) -> 0
... Y75: =+AA75 -> 0 | AA75: =IF(A75="SI",$BE$13,0) -> 0 | AB75: =IF(A75="SI",1,0) -> 0 | AC75: =IF(B75="SI",1,0) -> 0 | AD75: =IF(C75="SI",1,0) -> 0
A76: TOTALE | X76: =SUM(X61:X75) -> 0 | Y76: =SUM(Y61:Y75) -> 0 | AB76: =SUM(AB61:AB75) -> 0 | AC76: =SUM(AC61:AC75) -> 0 | AD76: =SUM(AD61:AD75) -> 0
A78: Costo Totale [€] (campo compilato in automatico) | E78: =+P57+Y57+Y76 -> 0
A79: Risparmio Energetico Opz. A/B/C [MWh/anno] (campo compilato in automatico) | E79: =+(F57-N57)/1000 -> 0
A80: Risparmio Energetico Atteso Opz. D [MWh/anno] (campo compilato in automatico) | E80: =+X76/1000 -> 0
A81: Risparmio Energetico Totale [MWh/anno] (campo compilato in automatico) | E81: =+E79+E80 -> 0
A82: Riduzione emissioni [ton. CO2/anno] (campo compilato in automatico) | E82: =+E81*1000*AW16 -> 0
A84: NOTA: COMPILARE ESCLUSIVAMENTE LE CELLE IN GRIGIO
A85: * DATI OBBLIGATORI | B85: * DATI OBBLIGATORI
A87: =+E78-Y76 -> 0 | B87: 312a
A88: =+Y76 -> 0 | B88: 331b
A89: =+A87+A88 -> 0 | B89: totale | C89: =+E78-A89 -> 0
A91: =+F57 -> 0 | B91: CONSUMO PRE | C91: =+A91/1000 -> 0
A92: =+N57 -> 0 | B92: CONSUMO POST | C92: =+N57/1000 -> 0
B93: RISPARMIO A/B/C | C93: =+C91-C92 -> 0
B94: RISPARMIO D | C94: =+E80 -> 0
B95: RISPARMIO TOTALE | C95: =+C93+C94 -> 0 | D95: =+E81-C95 -> 0
B96: PERCENTUALE RISPARMIO | C96: =+C95/C91 -> #DIV/0!
B98: PUNTI LUCE | C98: =+I57+S57 -> 0
B99: STI | C99: =+AB76 -> 0

Sheet PdI_4
AF1: PFTE
AF2: Progetto Esecutivo | AL2: 1 - | AM2: 2 - | AN2: 3 - | AO2: 4 - | AP2: 5 - | AW2: OPZIONE | AX2: IMPORTO
A3: =CONCATENATE(AJ3,AK3,'DATI DI PARTENZA'!F6) -> PERIMETRO DI INTERVENTO: | AF3: Nessun progetto | AJ3: PERIMETRO DI INTERVENTO | AK3: : | AL3: =+'DATI DI PARTENZA'!C6 -> 0 | AM3: =+'DATI DI PARTENZA'!D6 -> 0 | AN3: =+'DATI DI PARTENZA'!E6 -> 0 | AO3: =+'DATI DI PARTENZA'!F6 -> 0 | AP3: =+'DATI DI PARTENZA'!G6 -> 0 | AR3: =CONCATENATE(AW3,AU3,AS3,AT3) -> OPZIONE A: 5555,59 € | AS3: =+BB13 -> 5555.59 | AT3: € | AU3: : | AW3: OPZIONE A | AX3: =+BB13 -> 5555.59 | AY3: Vapori di Mercurio | AZ3: SI | BA3: 4151.875 | BB3: OPZA | BC3: OPZB | BD3: OPZC | BE3: OPZD
A4: INDIRIZZO DI RIFERIMENTO DEL POD - PERIMETRO DI INTERVENTO | X4: =+'DATI DI PARTENZA'!F7 -> 0 | AJ4: Perimetro di Intervento | AL4: =+'DATI DI PARTENZA'!C6 -> 0 | AM4: =+'DATI DI PARTENZA'!D6 -> 0 | AN4: =+'DATI DI PARTENZA'!E6 -> 0 | AO4: =+'DATI DI PARTENZA'!F6 -> 0 | AP4: =+'DATI DI PARTENZA'!G6 -> 0 | AR4: =CONCATENATE(AW4,AU4,AS4,AT4) -> OPZIONE B: 3800,9 € | AS4: =+BC13 -> 3800.9 | AT4: € | AU4: : | AW4: OPZIONE B | AX4: =+BC13 -> 3800.9 | AY4: Incandescenza | AZ4: NO | BB4: 3867.72 | BC4: 2646.13 | BD4: 1407.67 | BE4: 11227.5
A5: SITUAZIONE ANTE INTERVENTO | H5: SITUAZIONE POST INTERVENTO | R5: NUOVI PUNTI LUCE | AR5: =CONCATENATE(AW5,AU5,AS5,AT5) -> OPZIONE C: 2021,97 € | AS5: =+BD13 -> 2021.97 | AT5: € | AU5: : | AW5: OPZIONE C | AX5: =+BD13 -> 2021.97 | AY5: Fluorescenti Compatte | BB5: =+(0.22)-(0.22*'DATI DI PARTENZA'!$B$11) -> 0.22 | BC5: =+(0.22)-(0.22*'DATI DI PARTENZA'!$B$11) -> 0.22 | BD5: =+(0.22)-(0.22*'DATI DI PARTENZA'!$B$11) -> 0.22 | BE5: =+(0.22)-(0.22*'DATI DI PARTENZA'!$B$11) -> 0.22
A6: N° Punti Luce * | B6: Tipologia Sorgente Luminosa (scegliere da menù a tendina) * | C6: Potenza Nominale Unitaria (W) * | D6: Regolazione di flusso (scegliere da menù a tendina) * | E6: Potenza Complessiva [kW] (campo compilato in automatico) | F6: Consumo Energetico [kWh/anno] (campo compilato in automatico) | H6: Intervento (scegliere da menù a tendina) * | I6: N° Punti Luce (campo compilato in automatico) | J6: Tipologia Sorgente Luminosa (scegliere da menù a tendina) * | K6: Potenza Nominale Unitaria (W) * | L6: Regolazione di flusso (scegliere da menù a tendina) * | M6: Potenza Complessiva [kW] (campo compilato in automatico) | N6: Consumo Energetico [kWh/anno] (campo compilato in automatico) | O6: Costo Unitario [€] (campo compilato in automatico) | P6: Costo Totale [€] (campo compilato in automatico) | R6: Intervento (scegliere da menù a tendina) * | S6: N° Punti Luce * | T6: Tipologia Sorgente Luminosa (scegliere da menù a tendina) * | U6: Potenza Nominale Unitaria (W) * | V6: Regolazione di flusso (scegliere da menù a tendina) * | W6: Potenza Complessiva [kW] (campo compilato in automatico) | X6: Costo Unitario [€] (campo compilato in automatico) | Y6: Costo Totale [€] (campo compilato in automatico) | AE6: SOSTITUZIONE | AF6: NUOVI | AJ6: Perimetro di Intervento | AL6: =+'DATI DI PARTENZA'!C7 -> 0 | AM6: =+'DATI DI PARTENZA'!D7 -> 0 | AN6: =+'DATI DI PARTENZA'!E7 -> 0 | AO6: =+'DATI DI PARTENZA'!F7 -> 0 | AP6: =+'DATI DI PARTENZA'!G7 -> 0 | AR6: =CONCATENATE(AW6,AU6,AS6,AT6) -> OPZIONE D: 16127,18 € | AS6: =+BE13 -> 16127.18 | AT6: € | AU6: : | AW6: OPZIONE D | AX6: =+BE13 -> 16127.18 | AY6: Fluorescenti Tubolari | BB6: =+BB4*BB5 -> 850.8984 | BC6: =+BC4*BC5 -> 582.1486 | BD6: =+BD4*BD5 -> 309.6874 | BE6: =+BE4*BE5 -> 2470.05
E7: =+A7*C7*AB7/1000 -> 0 | F7: =+E7*$BA$3 -> 0 | I7: =+A7 -> 0 | M7: =+I7*K7*AC7/1000 -> 0 | N7: =+M7*$BA$3 -> 0 | O7: =+AE7 -> #N/A | P7: =+I7*O7 -> #N/A | W7: =+S7*U7*AD7/1000 -> 0 | X7: =+AF7 -> #N/A | Y7: =+Z7 -> #N/A | Z7: =+S7*X7 -> #N/A | AA7: =+I7*O7 -> #N/A | AB7: =IF(D7="SI",0.67,1) -> 1 | AC7: =IF(L7="SI",0.67,1) -> 1 | AD7: =IF(V7="SI",0.67,1) -> 1 | AE7: =VLOOKUP(H7,$AW$2:$AX$5,2) -> #N/A | AF7: =VLOOKUP(R7,$AW$2:$AX$5,2) -> #N/A | AG7: =IF(P7="NUMERO",P7,0) -> #N/A | AY7: Sodio Alta Pressione | BB7: 0.12 | BC7: 0.12 | BD7: 0.12 | BE7: 0.12
E8: =+A8*C8*AB8/1000 -> 0 | F8: =+E8*$BA$3 -> 0 | I8: =+A8 -> 0 | M8: =+I8*K8*AC8/1000 -> 0 | N8: =+M8*$BA$3 -> 0 | O8: =+AE8 -> #N/A | P8: =+I8*O8 -> #N/A | W8: =+S8*U8*AD8/1000 -> 0 | X8: =+AF8 -> #N/A | Y8: =+Z8 -> #N/A | Z8: =+S8*X8 -> #N/A | AA8: =+I8*O8 -> #N/A | AB8: =IF(D8="SI",0.67,1) -> 1 | AC8: =IF(L8="SI",0.67,1) -> 1 | AD8: =IF(V8="SI",0.67,1) -> 1 | AE8: =VLOOKUP(H8,$AW$2:$AX$5,2) -> #N/A | AF8: =VLOOKUP(R8,$AW$2:$AX$5,2) -> #N/A | AG8: =IF(P8>0,P8,0) -> #N/A | AY8: Sodio Bassa Pressione | BB8: =+BB4*BB7 -> 464.1264 | BC8: =+BC4*BC7 -> 317.5356 | BD8: =+BD4*BD7 -> 168.9204 | BE8: =+BE4*BE7 -> 1347.3
E9: =+A9*C9*AB9/1000 -> 0 | F9: =+E9*$BA$3 -> 0 | I9: =+A9 -> 0 | M9: =+I9*K9*AC9/1000 -> 0 | N9: =+M9*$BA$3 -> 0 | O9: =+AE9 -> #N/A | P9: =+I9*O9 -> #N/A | W9: =+S9*U9*AD9/1000 -> 0 | X9: =+AF9 -> #N/A | Y9: =+Z9 -> #N/A | Z9: =+S9*X9 -> #N/A | AA9: =+I9*O9 -> #N/A | AB9: =IF(D9="SI",0.67,1) -> 1 | AC9: =IF(L9="SI",0.67,1) -> 1 | AD9: =IF(V9="SI",0.67,1) -> 1 | AE9: =VLOOKUP(H9,$AW$2:$AX$5,2) -> #N/A | AF9: =VLOOKUP(R9,$AW$2:$AX$5,2) -> #N/A | AG9: =IF(P9>0,P9,0) -> #N/A | AY9: Ioduri Metallici | BB9: =+BB8*BB5 -> 102.10781 | BC9: =+BC8*BC5 -> 69.857832 | BD9: =+BD8*BD5 -> 37.162488 | BE9: =+BE8*BE5 -> 296.406
E10: =+A10*C10*AB10/1000 -> 0 | F10: =+E10*$BA$3 -> 0 | I10: =+A10 -> 0 | M10: =+I10*K10*AC10/1000 -> 0 | N10: =+M10*$BA$3 -> 0 | O10: =+AE10 -> #N/A | P10: =+I10*O10 -> #N/A | W10: =+S10*U10*AD10/1000 -> 0 | X10: =+AF10 -> #N/A | Y10: =+Z10 -> #N/A | Z10: =+S10*X10 -> #N/A | AA10: =+I10*O10 -> #N/A | AB10: =IF(D10="SI",0.67,1) -> 1 | AC10: =IF(L10="SI",0.67,1) -> 1 | AD10: =IF(V10="SI",0.67,1) -> 1 | AE10: =VLOOKUP(H10,$AW$2:$AX$5,2) -> #N/A | AF10: =VLOOKUP(R10,$AW$2:$AX$5,2) -> #N/A | AG10: =IF(P10>0,P10,0) -> #N/A | AW10: OPZIONE D | AX10: OPZIONE D | AY10: Alogena | BB10: 0.07 | BC10: 0.07 | BD10: 0.07 | BE10: 0.07
E11: =+A11*C11*AB11/1000 -> 0 | F11: =+E11*$BA$3 -> 0 | I11: =+A11 -> 0 | M11: =+I11*K11*AC11/1000 -> 0 | N11: =+M11*$BA$3 -> 0 | O11: =+AE11 -> #N/A | P11: =+I11*O11 -> #N/A | W11: =+S11*U11*AD11/1000 -> 0 | X11: =+AF11 -> #N/A | Y11: =+Z11 -> #N/A | Z11: =+S11*X11 -> #N/A | AA11: =+I11*O11 -> #N/A | AB11: =IF(D11="SI",0.67,1) -> 1 | AC11: =IF(L11="SI",0.67,1) -> 1 | AD11: =IF(V11="SI",0.67,1) -> 1 | AE11: =VLOOKUP(H11,$AW$2:$AX$5,2) -> #N/A | AF11: =VLOOKUP(R11,$AW$2:$AX$5,2) -> #N/A | AG11: =IF(P11>0,P11,0) -> #N/A | AY11: LED | BB11: =+BB10*BB4 -> 270.7404 | BC11: =+BC10*BC4 -> 185.2291 | BD11: =+BD10*BD4 -> 98.5369 | BE11: =+BE10*BE4 -> 785.925
E12: =+A12*C12*AB12/1000 -> 0 | F12: =+E12*$BA$3 -> 0 | I12: =+A12 -> 0 | M12: =+I12*K12*AC12/1000 -> 0 | N12: =+M12*$BA$3 -> 0 | O12: =+AE12 -> #N/A | P12: =+I12*O12 -> #N/A | W12: =+S12*U12*AD12/1000 -> 0 | X12: =+AF12 -> #N/A | Y12: =+Z12 -> #N/A | Z12: =+S12*X12 -> #N/A | AA12: =+I12*O12 -> #N/A | AB12: =IF(D12="SI",0.67,1) -> 1 | AC12: =IF(L12="SI",0.67,1) -> 1 | AD12: =IF(V12="SI",0.67,1) -> 1 | AE12: =VLOOKUP(H12,$AW$2:$AX$5,2) -> #N/A | AF12: =VLOOKUP(R12,$AW$2:$AX$5,2) -> #N/A | AG12: =IF(P12>0,P12,0) -> #N/A | AY12: Altro | BB12: =+BB4+BB6+BB8+BB9+BB11 -> 5555.593 | BC12: =+BC4+BC6+BC8+BC9+BC11 -> 3800.9011 | BD12: =+BD4+BD6+BD8+BD9+BD11 -> 2021.9772 | BE12: =+BE4+BE6+BE8+BE9+BE11 -> 16127.181
E13: =+A13*C13*AB13/1000 -> 0 | F13: =+E13*$BA$3 -> 0 | I13: =+A13 -> 0 | M13: =+I13*K13*AC13/1000 -> 0 | N13: =+M13*$BA$3 -> 0 | O13: =+AE13 -> #N/A | P13: =+I13*O13 -> #N/A | W13: =+S13*U13*AD13/1000 -> 0 | X13: =+AF13 -> #N/A | Y13: =+Z13 -> #N/A | Z13: =+S13*X13 -> #N/A | AA13: =+I13*O13 -> #N/A | AB13: =IF(D13="SI",0.67,1) -> 1 | AC13: =IF(L13="SI",0.67,1) -> 1 | AD13: =IF(V13="SI",0.67,1) -> 1 | AE13: =VLOOKUP(H13,$AW$2:$AX$5,2) -> #N/A | AF13: =VLOOKUP(R13,$AW$2:$AX$5,2) -> #N/A | AG13: =IF(P13>0,P13,0) -> #N/A | BB13: =TRUNC(BB12,2) -> 5555.59 | BC13: =TRUNC(BC12,2) -> 3800.9 | BD13: =TRUNC(BD12,2) -> 2021.97 | BE13: =TRUNC(BE12,2) -> 16127.18
E14: =+A14*C14*AB14/1000 -> 0 | F14: =+E14*$BA$3 -> 0 | I14: =+A14 -> 0 | M14: =+I14*K14*AC14/1000 -> 0 | N14: =+M14*$BA$3 -> 0 | O14: =+AE14 -> #N/A | P14: =+I14*O14 -> #N/A | W14: =+S14*U14*AD14/1000 -> 0 | X14: =+AF14 -> #N/A | Y14: =+Z14 -> #N/A | Z14: =+S14*X14 -> #N/A | AA14: =+I14*O14 -> #N/A | AB14: =IF(D14="SI",0.67,1) -> 1 | AC14: =IF(L14="SI",0.67,1) -> 1 | AD14: =IF(V14="SI",0.67,1) -> 1 | AE14: =VLOOKUP(H14,$AW$2:$AX$5,2) -> #N/A | AF14: =VLOOKUP(R14,$AW$2:$AX$5,2) -> #N/A | AG14: =IF(P14>0,P14,0) -> #N/A
E15: =+A15*C15*AB15/1000 -> 0 | F15: =+E15*$BA$3 -> 0 | I15: =+A15 -> 0 | M15: =+I15*K15*AC15/1000 -> 0 | N15: =+M15*$BA$3 -> 0 | O15: =+AE15 -> #N/A | P15: =+I15*O15 -> #N/A | W15: =+S15*U15*AD15/1000 -> 0 | X15: =+AF15 -> #N/A | Y15: =+Z15 -> #N/A | Z15: =+S15*X15 -> #N/A | AA15: =+I15*O15 -> #N/A | AB15: =IF(D15="SI",0.67,1) -> 1 | AC15: =IF(L15="SI",0.67,1) -> 1 | AD15: =IF(V15="SI",0.67,1) -> 1 | AE15: =VLOOKUP(H15,$AW$2:$AX$5,2) -> #N/A | AF15: =VLOOKUP(R15,$AW$2:$AX$5,2) -> #N/A | AG15: =IF(P15>0,P15,0) -> #N/A | AV15: FONTE: ISPRA | AW15: 558.7 | AX15: g
E16: =+A16*C16*AB16/1000 -> 0 | F16: =+E16*$BA$3 -> 0 | I16: =+A16 -> 0 | M16: =+I16*K16*AC16/1000 -> 0 | N16: =+M16*$BA$3 -> 0 | O16: =+AE16 -> #N/A | P16: =+I16*O16 -> #N/A | W16: =+S16*U16*AD16/1000 -> 0 | X16: =+AF16 -> #N/A | Y16: =+Z16 -> #N/A | Z16: =+S16*X16 -> #N/A | AA16: =+I16*O16 -> #N/A | AB16: =IF(D16="SI",0.67,1) -> 1 | AC16: =IF(L16="SI",0.67,1) -> 1 | AD16: =IF(V16="SI",0.67,1) -> 1 | AE16: =VLOOKUP(H16,$AW$2:$AX$5,2) -> #N/A | AF16: =VLOOKUP(R16,$AW$2:$AX$5,2) -> #N/A | AG16: =IF(P16>0,P16,0) -> #N/A | AV16: Consumi Settore Elettrico | AW16: =+AW15/1000/1000 -> 0.0005587 | AX16: ton CO2
E17: =+A17*C17*AB17/1000 -> 0 | F17: =+E17*$BA$3 -> 0 | I17: =+A17 -> 0 | M17: =+I17*K17*AC17/1000 -> 0 | N17: =+M17*$BA$3 -> 0 | O17: =+AE17 -> #N/A | P17: =+I17*O17 -> #N/A | W17: =+S17*U17*AD17/1000 -> 0 | X17: =+AF17 -> #N/A | Y17: =+Z17 -> #N/A | Z17: =+S17*X17 -> #N/A | AA17: =+I17*O17 -> #N/A | AB17: =IF(D17="SI",0.67,1) -> 1 | AC17: =IF(L17="SI",0.67,1) -> 1 | AD17: =IF(V17="SI",0.67,1) -> 1 | AE17: =VLOOKUP(H17,$AW$2:$AX$5,2) -> #N/A | AF17: =VLOOKUP(R17,$AW$2:$AX$5,2) -> #N/A | AG17: =IF(P17>0,P17,0) -> #N/A | AW17: =+E81*1000 -> 0
E18: =+A18*C18*AB18/1000 -> 0 | F18: =+E18*$BA$3 -> 0 | I18: =+A18 -> 0 | M18: =+I18*K18*AC18/1000 -> 0 | N18: =+M18*$BA$3 -> 0 | O18: =+AE18 -> #N/A | P18: =+I18*O18 -> #N/A | W18: =+S18*U18*AD18/1000 -> 0 | X18: =+AF18 -> #N/A | Y18: =+Z18 -> #N/A | Z18: =+S18*X18 -> #N/A | AA18: =+I18*O18 -> #N/A | AB18: =IF(D18="SI",0.67,1) -> 1 | AC18: =IF(L18="SI",0.67,1) -> 1 | AD18: =IF(V18="SI",0.67,1) -> 1 | AE18: =VLOOKUP(H18,$AW$2:$AX$5,2) -> #N/A | AF18: =VLOOKUP(R18,$AW$2:$AX$5,2) -> #N/A | AG18: =IF(P18>0,P18,0) -> #N/A | AW18: =+AW16*AW17 -> 0
E19: =+A19*C19*AB19/1000 -> 0 | F19: =+E19*$BA$3 -> 0 | I19: =+A19 -> 0 | M19: =+I19*K19*AC19/1000 -> 0 | N19: =+M19*$BA$3 -> 0 | O19: =+AE19 -> #N/A | P19: =+I19*O19 -> #N/A | W19: =+S19*U19*AD19/1000 -> 0 | X19: =+AF19 -> #N/A | Y19: =+Z19 -> #N/A | Z19: =+S19*X19 -> #N/A | AA19: =+I19*O19 -> #N/A | AB19: =IF(D19="SI",0.67,1) -> 1 | AC19: =IF(L19="SI",0.67,1) -> 1 | AD19: =IF(V19="SI",0.67,1) -> 1 | AE19: =VLOOKUP(H19,$AW$2:$AX$5,2) -> #N/A | AF19: =VLOOKUP(R19,$AW$2:$AX$5,2) -> #N/A | AG19: =IF(P19>0,P19,0) -> #N/A | AW19: =+AW17*AW15 -> 0
E20: =+A20*C20*AB20/1000 -> 0 | F20: =+E20*$BA$3 -> 0 | I20: =+A20 -> 0 | M20: =+I20*K20*AC20/1000 -> 0 | N20: =+M20*$BA$3 -> 0 | O20: =+AE20 -> #N/A | P20: =+I20*O20 -> #N/A | W20: =+S20*U20*AD20/1000 -> 0 | X20: =+AF20 -> #N/A | Y20: =+Z20 -> #N/A | Z20: =+S20*X20 -> #N/A | AA20: =+I20*O20 -> #N/A | AB20: =IF(D20="SI",0.67,1) -> 1 | AC20: =IF(L20="SI",0.67,1) -> 1 | AD20: =IF(V20="SI",0.67,1) -> 1 | AE20: =VLOOKUP(H20,$AW$2:$AX$5,2) -> #N/A | AF20: =VLOOKUP(R20,$AW$2:$AX$5,2) -> #N/A | AG20: =IF(P20>0,P20,0) -> #N/A | AW20: =+AW19/1000000 -> 0
E21: =+A21*C21*AB21/1000 -> 0 | F21: =+E21*$BA$3 -> 0 | I21: =+A21 -> 0 | M21: =+I21*K21*AC21/1000 -> 0 | N21: =+M21*$BA$3 -> 0 | O21: =+AE21 -> #N/A | P21: =+I21*O21 -> #N/A | W21: =+S21*U21*AD21/1000 -> 0 | X21: =+AF21 -> #N/A | Y21: =+Z21 -> #N/A | Z21: =+S21*X21 -> #N/A | AA21: =+I21*O21 -> #N/A | AB21: =IF(D21="SI",0.67,1) -> 1 | AC21: =IF(L21="SI",0.67,1) -> 1 | AD21: =IF(V21="SI",0.67,1) -> 1 | AE21: =VLOOKUP(H21,$AW$2:$AX$5,2) -> #N/A | AF21: =VLOOKUP(R21,$AW$2:$AX$5,2) -> #N/A | AG21: =IF(P21>0,P21,0) -> #N/A
E22: =+A22*C22*AB22/1000 -> 0 | F22: =+E22*$BA$3 -> 0 | I22: =+A22 -> 0 | M22: =+I22*K22*AC22/1000 -> 0 | N22: =+M22*$BA$3 -> 0 | O22: =+AE22 -> #N/A | P22: =+I22*O22 -> #N/A | W22: =+S22*U22*AD22/1000 -> 0 | X22: =+AF22 -> #N/A | Y22: =+Z22 -> #N/A | Z22: =+S22*X22 -> #N/A | AA22: =+I22*O22 -> #N/A | AB22: =IF(D22="SI",0.67,1) -> 1 | AC22: =IF(L22="SI",0.67,1) -> 1 | AD22: =IF(V22="SI",0.67,1) -> 1 | AE22: =VLOOKUP(H22,$AW$2:$AX$5,2) -> #N/A | AF22: =VLOOKUP(R22,$AW$2:$AX$5,2) -> #N/A | AG22: =IF(P22>0,P22,0) -> #N/A
E23: =+A23*C23*AB23/1000 -> 0 | F23: =+E23*$BA$3 -> 0 | I23: =+A23 -> 0 | M23: =+I23*K23*AC23/1000 -> 0 | N23: =+M23*$BA$3 -> 0 | O23: =+AE23 -> #N/A | P23: =+I23*O23 -> #N/A | W23: =+S23*U23*AD23/1000 -> 0 | X23: =+AF23 -> #N/A | Y23: =+Z23 -> #N/A | Z23: =+S23*X23 -> #N/A | AA23: =+I23*O23 -> #N/A | AB23: =IF(D23="SI",0.67,1) -> 1 | AC23: =IF(L23="SI",0.67,1) -> 1 | AD23: =IF(V23="SI",0.67,1) -> 1 | AE23: =VLOOKUP(H23,$AW$2:$AX$5,2) -> #N/A | AF23: =VLOOKUP(R23,$AW$2:$AX$5,2) -> #N/A | AG23: =IF(P23>0,P23,0) -> #N/A
E24: =+A24*C24*AB24/1000 -> 0 | F24: =+E24*$BA$3 -> 0 | I24: =+A24 -> 0 | M24: =+I24*K24*AC24/1000 -> 0 | N24: =+M24*$BA$3 -> 0 | O24: =+AE24 -> #N/A | P24: =+I24*O24 -> #N/A | W24: =+S24*U24*AD24/1000 -> 0 | X24: =+AF24 -> #N/A | Y24: =+Z24 -> #N/A | Z24: =+S24*X24 -> #N/A | AA24: =+I24*O24 -> #N/A | AB24: =IF(D24="SI",0.67,1) -> 1 | AC24: =IF(L24="SI",0.67,1) -> 1 | AD24: =IF(V24="SI",0.67,1) -> 1 | AE24: =VLOOKUP(H24,$AW$2:$AX$5,2) -> #N/A | AF24: =VLOOKUP(R24,$AW$2:$AX$5,2) -> #N/A | AG24: =IF(P24>0,P24,0) -> #N/A
E25: =+A25*C25*AB25/1000 -> 0 | F25: =+E25*$BA$3 -> 0 | I25: =+A25 -> 0 | M25: =+I25*K25*AC25/1000 -> 0 | N25: =+M25*$BA$3 -> 0 | O25: =+AE25 -> #N/A | P25: =+I25*O25 -> #N/A | W25: =+S25*U25*AD25/1000 -> 0 | X25: =+AF25 -> #N/A | Y25: =+Z25 -> #N/A | Z25: =+S25*X25 -> #N/A | AA25: =+I25*O25 -> #N/A | AB25: =IF(D25="SI",0.67,1) -> 1 | AC25: =IF(L25="SI",0.67,1) -> 1 | AD25: =IF(V25="SI",0.67,1) -> 1 | AE25: =VLOOKUP(H25,$AW$2:$AX$5,2) -> #N/A | AF25: =VLOOKUP(R25,$AW$2:$AX$5,2) -> #N/A | AG25: =IF(P25>0,P25,0) -> #N/A
E26: =+A26*C26*AB26/1000 -> 0 | F26: =+E26*$BA$3 -> 0 | I26: =+A26 -> 0 | M26: =+I26*K26*AC26/1000 -> 0 | N26: =+M26*$BA$3 -> 0 | O26: =+AE26 -> #N/A | P26: =+I26*O26 -> #N/A | W26: =+S26*U26*AD26/1000 -> 0 | X26: =+AF26 -> #N/A | Y26: =+Z26 -> #N/A | Z26: =+S26*X26 -> #N/A | AA26: =+I26*O26 -> #N/A | AB26: =IF(D26="SI",0.67,1) -> 1 | AC26: =IF(L26="SI",0.67,1) -> 1 | AD26: =IF(V26="SI",0.67,1) -> 1 | AE26: =VLOOKUP(H26,$AW$2:$AX$5,2) -> #N/A | AF26: =VLOOKUP(R26,$AW$2:$AX$5,2) -> #N/A | AG26: =IF(P26>0,P26,0) -> #N/A
E27: =+A27*C27*AB27/1000 -> 0 | F27: =+E27*$BA$3 -> 0 | I27: =+A27 -> 0 | M27: =+I27*K27*AC27/1000 -> 0 | N27: =+M27*$BA$3 -> 0 | O27: =+AE27 -> #N/A | P27: =+I27*O27 -> #N/A | W27: =+S27*U27*AD27/1000 -> 0 | X27: =+AF27 -> #N/A | Y27: =+Z27 -> #N/A | Z27: =+S27*X27 -> #N/A | AA27: =+I27*O27 -> #N/A | AB27: =IF(D27="SI",0.67,1) -> 1 | AC27: =IF(L27="SI",0.67,1) -> 1 | AD27: =IF(V27="SI",0.67,1) -> 1 | AE27: =VLOOKUP(H27,$AW$2:$AX$5,2) -> #N/A | AF27: =VLOOKUP(R27,$AW$2:$AX$5,2) -> #N/A | AG27: =IF(P27>0,P27,0) -> #N/A
E28: =+A28*C28*AB28/1000 -> 0 | F28: =+E28*$BA$3 -> 0 | I28: =+A28 -> 0 | M28: =+I28*K28*AC28/1000 -> 0 | N28: =+M28*$BA$3 -> 0 | O28: =+AE28 -> #N/A | P28: =+I28*O28 -> #N/A | W28: =+S28*U28*AD28/1000 -> 0 | X28: =+AF28 -> #N/A | Y28: =+Z28 -> #N/A | Z28: =+S28*X28 -> #N/A | AA28: =+I28*O28 -> #N/A | AB28: =IF(D28="SI",0.67,1) -> 1 | AC28: =IF(L28="SI",0.67,1) -> 1 | AD28: =IF(V28="SI",0.67,1) -> 1 | AE28: =VLOOKUP(H28,$AW$2:$AX$5,2) -> #N/A | AF28: =VLOOKUP(R28,$AW$2:$AX$5,2) -> #N/A | AG28: =IF(P28>0,P28,0) -> #N/A
E29: =+A29*C29*AB29/1000 -> 0 | F29: =+E29*$BA$3 -> 0 | I29: =+A29 -> 0 | M29: =+I29*K29*AC29/1000 -> 0 | N29: =+M29*$BA$3 -> 0 | O29: =+AE29 -> #N/A | P29: =+I29*O29 -> #N/A | W29: =+S29*U29*AD29/1000 -> 0 | X29: =+AF29 -> #N/A | Y29: =+Z29 -> #N/A | Z29: =+S29*X29 -> #N/A | AA29: =+I29*O29 -> #N/A | AB29: =IF(D29="SI",0.67,1) -> 1 | AC29: =IF(L29="SI",0.67,1) -> 1 | AD29: =IF(V29="SI",0.67,1) -> 1 | AE29: =VLOOKUP(H29,$AW$2:$AX$5,2) -> #N/A | AF29: =VLOOKUP(R29,$AW$2:$AX$5,2) -> #N/A | AG29: =IF(P29>0,P29,0) -> #N/A
E30: =+A30*C30*AB30/1000 -> 0 | F30: =+E30*$BA$3 -> 0 | I30: =+A30 -> 0 | M30: =+I30*K30*AC30/1000 -> 0 | N30: =+M30*$BA$3 -> 0 | O30: =+AE30 -> #N/A | P30: =+I30*O30 -> #N/A | W30: =+S30*U30*AD30/1000 -> 0 | X30: =+AF30 -> #N/A | Y30: =+Z30 -> #N/A | Z30: =+S30*X30 -> #N/A | AA30: =+I30*O30 -> #N/A | AB30: =IF(D30="SI",0.67,1) -> 1 | AC30: =IF(L30="SI",0.67,1) -> 1 | AD30: =IF(V30="SI",0.67,1) -> 1 | AE30: =VLOOKUP(H30,$AW$2:$AX$5,2) -> #N/A | AF30: =VLOOKUP(R30,$AW$2:$AX$5,2) -> #N/A | AG30: =IF(P30>0,P30,0) -> #N/A
E31: =+A31*C31*AB31/1000 -> 0 | F31: =+E31*$BA$3 -> 0 | I31: =+A31 -> 0 | M31: =+I31*K31*AC31/1000 -> 0 | N31: =+M31*$BA$3 -> 0 | O31: =+AE31 -> #N/A | P31: =+I31*O31 -> #N/A | W31: =+S31*U31*AD31/1000 -> 0 | X31: =+AF31 -> #N/A | Y31: =+Z31 -> #N/A | Z31: =+S31*X31 -> #N/A | AA31: =+I31*O31 -> #N/A | AB31: =IF(D31="SI",0.67,1) -> 1 | AC31: =IF(L31="SI",0.67,1) -> 1 | AD31: =IF(V31="SI",0.67,1) -> 1 | AE31: =VLOOKUP(H31,$AW$2:$AX$5,2) -> #N/A | AF31: =VLOOKUP(R31,$AW$2:$AX$5,2) -> #N/A | AG31: =IF(P31>0,P31,0) -> #N/A
E32: =+A32*C32*AB32/1000 -> 0 | F32: =+E32*$BA$3 -> 0 | I32: =+A32 -> 0 | M32: =+I32*K32*AC32/1000 -> 0 | N32: =+M32*$BA$3 -> 0 | O32: =+AE32 -> #N/A | P32: =+I32*O32 -> #N/A | W32: =+S32*U32*AD32/1000 -> 0 | X32: =+AF32 -> #N/A | Y32: =+Z32 -> #N/A | Z32: =+S32*X32 -> #N/A | AA32: =+I32*O32 -> #N/A | AB32: =IF(D32="SI",0.67,1) -> 1 | AC32: =IF(L32="SI",0.67,1) -> 1 | AD32: =IF(V32="SI",0.67,1) -> 1 | AE32: =VLOOKUP(H32,$AW$2:$AX$5,2) -> #N/A | AF32: =VLOOKUP(R32,$AW$2:$AX$5,2) -> #N/A | AG32: =IF(P32>0,P32,0) -> #N/A
... E56: =+A56*C56*AB56/1000 -> 0 | F56: =+E56*$BA$3 -> 0 | I56: =+A56 -> 0 | M56: =+I56*K56*AC56/1000 -> 0 | N56: =+M56*$BA$3 -> 0 | O56: =+AE56 -> #N/A | P56: =+I56*O56 -> #N/A | W56: =+S56*U56*AD56/1000 -> 0 | X56: =+AF56 -> #N/A | Y56: =+Z56 -> #N/A | Z56: =+S56*X56 -> #N/A | AA56: =+I56*O56 -> #N/A | AB56: =IF(D56="SI",0.67,1) -> 1 | AC56: =IF(L56="SI",0.67,1) -> 1 | AD56: =IF(V56="SI",0.67,1) -> 1 | AE56: =VLOOKUP(H56,$AW$2:$AX$5,2) -> #N/A | AF56: =VLOOKUP(R56,$AW$2:$AX$5,2) -> #N/A | AG56: =IF(P56>0,P56,0) -> #N/A
A57: =SUM(A7:A56) -> 0 | B57: TOTALE | E57: =SUM(E7:E56) -> 0 | F57: =SUM(F7:F56) -> 0 | I57: =SUM(I7:I56) -> 0 | J57: TOTALE | M57: =SUM(M7:M56) -> 0 | N57: =SUM(N7:N56) -> 0 | P57: =+AB58 -> 0 | S57: =SUM(S7:S56) -> 0 | T57: TOTALE | W57: =SUM(W7:W56) -> 0 | Y57: =+AE58 -> 0
AB58: =SUMIFS(P7:P56,P7:P56,">0") -> 0 | AC58: =SUMIFS(Q7:Q56,Q7:Q56,">0") -> 0 | AD58: =SUMIFS(R7:R56,R7:R56,">0") -> 0 | AE58: =SUMIFS(Y7:Y56,Y7:Y56,">0") -> 0
A60: S.T.I. (scegliere da menù a tendina) * | B60: Descrizione dettagliata del servizio tecnologico integrato ed analisi del potenziale risparmio energetico atteso * | X60: Risparmio energetico Energia Primaria Atteso [kWh/anno] * | Y60: Costo Totale [€] (campo compilato in automatico)
Y61: =+AA61 -> 0 | AA61: =IF(A61="SI",$BE$13,0) -> 0 | AB61: =IF(A61="SI",1,0) -> 0 | AC61: =IF(B61="SI",1,0) -> 0 | AD61: =IF(C61="SI",1,0) -> 0
Y62: =+AA62 -> 0 | AA62: =IF(A62="SI",$BE$13,0) -> 0 | AB62: =IF(A62="SI",1,0) -> 0 | AC62: =IF(B62="SI",1,0) -> 0 | AD62: =IF(C62="SI",1,0) -> 0
Y63: =+AA63 -> 0 | AA63: =IF(A63="SI",$BE$13,0) -> 0 | AB63: =IF(A63="SI",1,0) -> 0 | AC63: =IF(B63="SI",1,0) -> 0 | AD63: =IF(C63="SI",1,0) -> 0
Y64: =+AA64 -> 0 | AA64: =IF(A64="SI",$BE$13,0) -> 0 | AB64: =IF(A64="SI",1,0) -> 0 | AC64: =IF(B64="SI",1,0) -> 0 | AD64: =IF(C64="SI",1,0) -> 0
Y65: =+AA65 -> 0 | AA65: =IF(A65="SI",$BE$13,0) -> 0 | AB65: =IF(A65="SI",1,0) -> 0 | AC65: =IF(B65="SI",1,0) -> 0 | AD65: =IF(C65="SI",1,0) -> 0
Y66: =+AA66 -> 0 | AA66: =IF(A66="SI",$BE$13,0) -> 0 | AB66: =IF(A66="SI",1,0) -> 0 | AC66: =IF(B66="SI",1,0) -> 0 | AD66: =IF(C66="SI",1,0) -> 0
Y67: =+AA67 -> 0 | AA67: =IF(A67="SI",$BE$13,0) -> 0 | AB67: =IF(A67="SI",1,0) -> 0 | AC67: =IF(B67="SI",1,0) -> 0 | AD67: =IF(C67="SI",1,0) -> 0
Y68: =+AA68 -> 0 | AA68: =IF(A68="SI",$BE$13,0) -> 0 | AB68: =IF(A68="SI",1,0) -> 0 | AC68: =IF(B68="SI",1,0) -> 0 | AD68: =IF(C68="SI",1,0) -> 0
Y69: =+AA69 -> 0 | AA69: =IF(A69="SI",$BE$13,0) -> 0 | AB69: =IF(A69="SI",1,0) -> 0 | AC69: =IF(B69="SI",1,0) -> 0 | AD69: =IF(C69="SI",1,0) -> 0
Y70: =+AA70 -> 0 | AA70: =IF(A70="SI",$BE$13,0) -> 0 | AB70: =IF(A70="SI",1,0) -> 0 | AC70: =IF(B70="SI",1,0) -> 0 | AD70: =IF(C70="SI",1,0) -> 0
Y71: =+AA71 -> 0 | AA71: =IF(A71="SI",$BE$13,0) -> 0 | AB71: =IF(A71="SI",1,0) -> 0 | AC71: =IF(B71="SI",1,0) -> 0 | AD71: =IF(C71="SI",1,0) -> 0
Y72: =+AA72 -> 0 | AA72: =IF(A72="SI",$BE$13,0) -> 0 | AB72: =IF(A72="SI",1,0) -> 0 | AC72: =IF(B72="SI",1,0) -> 0 | AD72: =IF(C72="SI",1,0) -> 0
... Y75: =+AA75 -> 0 | AA75: =IF(A75="SI",$BE$13,0) -> 0 | AB75: =IF(A75="SI",1,0) -> 0 | AC75: =IF(B75="SI",1,0) -> 0 | AD75: =IF(C75="SI",1,0) -> 0
A76: TOTALE | X76: =SUM(X61:X75) -> 0 | Y76: =SUM(Y61:Y75) -> 0 | AB76: =SUM(AB61:AB75) -> 0 | AC76: =SUM(AC61:AC75) -> 0 | AD76: =SUM(AD61:AD75) -> 0
A78: Costo Totale [€] (campo compilato in automatico) | E78: =+P57+Y57+Y76 -> 0
A79: Risparmio Energetico Opz. A/B/C [MWh/anno] (campo compilato in automatico) | E79: =+(F57-N57)/1000 -> 0
A80: Risparmio Energetico Atteso Opz. D [MWh/anno] (campo compilato in automatico) | E80: =+X76/1000 -> 0
A81: Risparmio Energetico Totale [MWh/anno] (campo compilato in automatico) | E81: =+E79+E80 -> 0
A82: Riduzione emissioni [ton. CO2/anno] (campo compilato in automatico) | E82: =+E81*1000*AW16 -> 0
A84: NOTA: COMPILARE ESCLUSIVAMENTE LE CELLE IN GRIGIO
A85: * DATI OBBLIGATORI | B85: * DATI OBBLIGATORI
A87: =+E78-Y76 -> 0 | B87: 312a
A88: =+Y76 -> 0 | B88: 331b
A89: =+A87+A88 -> 0 | B89: totale | C89: =+E78-A89 -> 0
A91: =+F57 -> 0 | B91: CONSUMO PRE | C91: =+A91/1000 -> 0
A92: =+N57 -> 0 | B92: CONSUMO POST | C92: =+N57/1000 -> 0
B93: RISPARMIO A/B/C | C93: =+C91-C92 -> 0
B94: RISPARMIO D | C94: =+E80 -> 0
B95: RISPARMIO TOTALE | C95: =+C93+C94 -> 0 | D95: =+E81-C95 -> 0
B96: PERCENTUALE RISPARMIO | C96: =+C95/C91 -> #DIV/0!
B98: PUNTI LUCE | C98: =+I57+S57 -> 0
B99: STI | C99: =+AB76 -> 0

Sheet PdI_5
AF1: PFTE
AF2: Progetto Esecutivo | AL2: 1 - | AM2: 2 - | AN2: 3 - | AO2: 4 - | AP2: 5 - | AW2: OPZIONE | AX2: IMPORTO
A3: =CONCATENATE(AJ3,AK3,'DATI DI PARTENZA'!G6) -> PERIMETRO DI INTERVENTO: | AF3: Nessun progetto | AJ3: PERIMETRO DI INTERVENTO | AK3: : | AL3: =+'DATI DI PARTENZA'!C6 -> 0 | AM3: =+'DATI DI PARTENZA'!D6 -> 0 | AN3: =+'DATI DI PARTENZA'!E6 -> 0 | AO3: =+'DATI DI PARTENZA'!F6 -> 0 | AP3: =+'DATI DI PARTENZA'!G6 -> 0 | AR3: =CONCATENATE(AW3,AU3,AS3,AT3) -> OPZIONE A: 5555,59 € | AS3: =+BB13 -> 5555.59 | AT3: € | AU3: : | AW3: OPZIONE A | AX3: =+BB13 -> 5555.59 | AY3: Vapori di Mercurio | AZ3: SI | BA3: 4151.875 | BB3: OPZA | BC3: OPZB | BD3: OPZC | BE3: OPZD
A4: INDIRIZZO DI RIFERIMENTO DEL POD - PERIMETRO DI INTERVENTO | X4: =+'DATI DI PARTENZA'!G7 -> 0 | AJ4: Perimetro di Intervento | AL4: =+'DATI DI PARTENZA'!C6 -> 0 | AM4: =+'DATI DI PARTENZA'!D6 -> 0 | AN4: =+'DATI DI PARTENZA'!E6 -> 0 | AO4: =+'DATI DI PARTENZA'!F6 -> 0 | AP4: =+'DATI DI PARTENZA'!G6 -> 0 | AR4: =CONCATENATE(AW4,AU4,AS4,AT4) -> OPZIONE B: 3800,9 € | AS4: =+BC13 -> 3800.9 | AT4: € | AU4: : | AW4: OPZIONE B | AX4: =+BC13 -> 3800.9 | AY4: Incandescenza | AZ4: NO | BB4: 3867.72 | BC4: 2646.13 | BD4: 1407.67 | BE4: 11227.5
A5: SITUAZIONE ANTE INTERVENTO | H5: SITUAZIONE POST INTERVENTO | R5: NUOVI PUNTI LUCE | AR5: =CONCATENATE(AW5,AU5,AS5,AT5) -> OPZIONE C: 2021,97 € | AS5: =+BD13 -> 2021.97 | AT5: € | AU5: : | AW5: OPZIONE C | AX5: =+BD13 -> 2021.97 | AY5: Fluorescenti Compatte | BB5: =+(0.22)-(0.22*'DATI DI PARTENZA'!$B$11) -> 0.22 | BC5: =+(0.22)-(0.22*'DATI DI PARTENZA'!$B$11) -> 0.22 | BD5: =+(0.22)-(0.22*'DATI DI PARTENZA'!$B$11) -> 0.22 | BE5: =+(0.22)-(0.22*'DATI DI PARTENZA'!$B$11) -> 0.22
A6: N° Punti Luce * | B6: Tipologia Sorgente Luminosa (scegliere da menù a tendina) * | C6: Potenza Nominale Unitaria (W) * | D6: Regolazione di flusso (scegliere da menù a tendina) * | E6: Potenza Complessiva [kW] (campo compilato in automatico) | F6: Consumo Energetico [kWh/anno] (campo compilato in automatico) | H6: Intervento (scegliere da menù a tendina) * | I6: N° Punti Luce (campo compilato in automatico) | J6: Tipologia Sorgente Luminosa (scegliere da menù a tendina) * | K6: Potenza Nominale Unitaria (W) * | L6: Regolazione di flusso (scegliere da menù a tendina) * | M6: Potenza Complessiva [kW] (campo compilato in automatico) | N6: Consumo Energetico [kWh/anno] (campo compilato in automatico) | O6: Costo Unitario [€] (campo compilato in automatico) | P6: Costo Totale [€] (campo compilato in automatico) | R6: Intervento (scegliere da menù a tendina) * | S6: N° Punti Luce * | T6: Tipologia Sorgente Luminosa (scegliere da menù a tendina) * | U6: Potenza Nominale Unitaria (W) * | V6: Regolazione di flusso (scegliere da menù a tendina) * | W6: Potenza Complessiva [kW] (campo compilato in automatico) | X6: Costo Unitario [€] (campo compilato in automatico) | Y6: Costo Totale [€] (campo compilato in automatico) | AE6: SOSTITUZIONE | AF6: NUOVI | AJ6: Perimetro di Intervento | AL6: =+'DATI DI PARTENZA'!C7 -> 0 | AM6: =+'DATI DI PARTENZA'!D7 -> 0 | AN6: =+'DATI DI PARTENZA'!E7 -> 0 | AO6: =+'DATI DI PARTENZA'!F7 -> 0 | AP6: =+'DATI DI PARTENZA'!G7 -> 0 | AR6: =CONCATENATE(AW6,AU6,AS6,AT6) -> OPZIONE D: 16127,18 € | AS6: =+BE13 -> 16127.18 | AT6: € | AU6: : | AW6: OPZIONE D | AX6: =+BE13 -> 16127.18 | AY6: Fluorescenti Tubolari | BB6: =+BB4*BB5 -> 850.8984 | BC6: =+BC4*BC5 -> 582.1486 | BD6: =+BD4*BD5 -> 309.6874 | BE6: =+BE4*BE5 -> 2470.05
E7: =+A7*C7*AB7/1000 -> 0 | F7: =+E7*$BA$3 -> 0 | I7: =+A7 -> 0 | M7: =+I7*K7*AC7/1000 -> 0 | N7: =+M7*$BA$3 -> 0 | O7: =+AE7 -> #N/A | P7: =+I7*O7 -> #N/A | W7: =+S7*U7*AD7/1000 -> 0 | X7: =+AF7 -> #N/A | Y7: =+Z7 -> #N/A | Z7: =+S7*X7 -> #N/A | AA7: =+I7*O7 -> #N/A | AB7: =IF(D7="SI",0.67,1) -> 1 | AC7: =IF(L7="SI",0.67,1) -> 1 | AD7: =IF(V7="SI",0.67,1) -> 1 | AE7: =VLOOKUP(H7,$AW$2:$AX$5,2) -> #N/A | AF7: =VLOOKUP(R7,$AW$2:$AX$5,2) -> #N/A | AG7: =IF(P7="NUMERO",P7,0) -> #N/A | AY7: Sodio Alta Pressione | BB7: 0.12 | BC7: 0.12 | BD7: 0.12 | BE7: 0.12
E8: =+A8*C8*AB8/1000 -> 0 | F8: =+E8*$BA$3 -> 0 | I8: =+A8 -> 0 | M8: =+I8*K8*AC8/1000 -> 0 | N8: =+M8*$BA$3 -> 0 | O8: =+AE8 -> #N/A | P8: =+I8*O8 -> #N/A | W8: =+S8*U8*AD8/1000 -> 0 | X8: =+AF8 -> #N/A | Y8: =+Z8 -> #N/A | Z8: =+S8*X8 -> #N/A | AA8: =+I8*O8 -> #N/A | AB8: =IF(D8="SI",0.67,1) -> 1 | AC8: =IF(L8="SI",0.67,1) -> 1 | AD8: =IF(V8="SI",0.67,1) -> 1 | AE8: =VLOOKUP(H8,$AW$2:$AX$5,2) -> #N/A | AF8: =VLOOKUP(R8,$AW$2:$AX$5,2) -> #N/A | AG8: =IF(P8>0,P8,0) -> #N/A | AY8: Sodio Bassa Pressione | BB8: =+BB4*BB7 -> 464.1264 | BC8: =+BC4*BC7 -> 317.5356 | BD8: =+BD4*BD7 -> 168.9204 | BE8: =+BE4*BE7 -> 1347.3
E9: =+A9*C9*AB9/1000 -> 0 | F9: =+E9*$BA$3 -> 0 | I9: =+A9 -> 0 | M9: =+I9*K9*AC9/1000 -> 0 | N9: =+M9*$BA$3 -> 0 | O9: =+AE9 -> #N/A | P9: =+I9*O9 -> #N/A | W9: =+S9*U9*AD9/1000 -> 0 | X9: =+AF9 -> #N/A | Y9: =+Z9 -> #N/A | Z9: =+S9*X9 -> #N/A | AA9: =+I9*O9 -> #N/A | AB9: =IF(D9="SI",0.67,1) -> 1 | AC9: =IF(L9="SI",0.67,1) -> 1 | AD9: =IF(V9="SI",0.67,1) -> 1 | AE9: =VLOOKUP(H9,$AW$2:$AX$5,2) -> #N/A | AF9: =VLOOKUP(R9,$AW$2:$AX$5,2) -> #N/A | AG9: =IF(P9>0,P9,0) -> #N/A | AY9: Ioduri Metallici | BB9: =+BB8*BB5 -> 102.10781 | BC9: =+BC8*BC5 -> 69.857832 | BD9: =+BD8*BD5 -> 37.162488 | BE9: =+BE8*BE5 -> 296.406
E10: =+A10*C10*AB10/1000 -> 0 | F10: =+E10*$BA$3 -> 0 | I10: =+A10 -> 0 | M10: =+I10*K10*AC10/1000 -> 0 | N10: =+M10*$BA$3 -> 0 | O10: =+AE10 -> #N/A | P10: =+I10*O10 -> #N/A | W10: =+S10*U10*AD10/1000 -> 0 | X10: =+AF10 -> #N/A | Y10: =+Z10 -> #N/A | Z10: =+S10*X10 -> #N/A | AA10: =+I10*O10 -> #N/A | AB10: =IF(D10="SI",0.67,1) -> 1 | AC10: =IF(L10="SI",0.67,1) -> 1 | AD10: =IF(V10="SI",0.67,1) -> 1 | AE10: =VLOOKUP(H10,$AW$2:$AX$5,2) -> #N/A | AF10: =VLOOKUP(R10,$AW$2:$AX$5,2) -> #N/A | AG10: =IF(P10>0,P10,0) -> #N/A | AW10: OPZIONE D | AX10: OPZIONE D | AY10: Alogena | BB10: 0.07 | BC10: 0.07 | BD10: 0.07 | BE10: 0.07
E11: =+A11*C11*AB11/1000 -> 0 | F11: =+E11*$BA$3 -> 0 | I11: =+A11 -> 0 | M11: =+I11*K11*AC11/1000 -> 0 | N11: =+M11*$BA$3 -> 0 | O11: =+AE11 -> #N/A | P11: =+I11*O11 -> #N/A | W11: =+S11*U11*AD11/1000 -> 0 | X11: =+AF11 -> #N/A | Y11: =+Z11 -> #N/A | Z11: =+S11*X11 -> #N/A | AA11: =+I11*O11 -> #N/A | AB11: =IF(D11="SI",0.67,1) -> 1 | AC11: =IF(L11="SI",0.67,1) -> 1 | AD11: =IF(V11="SI",0.67,1) -> 1 | AE11: =VLOOKUP(H11,$AW$2:$AX$5,2) -> #N/A | AF11: =VLOOKUP(R11,$AW$2:$AX$5,2) -> #N/A | AG11: =IF(P11>0,P11,0) -> #N/A | AY11: LED | BB11: =+BB10*BB4 -> 270.7404 | BC11: =+BC10*BC4 -> 185.2291 | BD11: =+BD10*BD4 -> 98.5369 | BE11: =+BE10*BE4 -> 785.925
E12: =+A12*C12*AB12/1000 -> 0 | F12: =+E12*$BA$3 -> 0 | I12: =+A12 -> 0 | M12: =+I12*K12*AC12/1000 -> 0 | N12: =+M12*$BA$3 -> 0 | O12: =+AE12 -> #N/A | P12: =+I12*O12 -> #N/A | W12: =+S12*U12*AD12/1000 -> 0 | X12: =+AF12 -> #N/A | Y12: =+Z12 -> #N/A | Z12: =+S12*X12 -> #N/A | AA12: =+I12*O12 -> #N/A | AB12: =IF(D12="SI",0.67,1) -> 1 | AC12: =IF(L12="SI",0.67,1) -> 1 | AD12: =IF(V12="SI",0.67,1) -> 1 | AE12: =VLOOKUP(H12,$AW$2:$AX$5,2) -> #N/A | AF12: =VLOOKUP(R12,$AW$2:$AX$5,2) -> #N/A | AG12: =IF(P12>0,P12,0) -> #N/A | AY12: Altro | BB12: =+BB4+BB6+BB8+BB9+BB11 -> 5555.593 | BC12: =+BC4+BC6+BC8+BC9+BC11 -> 3800.9011 | BD12: =+BD4+BD6+BD8+BD9+BD11 -> 2021.9772 | BE12: =+BE4+BE6+BE8+BE9+BE11 -> 16127.181
E13: =+A13*C13*AB13/1000 -> 0 | F13: =+E13*$BA$3 -> 0 | I13: =+A13 -> 0 | M13: =+I13*K13*AC13/1000 -> 0 | N13: =+M13*$BA$3 -> 0 | O13: =+AE13 -> #N/A | P13: =+I13*O13 -> #N/A | W13: =+S13*U13*AD13/1000 -> 0 | X13: =+AF13 -> #N/A | Y13: =+Z13 -> #N/A | Z13: =+S13*X13 -> #N/A | AA13: =+I13*O13 -> #N/A | AB13: =IF(D13="SI",0.67,1) -> 1 | AC13: =IF(L13="SI",0.67,1) -> 1 | AD13: =IF(V13="SI",0.67,1) -> 1 | AE13: =VLOOKUP(H13,$AW$2:$AX$5,2) -> #N/A | AF13: =VLOOKUP(R13,$AW$2:$AX$5,2) -> #N/A | AG13: =IF(P13>0,P13,0) -> #N/A | BB13: =TRUNC(BB12,2) -> 5555.59 | BC13: =TRUNC(BC12,2) -> 3800.9 | BD13: =TRUNC(BD12,2) -> 2021.97 | BE13: =TRUNC(BE12,2) -> 16127.18
E14: =+A14*C14*AB14/1000 -> 0 | F14: =+E14*$BA$3 -> 0 | I14: =+A14 -> 0 | M14: =+I14*K14*AC14/1000 -> 0 | N14: =+M14*$BA$3 -> 0 | O14: =+AE14 -> #N/A | P14: =+I14*O14 -> #N/A | W14: =+S14*U14*AD14/1000 -> 0 | X14: =+AF14 -> #N/A | Y14: =+Z14 -> #N/A | Z14: =+S14*X14 -> #N/A | AA14: =+I14*O14 -> #N/A | AB14: =IF(D14="SI",0.67,1) -> 1 | AC14: =IF(L14="SI",0.67,1) -> 1 | AD14: =IF(V14="SI",0.67,1) -> 1 | AE14: =VLOOKUP(H14,$AW$2:$AX$5,2) -> #N/A | AF14: =VLOOKUP(R14,$AW$2:$AX$5,2) -> #N/A | AG14: =IF(P14>0,P14,0) -> #N/A
E15: =+A15*C15*AB15/1000 -> 0 | F15: =+E15*$BA$3 -> 0 | I15: =+A15 -> 0 | M15: =+I15*K15*AC15/1000 -> 0 | N15: =+M15*$BA$3 -> 0 | O15: =+AE15 -> #N/A | P15: =+I15*O15 -> #N/A | W15: =+S15*U15*AD15/1000 -> 0 | X15: =+AF15 -> #N/A | Y15: =+Z15 -> #N/A | Z15: =+S15*X15 -> #N/A | AA15: =+I15*O15 -> #N/A | AB15: =IF(D15="SI",0.67,1) -> 1 | AC15: =IF(L15="SI",0.67,1) -> 1 | AD15: =IF(V15="SI",0.67,1) -> 1 | AE15: =VLOOKUP(H15,$AW$2:$AX$5,2) -> #N/A | AF15: =VLOOKUP(R15,$AW$2:$AX$5,2) -> #N/A | AG15: =IF(P15>0,P15,0) -> #N/A | AV15: FONTE: ISPRA | AW15: 558.7 | AX15: g
E16: =+A16*C16*AB16/1000 -> 0 | F16: =+E16*$BA$3 -> 0 | I16: =+A16 -> 0 | M16: =+I16*K16*AC16/1000 -> 0 | N16: =+M16*$BA$3 -> 0 | O16: =+AE16 -> #N/A | P16: =+I16*O16 -> #N/A | W16: =+S16*U16*AD16/1000 -> 0 | X16: =+AF16 -> #N/A | Y16: =+Z16 -> #N/A | Z16: =+S16*X16 -> #N/A | AA16: =+I16*O16 -> #N/A | AB16: =IF(D16="SI",0.67,1) -> 1 | AC16: =IF(L16="SI",0.67,1) -> 1 | AD16: =IF(V16="SI",0.67,1) -> 1 | AE16: =VLOOKUP(H16,$AW$2:$AX$5,2) -> #N/A | AF16: =VLOOKUP(R16,$AW$2:$AX$5,2) -> #N/A | AG16: =IF(P16>0,P16,0) -> #N/A | AV16: Consumi Settore Elettrico | AW16: =+AW15/1000/1000 -> 0.0005587 | AX16: ton CO2
E17: =+A17*C17*AB17/1000 -> 0 | F17: =+E17*$BA$3 -> 0 | I17: =+A17 -> 0 | M17: =+I17*K17*AC17/1000 -> 0 | N17: =+M17*$BA$3 -> 0 | O17: =+AE17 -> #N/A | P17: =+I17*O17 -> #N/A | W17: =+S17*U17*AD17/1000 -> 0 | X17: =+AF17 -> #N/A | Y17: =+Z17 -> #N/A | Z17: =+S17*X17 -> #N/A | AA17: =+I17*O17 -> #N/A | AB17: =IF(D17="SI",0.67,1) -> 1 | AC17: =IF(L17="SI",0.67,1) -> 1 | AD17: =IF(V17="SI",0.67,1) -> 1 | AE17: =VLOOKUP(H17,$AW$2:$AX$5,2) -> #N/A | AF17: =VLOOKUP(R17,$AW$2:$AX$5,2) -> #N/A | AG17: =IF(P17>0,P17,0) -> #N/A | AW17: =+E81*1000 -> 0
E18: =+A18*C18*AB18/1000 -> 0 | F18: =+E18*$BA$3 -> 0 | I18: =+A18 -> 0 | M18: =+I18*K18*AC18/1000 -> 0 | N18: =+M18*$BA$3 -> 0 | O18: =+AE18 -> #N/A | P18: =+I18*O18 -> #N/A | W18: =+S18*U18*AD18/1000 -> 0 | X18: =+AF18 -> #N/A | Y18: =+Z18 -> #N/A | Z18: =+S18*X18 -> #N/A | AA18: =+I18*O18 -> #N/A | AB18: =IF(D18="SI",0.67,1) -> 1 | AC18: =IF(L18="SI",0.67,1) -> 1 | AD18: =IF(V18="SI",0.67,1) -> 1 | AE18: =VLOOKUP(H18,$AW$2:$AX$5,2) -> #N/A | AF18: =VLOOKUP(R18,$AW$2:$AX$5,2) -> #N/A | AG18: =IF(P18>0,P18,0) -> #N/A | AW18: =+AW16*AW17 -> 0
E19: =+A19*C19*AB19/1000 -> 0 | F19: =+E19*$BA$3 -> 0 | I19: =+A19 -> 0 | M19: =+I19*K19*AC19/1000 -> 0 | N19: =+M19*$BA$3 -> 0 | O19: =+AE19 -> #N/A | P19: =+I19*O19 -> #N/A | W19: =+S19*U19*AD19/1000 -> 0 | X19: =+AF19 -> #N/A | Y19: =+Z19 -> #N/A | Z19: =+S19*X19 -> #N/A | AA19: =+I19*O19 -> #N/A | AB19: =IF(D19="SI",0.67,1) -> 1 | AC19: =IF(L19="SI",0.67,1) -> 1 | AD19: =IF(V19="SI",0.67,1) -> 1 | AE19: =VLOOKUP(H19,$AW$2:$AX$5,2) -> #N/A | AF19: =VLOOKUP(R19,$AW$2:$AX$5,2) -> #N/A | AG19: =IF(P19>0,P19,0) -> #N/A | AW19: =+AW17*AW15 -> 0
E20: =+A20*C20*AB20/1000 -> 0 | F20: =+E20*$BA$3 -> 0 | I20: =+A20 -> 0 | M20: =+I20*K20*AC20/1000 -> 0 | N20: =+M20*$BA$3 -> 0 | O20: =+AE20 -> #N/A | P20: =+I20*O20 -> #N/A | W20: =+S20*U20*AD20/1000 -> 0 | X20: =+AF20 -> #N/A | Y20: =+Z20 -> #N/A | Z20: =+S20*X20 -> #N/A | AA20: =+I20*O20 -> #N/A | AB20: =IF(D20="SI",0.67,1) -> 1 | AC20: =IF(L20="SI",0.67,1) -> 1 | AD20: =IF(V20="SI",0.67,1) -> 1 | AE20: =VLOOKUP(H20,$AW$2:$AX$5,2) -> #N/A | AF20: =VLOOKUP(R20,$AW$2:$AX$5,2) -> #N/A | AG20: =IF(P20>0,P20,0) -> #N/A | AW20: =+AW19/1000000 -> 0
E21: =+A21*C21*AB21/1000 -> 0 | F21: =+E21*$BA$3 -> 0 | I21: =+A21 -> 0 | M21: =+I21*K21*AC21/1000 -> 0 | N21: =+M21*$BA$3 -> 0 | O21: =+AE21 -> #N/A | P21: =+I21*O21 -> #N/A | W21: =+S21*U21*AD21/1000 -> 0 | X21: =+AF21 -> #N/A | Y21: =+Z21 -> #N/A | Z21: =+S21*X21 -> #N/A | AA21: =+I21*O21 -> #N/A | AB21: =IF(D21="SI",0.67,1) -> 1 | AC21: =IF(L21="SI",0.67,1) -> 1 | AD21: =IF(V21="SI",0.67,1) -> 1 | AE21: =VLOOKUP(H21,$AW$2:$AX$5,2) -> #N/A | AF21: =VLOOKUP(R21,$AW$2:$AX$5,2) -> #N/A | AG21: =IF(P21>0,P21,0) -> #N/A
E22: =+A22*C22*AB22/1000 -> 0 | F22: =+E22*$BA$3 -> 0 | I22: =+A22 -> 0 | M22: =+I22*K22*AC22/1000 -> 0 | N22: =+M22*$BA$3 -> 0 | O22: =+AE22 -> #N/A | P22: =+I22*O22 -> #N/A | W22: =+S22*U22*AD22/1000 -> 0 | X22: =+AF22 -> #N/A | Y22: =+Z22 -> #N/A | Z22: =+S22*X22 -> #N/A | AA22: =+I22*O22 -> #N/A | AB22: =IF(D22="SI",0.67,1) -> 1 | AC22: =IF(L22="SI",0.67,1) -> 1 | AD22: =IF(V22="SI",0.67,1) -> 1 | AE22: =VLOOKUP(H22,$AW$2:$AX$5,2) -> #N/A | AF22: =VLOOKUP(R22,$AW$2:$AX$5,2) -> #N/A | AG22: =IF(P22>0,P22,0) -> #N/A
E23: =+A23*C23*AB23/1000 -> 0 | F23: =+E23*$BA$3 -> 0 | I23: =+A23 -> 0 | M23: =+I23*K23*AC23/1000 -> 0 | N23: =+M23*$BA$3 -> 0 | O23: =+AE23 -> #N/A | P23: =+I23*O23 -> #N/A | W23: =+S23*U23*AD23/1000 -> 0 | X23: =+AF23 -> #N/A | Y23: =+Z23 -> #N/A | Z23: =+S23*X23 -> #N/A | AA23: =+I23*O23 -> #N/A | AB23: =IF(D23="SI",0.67,1) -> 1 | AC23: =IF(L23="SI",0.67,1) -> 1 | AD23: =IF(V23="SI",0.67,1) -> 1 | AE23: =VLOOKUP(H23,$AW$2:$AX$5,2) -> #N/A | AF23: =VLOOKUP(R23,$AW$2:$AX$5,2) -> #N/A | AG23: =IF(P23>0,P23,0) -> #N/A
E24: =+A24*C24*AB24/1000 -> 0 | F24: =+E24*$BA$3 -> 0 | I24: =+A24 -> 0 | M24: =+I24*K24*AC24/1000 -> 0 | N24: =+M24*$BA$3 -> 0 | O24: =+AE24 -> #N/A | P24: =+I24*O24 -> #N/A | W24: =+S24*U24*AD24/1000 -> 0 | X24: =+AF24 -> #N/A | Y24: =+Z24 -> #N/A | Z24: =+S24*X24 -> #N/A | AA24: =+I24*O24 -> #N/A | AB24: =IF(D24="SI",0.67,1) -> 1 | AC24: =IF(L24="SI",0.67,1) -> 1 | AD24: =IF(V24="SI",0.67,1) -> 1 | AE24: =VLOOKUP(H24,$AW$2:$AX$5,2) -> #N/A | AF24: =VLOOKUP(R24,$AW$2:$AX$5,2) -> #N/A | AG24: =IF(P24>0,P24,0) -> #N/A
E25: =+A25*C25*AB25/1000 -> 0 | F25: =+E25*$BA$3 -> 0 | I25: =+A25 -> 0 | M25: =+I25*K25*AC25/1000 -> 0 | N25: =+M25*$BA$3 -> 0 | O25: =+AE25 -> #N/A | P25: =+I25*O25 -> #N/A | W25: =+S25*U25*AD25/1000 -> 0 | X25: =+AF25 -> #N/A | Y25: =+Z25 -> #N/A | Z25: =+S25*X25 -> #N/A | AA25: =+I25*O25 -> #N/A | AB25: =IF(D25="SI",0.67,1) -> 1 | AC25: =IF(L25="SI",0.67,1) -> 1 | AD25: =IF(V25="SI",0.67,1) -> 1 | AE25: =VLOOKUP(H25,$AW$2:$AX$5,2) -> #N/A | AF25: =VLOOKUP(R25,$AW$2:$AX$5,2) -> #N/A | AG25: =IF(P25>0,P25,0) -> #N/A
E26: =+A26*C26*AB26/1000 -> 0 | F26: =+E26*$BA$3 -> 0 | I26: =+A26 -> 0 | M26: =+I26*K26*AC26/1000 -> 0 | N26: =+M26*$BA$3 -> 0 | O26: =+AE26 -> #N/A | P26: =+I26*O26 -> #N/A | W26: =+S26*U26*AD26/1000 -> 0 | X26: =+AF26 -> #N/A | Y26: =+Z26 -> #N/A | Z26: =+S26*X26 -> #N/A | AA26: =+I26*O26 -> #N/A | AB26: =IF(D26="SI",0.67,1) -> 1 | AC26: =IF(L26="SI",0.67,1) -> 1 | AD26: =IF(V26="SI",0.67,1) -> 1 | AE26: =VLOOKUP(H26,$AW$2:$AX$5,2) -> #N/A | AF26: =VLOOKUP(R26,$AW$2:$AX$5,2) -> #N/A | AG26: =IF(P26>0,P26,0) -> #N/A
E27: =+A27*C27*AB27/1000 -> 0 | F27: =+E27*$BA$3 -> 0 | I27: =+A27 -> 0 | M27: =+I27*K27*AC27/1000 -> 0 | N27: =+M27*$BA$3 -> 0 | O27: =+AE27 -> #N/A | P27: =+I27*O27 -> #N/A | W27: =+S27*U27*AD27/1000 -> 0 | X27: =+AF27 -> #N/A | Y27: =+Z27 -> #N/A | Z27: =+S27*X27 -> #N/A | AA27: =+I27*O27 -> #N/A | AB27: =IF(D27="SI",0.67,1) -> 1 | AC27: =IF(L27="SI",0.67,1) -> 1 | AD27: =IF(V27="SI",0.67,1) -> 1 | AE27: =VLOOKUP(H27,$AW$2:$AX$5,2) -> #N/A | AF27: =VLOOKUP(R27,$AW$2:$AX$5,2) -> #N/A | AG27: =IF(P27>0,P27,0) -> #N/A
E28: =+A28*C28*AB28/1000 -> 0 | F28: =+E28*$BA$3 -> 0 | I28: =+A28 -> 0 | M28: =+I28*K28*AC28/1000 -> 0 | N28: =+M28*$BA$3 -> 0 | O28: =+AE28 -> #N/A | P28: =+I28*O28 -> #N/A | W28: =+S28*U28*AD28/1000 -> 0 | X28: =+AF28 -> #N/A | Y28: =+Z28 -> #N/A | Z28: =+S28*X28 -> #N/A | AA28: =+I28*O28 -> #N/A | AB28: =IF(D28="SI",0.67,1) -> 1 | AC28: =IF(L28="SI",0.67,1) -> 1 | AD28: =IF(V28="SI",0.67,1) -> 1 | AE28: =VLOOKUP(H28,$AW$2:$AX$5,2) -> #N/A | AF28: =VLOOKUP(R28,$AW$2:$AX$5,2) -> #N/A | AG28: =IF(P28>0,P28,0) -> #N/A
E29: =+A29*C29*AB29/1000 -> 0 | F29: =+E29*$BA$3 -> 0 | I29: =+A29 -> 0 | M29: =+I29*K29*AC29/1000 -> 0 | N29: =+M29*$BA$3 -> 0 | O29: =+AE29 -> #N/A | P29: =+I29*O29 -> #N/A | W29: =+S29*U29*AD29/1000 -> 0 | X29: =+AF29 -> #N/A | Y29: =+Z29 -> #N/A | Z29: =+S29*X29 -> #N/A | AA29: =+I29*O29 -> #N/A | AB29: =IF(D29="SI",0.67,1) -> 1 | AC29: =IF(L29="SI",0.67,1) -> 1 | AD29: =IF(V29="SI",0.67,1) -> 1 | AE29: =VLOOKUP(H29,$AW$2:$AX$5,2) -> #N/A | AF29: =VLOOKUP(R29,$AW$2:$AX$5,2) -> #N/A | AG29: =IF(P29>0,P29,0) -> #N/A
E30: =+A30*C30*AB30/1000 -> 0 | F30: =+E30*$BA$3 -> 0 | I30: =+A30 -> 0 | M30: =+I30*K30*AC30/1000 -> 0 | N30: =+M30*$BA$3 -> 0 | O30: =+AE30 -> #N/A | P30: =+I30*O30 -> #N/A | W30: =+S30*U30*AD30/1000 -> 0 | X30: =+AF30 -> #N/A | Y30: =+Z30 -> #N/A | Z30: =+S30*X30 -> #N/A | AA30: =+I30*O30 -> #N/A | AB30: =IF(D30="SI",0.67,1) -> 1 | AC30: =IF(L30="SI",0.67,1) -> 1 | AD30: =IF(V30="SI",0.67,1) -> 1 | AE30: =VLOOKUP(H30,$AW$2:$AX$5,2) -> #N/A | AF30: =VLOOKUP(R30,$AW$2:$AX$5,2) -> #N/A | AG30: =IF(P30>0,P30,0) -> #N/A
E31: =+A31*C31*AB31/1000 -> 0 | F31: =+E31*$BA$3 -> 0 | I31: =+A31 -> 0 | M31: =+I31*K31*AC31/1000 -> 0 | N31: =+M31*$BA$3 -> 0 | O31: =+AE31 -> #N/A | P31: =+I31*O31 -> #N/A | W31: =+S31*U31*AD31/1000 -> 0 | X31: =+AF31 -> #N/A | Y31: =+Z31 -> #N/A | Z31: =+S31*X31 -> #N/A | AA31: =+I31*O31 -> #N/A | AB31: =IF(D31="SI",0.67,1) -> 1 | AC31: =IF(L31="SI",0.67,1) -> 1 | AD31: =IF(V31="SI",0.67,1) -> 1 | AE31: =VLOOKUP(H31,$AW$2:$AX$5,2) -> #N/A | AF31: =VLOOKUP(R31,$AW$2:$AX$5,2) -> #N/A | AG31: =IF(P31>0,P31,0) -> #N/A
E32: =+A32*C32*AB32/1000 -> 0 | F32: =+E32*$BA$3 -> 0 | I32: =+A32 -> 0 | M32: =+I32*K32*AC32/1000 -> 0 | N32: =+M32*$BA$3 -> 0 | O32: =+AE32 -> #N/A | P32: =+I32*O32 -> #N/A | W32: =+S32*U32*AD32/1000 -> 0 | X32: =+AF32 -> #N/A | Y32: =+Z32 -> #N/A | Z32: =+S32*X32 -> #N/A | AA32: =+I32*O32 -> #N/A | AB32: =IF(D32="SI",0.67,1) -> 1 | AC32: =IF(L32="SI",0.67,1) -> 1 | AD32: =IF(V32="SI",0.67,1) -> 1 | AE32: =VLOOKUP(H32,$AW$2:$AX$5,2) -> #N/A | AF32: =VLOOKUP(R32,$AW$2:$AX$5,2) -> #N/A | AG32: =IF(P32>0,P32,0) -> #N/A
... E56: =+A56*C56*AB56/1000 -> 0 | F56: =+E56*$BA$3 -> 0 | I56: =+A56 -> 0 | M56: =+I56*K56*AC56/1000 -> 0 | N56: =+M56*$BA$3 -> 0 | O56: =+AE56 -> #N/A | P56: =+I56*O56 -> #N/A | W56: =+S56*U56*AD56/1000 -> 0 | X56: =+AF56 -> #N/A | Y56: =+Z56 -> #N/A | Z56: =+S56*X56 -> #N/A | AA56: =+I56*O56 -> #N/A | AB56: =IF(D56="SI",0.67,1) -> 1 | AC56: =IF(L56="SI",0.67,1) -> 1 | AD56: =IF(V56="SI",0.67,1) -> 1 | AE56: =VLOOKUP(H56,$AW$2:$AX$5,2) -> #N/A | AF56: =VLOOKUP(R56,$AW$2:$AX$5,2) -> #N/A | AG56: =IF(P56>0,P56,0) -> #N/A
A57: =SUM(A7:A56) -> 0 | B57: TOTALE | E57: =SUM(E7:E56) -> 0 | F57: =SUM(F7:F56) -> 0 | I57: =SUM(I7:I56) -> 0 | J57: TOTALE | M57: =SUM(M7:M56) -> 0 | N57: =SUM(N7:N56) -> 0 | P57: =+AB58 -> 0 | S57: =SUM(S7:S56) -> 0 | T57: TOTALE | W57: =SUM(W7:W56) -> 0 | Y57: =+AE58 -> 0
AB58: =SUMIFS(P7:P56,P7:P56,">0") -> 0 | AC58: =SUMIFS(Q7:Q56,Q7:Q56,">0") -> 0 | AD58: =SUMIFS(R7:R56,R7:R56,">0") -> 0 | AE58: =SUMIFS(Y7:Y56,Y7:Y56,">0") -> 0
A60: S.T.I. (scegliere da menù a tendina) * | B60: Descrizione dettagliata del servizio tecnologico integrato ed analisi del potenziale risparmio energetico atteso * | X60: Risparmio energetico Energia Primaria Atteso [kWh/anno] * | Y60: Costo Totale [€] (campo compilato in automatico)
Y61: =+AA61 -> 0 | AA61: =IF(A61="SI",$BE$13,0) -> 0 | AB61: =IF(A61="SI",1,0) -> 0 | AC61: =IF(B61="SI",1,0) -> 0 | AD61: =IF(C61="SI",1,0) -> 0
Y62: =+AA62 -> 0 | AA62: =IF(A62="SI",$BE$13,0) -> 0 | AB62: =IF(A62="SI",1,0) -> 0 | AC62: =IF(B62="SI",1,0) -> 0 | AD62: =IF(C62="SI",1,0) -> 0
Y63: =+AA63 -> 0 | AA63: =IF(A63="SI",$BE$13,0) -> 0 | AB63: =IF(A63="SI",1,0) -> 0 | AC63: =IF(B63="SI",1,0) -> 0 | AD63: =IF(C63="SI",1,0) -> 0
Y64: =+AA64 -> 0 | AA64: =IF(A64="SI",$BE$13,0) -> 0 | AB64: =IF(A64="SI",1,0) -> 0 | AC64: =IF(B64="SI",1,0) -> 0 | AD64: =IF(C64="SI",1,0) -> 0
Y65: =+AA65 -> 0 | AA65: =IF(A65="SI",$BE$13,0) -> 0 | AB65: =IF(A65="SI",1,0) -> 0 | AC65: =IF(B65="SI",1,0) -> 0 | AD65: =IF(C65="SI",1,0) -> 0
Y66: =+AA66 -> 0 | AA66: =IF(A66="SI",$BE$13,0) -> 0 | AB66: =IF(A66="SI",1,0) -> 0 | AC66: =IF(B66="SI",1,0) -> 0 | AD66: =IF(C66="SI",1,0) -> 0
Y67: =+AA67 -> 0 | AA67: =IF(A67="SI",$BE$13,0) -> 0 | AB67: =IF(A67="SI",1,0) -> 0 | AC67: =IF(B67="SI",1,0) -> 0 | AD67: =IF(C67="SI",1,0) -> 0
Y68: =+AA68 -> 0 | AA68: =IF(A68="SI",$BE$13,0) -> 0 | AB68: =IF(A68="SI",1,0) -> 0 | AC68: =IF(B68="SI",1,0) -> 0 | AD68: =IF(C68="SI",1,0) -> 0
Y69: =+AA69 -> 0 | AA69: =IF(A69="SI",$BE$13,0) -> 0 | AB69: =IF(A69="SI",1,0) -> 0 | AC69: =IF(B69="SI",1,0) -> 0 | AD69: =IF(C69="SI",1,0) -> 0
Y70: =+AA70 -> 0 | AA70: =IF(A70="SI",$BE$13,0) -> 0 | AB70: =IF(A70="SI",1,0) -> 0 | AC70: =IF(B70="SI",1,0) -> 0 | AD70: =IF(C70="SI",1,0) -> 0
Y71: =+AA71 -> 0 | AA71: =IF(A71="SI",$BE$13,0) -> 0 | AB71: =IF(A71="SI",1,0) -> 0 | AC71: =IF(B71="SI",1,0) -> 0 | AD71: =IF(C71="SI",1,0) -> 0
Y72: =+AA72 -> 0 | AA72: =IF(A72="SI",$BE$13,0) -> 0 | AB72: =IF(A72="SI",1,0) -> 0 | AC72: =IF(B72="SI",1,0) -> 0 | AD72: =IF(C72="SI",1,0) -> 0
... Y75: =+AA75 -> 0 | AA75: =IF(A75="SI",$BE$13,0) -> 0 | AB75: =IF(A75="SI",1,0) -> 0 | AC75: =IF(B75="SI",1,0) -> 0 | AD75: =IF(C75="SI",1,0) -> 0
A76: TOTALE | X76: =SUM(X61:X75) -> 0 | Y76: =SUM(Y61:Y75) -> 0 | AB76: =SUM(AB61:AB75) -> 0 | AC76: =SUM(AC61:AC75) -> 0 | AD76: =SUM(AD61:AD75) -> 0
A78: Costo Totale [€] (campo compilato in automatico) | E78: =+P57+Y57+Y76 -> 0
A79: Risparmio Energetico Opz. A/B/C [MWh/anno] (campo compilato in automatico) | E79: =+(F57-N57)/1000 -> 0
A80: Risparmio Energetico Atteso Opz. D [MWh/anno] (campo compilato in automatico) | E80: =+X76/1000 -> 0
A81: Risparmio Energetico Totale [MWh/anno] (campo compilato in automatico) | E81: =+E79+E80 -> 0
A82: Riduzione emissioni [ton. CO2/anno] (campo compilato in automatico) | E82: =+E81*1000*AW16 -> 0
A84: NOTA: COMPILARE ESCLUSIVAMENTE LE CELLE IN GRIGIO
A85: * DATI OBBLIGATORI
A87: =+E78-Y76 -> 0 | B87: 312a
A88: =+Y76 -> 0 | B88: 331b
A89: =+A87+A88 -> 0 | B89: totale | C89: =+E78-A89 -> 0
A91: =+F57 -> 0 | B91: CONSUMO PRE | C91: =+A91/1000 -> 0
A92: =+N57 -> 0 | B92: CONSUMO POST | C92: =+N57/1000 -> 0
B93: RISPARMIO A/B/C | C93: =+C91-C92 -> 0
B94: RISPARMIO D | C94: =+E80 -> 0
B95: RISPARMIO TOTALE | C95: =+C93+C94 -> 0 | D95: =+E81-C95 -> 0
B96: PERCENTUALE RISPARMIO | C96: =+C95/C91 -> #DIV/0!
B98: PUNTI LUCE | C98: =+I57+S57 -> 0
B99: STI | C99: =+AB76 -> 0

Sheet PdI_6
AF1: PFTE
AF2: Progetto Esecutivo | AL2: 1 - | AM2: 2 - | AN2: 3 - | AO2: 4 - | AP2: 5 - | AW2: OPZIONE | AX2: IMPORTO
A3: =CONCATENATE(AJ3,AK3,'DATI DI PARTENZA'!H6) -> PERIMETRO DI INTERVENTO: | AF3: Nessun progetto | AJ3: PERIMETRO DI INTERVENTO | AK3: : | AL3: =+'DATI DI PARTENZA'!C6 -> 0 | AM3: =+'DATI DI PARTENZA'!D6 -> 0 | AN3: =+'DATI DI PARTENZA'!E6 -> 0 | AO3: =+'DATI DI PARTENZA'!F6 -> 0 | AP3: =+'DATI DI PARTENZA'!G6 -> 0 | AR3: =CONCATENATE(AW3,AU3,AS3,AT3) -> OPZIONE A: 5555,59 € | AS3: =+BB13 -> 5555.59 | AT3: € | AU3: : | AW3: OPZIONE A | AX3: =+BB13 -> 5555.59 | AY3: Vapori di Mercurio | AZ3: SI | BA3: 4151.875 | BB3: OPZA | BC3: OPZB | BD3: OPZC | BE3: OPZD
A4: INDIRIZZO DI RIFERIMENTO DEL POD - PERIMETRO DI INTERVENTO | X4: =+'DATI DI PARTENZA'!H7 -> 0 | AJ4: Perimetro di Intervento | AL4: =+'DATI DI PARTENZA'!C6 -> 0 | AM4: =+'DATI DI PARTENZA'!D6 -> 0 | AN4: =+'DATI DI PARTENZA'!E6 -> 0 | AO4: =+'DATI DI PARTENZA'!F6 -> 0 | AP4: =+'DATI DI PARTENZA'!G6 -> 0 | AR4: =CONCATENATE(AW4,AU4,AS4,AT4) -> OPZIONE B: 3800,9 € | AS4: =+BC13 -> 3800.9 | AT4: € | AU4: : | AW4: OPZIONE B | AX4: =+BC13 -> 3800.9 | AY4: Incandescenza | AZ4: NO | BB4: 3867.72 | BC4: 2646.13 | BD4: 1407.67 | BE4: 11227.5
A5: SITUAZIONE ANTE INTERVENTO | H5: SITUAZIONE POST INTERVENTO | R5: NUOVI PUNTI LUCE | AR5: =CONCATENATE(AW5,AU5,AS5,AT5) -> OPZIONE C: 2021,97 € | AS5: =+BD13 -> 2021.97 | AT5: € | AU5: : | AW5: OPZIONE C | AX5: =+BD13 -> 2021.97 | AY5: Fluorescenti Compatte | BB5: =+(0.22)-(0.22*'DATI DI PARTENZA'!$B$11) -> 0.22 | BC5: =+(0.22)-(0.22*'DATI DI PARTENZA'!$B$11) -> 0.22 | BD5: =+(0.22)-(0.22*'DATI DI PARTENZA'!$B$11) -> 0.22 | BE5: =+(0.22)-(0.22*'DATI DI PARTENZA'!$B$11) -> 0.22
A6: N° Punti Luce * | B6: Tipologia Sorgente Luminosa (scegliere da menù a tendina) * | C6: Potenza Nominale Unitaria (W) * | D6: Regolazione di flusso (scegliere da menù a tendina) * | E6: Potenza Complessiva [kW] (campo compilato in automatico) | F6: Consumo Energetico [kWh/anno] (campo compilato in automatico) | H6: Intervento (scegliere da menù a tendina) * | I6: N° Punti Luce (campo compilato in automatico) | J6: Tipologia Sorgente Luminosa (scegliere da menù a tendina) * | K6: Potenza Nominale Unitaria (W) * | L6: Regolazione di flusso (scegliere da menù a tendina) * | M6: Potenza Complessiva [kW] (campo compilato in automatico) | N6: Consumo Energetico [kWh/anno] (campo compilato in automatico) | O6: Costo Unitario [€] (campo compilato in automatico) | P6: Costo Totale [€] (campo compilato in automatico) | R6: Intervento (scegliere da menù a tendina) * | S6: N° Punti Luce * | T6: Tipologia Sorgente Luminosa (scegliere da menù a tendina) * | U6: Potenza Nominale Unitaria (W) * | V6: Regolazione di flusso (scegliere da menù a tendina) * | W6: Potenza Complessiva [kW] (campo compilato in automatico) | X6: Costo Unitario [€] (campo compilato in automatico) | Y6: Costo Totale [€] (campo compilato in automatico) | AE6: SOSTITUZIONE | AF6: NUOVI | AJ6: Perimetro di Intervento | AL6: =+'DATI DI PARTENZA'!C7 -> 0 | AM6: =+'DATI DI PARTENZA'!D7 -> 0 | AN6: =+'DATI DI PARTENZA'!E7 -> 0 | AO6: =+'DATI DI PARTENZA'!F7 -> 0 | AP6: =+'DATI DI PARTENZA'!G7 -> 0 | AR6: =CONCATENATE(AW6,AU6,AS6,AT6) -> OPZIONE D: 16127,18 € | AS6: =+BE13 -> 16127.18 | AT6: € | AU6: : | AW6: OPZIONE D | AX6: =+BE13 -> 16127.18 | AY6: Fluorescenti Tubolari | BB6: =+BB4*BB5 -> 850.8984 | BC6: =+BC4*BC5 -> 582.1486 | BD6: =+BD4*BD5 -> 309.6874 | BE6: =+BE4*BE5 -> 2470.05
E7: =+A7*C7*AB7/1000 -> 0 | F7: =+E7*$BA$3 -> 0 | I7: =+A7 -> 0 | M7: =+I7*K7*AC7/1000 -> 0 | N7: =+M7*$BA$3 -> 0 | O7: =+AE7 -> #N/A | P7: =+I7*O7 -> #N/A | W7: =+S7*U7*AD7/1000 -> 0 | X7: =+AF7 -> #N/A | Y7: =+Z7 -> #N/A | Z7: =+S7*X7 -> #N/A | AA7: =+I7*O7 -> #N/A | AB7: =IF(D7="SI",0.67,1) -> 1 | AC7: =IF(L7="SI",0.67,1) -> 1 | AD7: =IF(V7="SI",0.67,1) -> 1 | AE7: =VLOOKUP(H7,$AW$2:$AX$5,2) -> #N/A | AF7: =VLOOKUP(R7,$AW$2:$AX$5,2) -> #N/A | AG7: =IF(P7="NUMERO",P7,0) -> #N/A | AY7: Sodio Alta Pressione | BB7: 0.12 | BC7: 0.12 | BD7: 0.12 | BE7: 0.12
E8: =+A8*C8*AB8/1000 -> 0 | F8: =+E8*$BA$3 -> 0 | I8: =+A8 -> 0 | M8: =+I8*K8*AC8/1000 -> 0 | N8: =+M8*$BA$3 -> 0 | O8: =+AE8 -> #N/A | P8: =+I8*O8 -> #N/A | W8: =+S8*U8*AD8/1000 -> 0 | X8: =+AF8 -> #N/A | Y8: =+Z8 -> #N/A | Z8: =+S8*X8 -> #N/A | AA8: =+I8*O8 -> #N/A | AB8: =IF(D8="SI",0.67,1) -> 1 | AC8: =IF(L8="SI",0.67,1) -> 1 | AD8: =IF(V8="SI",0.67,1) -> 1 | AE8: =VLOOKUP(H8,$AW$2:$AX$5,2) -> #N/A | AF8: =VLOOKUP(R8,$AW$2:$AX$5,2) -> #N/A | AG8: =IF(P8>0,P8,0) -> #N/A | AY8: Sodio Bassa Pressione | BB8: =+BB4*BB7 -> 464.1264 | BC8: =+BC4*BC7 -> 317.5356 | BD8: =+BD4*BD7 -> 168.9204 | BE8: =+BE4*BE7 -> 1347.3
E9: =+A9*C9*AB9/1000 -> 0 | F9: =+E9*$BA$3 -> 0 | I9: =+A9 -> 0 | M9: =+I9*K9*AC9/1000 -> 0 | N9: =+M9*$BA$3 -> 0 | O9: =+AE9 -> #N/A | P9: =+I9*O9 -> #N/A | W9: =+S9*U9*AD9/1000 -> 0 | X9: =+AF9 -> #N/A | Y9: =+Z9 -> #N/A | Z9: =+S9*X9 -> #N/A | AA9: =+I9*O9 -> #N/A | AB9: =IF(D9="SI",0.67,1) -> 1 | AC9: =IF(L9="SI",0.67,1) -> 1 | AD9: =IF(V9="SI",0.67,1) -> 1 | AE9: =VLOOKUP(H9,$AW$2:$AX$5,2) -> #N/A | AF9: =VLOOKUP(R9,$AW$2:$AX$5,2) -> #N/A | AG9: =IF(P9>0,P9,0) -> #N/A | AY9: Ioduri Metallici | BB9: =+BB8*BB5 -> 102.10781 | BC9: =+BC8*BC5 -> 69.857832 | BD9: =+BD8*BD5 -> 37.162488 | BE9: =+BE8*BE5 -> 296.406
E10: =+A10*C10*AB10/1000 -> 0 | F10: =+E10*$BA$3 -> 0 | I10: =+A10 -> 0 | M10: =+I10*K10*AC10/1000 -> 0 | N10: =+M10*$BA$3 -> 0 | O10: =+AE10 -> #N/A | P10: =+I10*O10 -> #N/A | W10: =+S10*U10*AD10/1000 -> 0 | X10: =+AF10 -> #N/A | Y10: =+Z10 -> #N/A | Z10: =+S10*X10 -> #N/A | AA10: =+I10*O10 -> #N/A | AB10: =IF(D10="SI",0.67,1) -> 1 | AC10: =IF(L10="SI",0.67,1) -> 1 | AD10: =IF(V10="SI",0.67,1) -> 1 | AE10: =VLOOKUP(H10,$AW$2:$AX$5,2) -> #N/A | AF10: =VLOOKUP(R10,$AW$2:$AX$5,2) -> #N/A | AG10: =IF(P10>0,P10,0) -> #N/A | AW10: OPZIONE D | AX10: OPZIONE D | AY10: Alogena | BB10: 0.07 | BC10: 0.07 | BD10: 0.07 | BE10: 0.07
E11: =+A11*C11*AB11/1000 -> 0 | F11: =+E11*$BA$3 -> 0 | I11: =+A11 -> 0 | M11: =+I11*K11*AC11/1000 -> 0 | N11: =+M11*$BA$3 -> 0 | O11: =+AE11 -> #N/A | P11: =+I11*O11 -> #N/A | W11: =+S11*U11*AD11/1000 -> 0 | X11: =+AF11 -> #N/A | Y11: =+Z11 -> #N/A | Z11: =+S11*X11 -> #N/A | AA11: =+I11*O11 -> #N/A | AB11: =IF(D11="SI",0.67,1) -> 1 | AC11: =IF(L11="SI",0.67,1) -> 1 | AD11: =IF(V11="SI",0.67,1) -> 1 | AE11: =VLOOKUP(H11,$AW$2:$AX$5,2) -> #N/A | AF11: =VLOOKUP(R11,$AW$2:$AX$5,2) -> #N/A | AG11: =IF(P11>0,P11,0) -> #N/A | AY11: LED | BB11: =+BB10*BB4 -> 270.7404 | BC11: =+BC10*BC4 -> 185.2291 | BD11: =+BD10*BD4 -> 98.5369 | BE11: =+BE10*BE4 -> 785.925
E12: =+A12*C12*AB12/1000 -> 0 | F12: =+E12*$BA$3 -> 0 | I12: =+A12 -> 0 | M12: =+I12*K12*AC12/1000 -> 0 | N12: =+M12*$BA$3 -> 0 | O12: =+AE12 -> #N/A | P12: =+I12*O12 -> #N/A | W12: =+S12*U12*AD12/1000 -> 0 | X12: =+AF12 -> #N/A | Y12: =+Z12 -> #N/A | Z12: =+S12*X12 -> #N/A | AA12: =+I12*O12 -> #N/A | AB12: =IF(D12="SI",0.67,1) -> 1 | AC12: =IF(L12="SI",0.67,1) -> 1 | AD12: =IF(V12="SI",0.67,1) -> 1 | AE12: =VLOOKUP(H12,$AW$2:$AX$5,2) -> #N/A | AF12: =VLOOKUP(R12,$AW$2:$AX$5,2) -> #N/A | AG12: =IF(P12>0,P12,0) -> #N/A | AY12: Altro | BB12: =+BB4+BB6+BB8+BB9+BB11 -> 5555.593 | BC12: =+BC4+BC6+BC8+BC9+BC11 -> 3800.9011 | BD12: =+BD4+BD6+BD8+BD9+BD11 -> 2021.9772 | BE12: =+BE4+BE6+BE8+BE9+BE11 -> 16127.181
E13: =+A13*C13*AB13/1000 -> 0 | F13: =+E13*$BA$3 -> 0 | I13: =+A13 -> 0 | M13: =+I13*K13*AC13/1000 -> 0 | N13: =+M13*$BA$3 -> 0 | O13: =+AE13 -> #N/A | P13: =+I13*O13 -> #N/A | W13: =+S13*U13*AD13/1000 -> 0 | X13: =+AF13 -> #N/A | Y13: =+Z13 -> #N/A | Z13: =+S13*X13 -> #N/A | AA13: =+I13*O13 -> #N/A | AB13: =IF(D13="SI",0.67,1) -> 1 | AC13: =IF(L13="SI",0.67,1) -> 1 | AD13: =IF(V13="SI",0.67,1) -> 1 | AE13: =VLOOKUP(H13,$AW$2:$AX$5,2) -> #N/A | AF13: =VLOOKUP(R13,$AW$2:$AX$5,2) -> #N/A | AG13: =IF(P13>0,P13,0) -> #N/A | BB13: =TRUNC(BB12,2) -> 5555.59 | BC13: =TRUNC(BC12,2) -> 3800.9 | BD13: =TRUNC(BD12,2) -> 2021.97 | BE13: =TRUNC(BE12,2) -> 16127.18
E14: =+A14*C14*AB14/1000 -> 0 | F14: =+E14*$BA$3 -> 0 | I14: =+A14 -> 0 | M14: =+I14*K14*AC14/1000 -> 0 | N14: =+M14*$BA$3 -> 0 | O14: =+AE14 -> #N/A | P14: =+I14*O14 -> #N/A | W14: =+S14*U14*AD14/1000 -> 0 | X14: =+AF14 -> #N/A | Y14: =+Z14 -> #N/A | Z14: =+S14*X14 -> #N/A | AA14: =+I14*O14 -> #N/A | AB14: =IF(D14="SI",0.67,1) -> 1 | AC14: =IF(L14="SI",0.67,1) -> 1 | AD14: =IF(V14="SI",0.67,1) -> 1 | AE14: =VLOOKUP(H14,$AW$2:$AX$5,2) -> #N/A | AF14: =VLOOKUP(R14,$AW$2:$AX$5,2) -> #N/A | AG14: =IF(P14>0,P14,0) -> #N/A
E15: =+A15*C15*AB15/1000 -> 0 | F15: =+E15*$BA$3 -> 0 | I15: =+A15 -> 0 | M15: =+I15*K15*AC15/1000 -> 0 | N15: =+M15*$BA$3 -> 0 | O15: =+AE15 -> #N/A | P15: =+I15*O15 -> #N/A | W15: =+S15*U15*AD15/1000 -> 0 | X15: =+AF15 -> #N/A | Y15: =+Z15 -> #N/A | Z15: =+S15*X15 -> #N/A | AA15: =+I15*O15 -> #N/A | AB15: =IF(D15="SI",0.67,1) -> 1 | AC15: =IF(L15="SI",0.67,1) -> 1 | AD15: =IF(V15="SI",0.67,1) -> 1 | AE15: =VLOOKUP(H15,$AW$2:$AX$5,2) -> #N/A | AF15: =VLOOKUP(R15,$AW$2:$AX$5,2) -> #N/A | AG15: =IF(P15>0,P15,0) -> #N/A | AV15: FONTE: ISPRA | AW15: 558.7 | AX15: g
E16: =+A16*C16*AB16/1000 -> 0 | F16: =+E16*$BA$3 -> 0 | I16: =+A16 -> 0 | M16: =+I16*K16*AC16/1000 -> 0 | N16: =+M16*$BA$3 -> 0 | O16: =+AE16 -> #N/A | P16: =+I16*O16 -> #N/A | W16: =+S16*U16*AD16/1000 -> 0 | X16: =+AF16 -> #N/A | Y16: =+Z16 -> #N/A | Z16: =+S16*X16 -> #N/A | AA16: =+I16*O16 -> #N/A | AB16: =IF(D16="SI",0.67,1) -> 1 | AC16: =IF(L16="SI",0.67,1) -> 1 | AD16: =IF(V16="SI",0.67,1) -> 1 | AE16: =VLOOKUP(H16,$AW$2:$AX$5,2) -> #N/A | AF16: =VLOOKUP(R16,$AW$2:$AX$5,2) -> #N/A | AG16: =IF(P16>0,P16,0) -> #N/A | AV16: Consumi Settore Elettrico | AW16: =+AW15/1000/1000 -> 0.0005587 | AX16: ton CO2
E17: =+A17*C17*AB17/1000 -> 0 | F17: =+E17*$BA$3 -> 0 | I17: =+A17 -> 0 | M17: =+I17*K17*AC17/1000 -> 0 | N17: =+M17*$BA$3 -> 0 | O17: =+AE17 -> #N/A | P17: =+I17*O17 -> #N/A | W17: =+S17*U17*AD17/1000 -> 0 | X17: =+AF17 -> #N/A | Y17: =+Z17 -> #N/A | Z17: =+S17*X17 -> #N/A | AA17: =+I17*O17 -> #N/A | AB17: =IF(D17="SI",0.67,1) -> 1 | AC17: =IF(L17="SI",0.67,1) -> 1 | AD17: =IF(V17="SI",0.67,1) -> 1 | AE17: =VLOOKUP(H17,$AW$2:$AX$5,2) -> #N/A | AF17: =VLOOKUP(R17,$AW$2:$AX$5,2) -> #N/A | AG17: =IF(P17>0,P17,0) -> #N/A | AW17: =+E81*1000 -> 0
E18: =+A18*C18*AB18/1000 -> 0 | F18: =+E18*$BA$3 -> 0 | I18: =+A18 -> 0 | M18: =+I18*K18*AC18/1000 -> 0 | N18: =+M18*$BA$3 -> 0 | O18: =+AE18 -> #N/A | P18: =+I18*O18 -> #N/A | W18: =+S18*U18*AD18/1000 -> 0 | X18: =+AF18 -> #N/A | Y18: =+Z18 -> #N/A | Z18: =+S18*X18 -> #N/A | AA18: =+I18*O18 -> #N/A | AB18: =IF(D18="SI",0.67,1) -> 1 | AC18: =IF(L18="SI",0.67,1) -> 1 | AD18: =IF(V18="SI",0.67,1) -> 1 | AE18: =VLOOKUP(H18,$AW$2:$AX$5,2) -> #N/A | AF18: =VLOOKUP(R18,$AW$2:$AX$5,2) -> #N/A | AG18: =IF(P18>0,P18,0) -> #N/A | AW18: =+AW16*AW17 -> 0
E19: =+A19*C19*AB19/1000 -> 0 | F19: =+E19*$BA$3 -> 0 | I19: =+A19 -> 0 | M19: =+I19*K19*AC19/1000 -> 0 | N19: =+M19*$BA$3 -> 0 | O19: =+AE19 -> #N/A | P19: =+I19*O19 -> #N/A | W19: =+S19*U19*AD19/1000 -> 0 | X19: =+AF19 -> #N/A | Y19: =+Z19 -> #N/A | Z19: =+S19*X19 -> #N/A | AA19: =+I19*O19 -> #N/A | AB19: =IF(D19="SI",0.67,1) -> 1 | AC19: =IF(L19="SI",0.67,1) -> 1 | AD19: =IF(V19="SI",0.67,1) -> 1 | AE19: =VLOOKUP(H19,$AW$2:$AX$5,2) -> #N/A | AF19: =VLOOKUP(R19,$AW$2:$AX$5,2) -> #N/A | AG19: =IF(P19>0,P19,0) -> #N/A | AW19: =+AW17*AW15 -> 0
E20: =+A20*C20*AB20/1000 -> 0 | F20: =+E20*$BA$3 -> 0 | I20: =+A20 -> 0 | M20: =+I20*K20*AC20/1000 -> 0 | N20: =+M20*$BA$3 -> 0 | O20: =+AE20 -> #N/A | P20: =+I20*O20 -> #N/A | W20: =+S20*U20*AD20/1000 -> 0 | X20: =+AF20 -> #N/A | Y20: =+Z20 -> #N/A | Z20: =+S20*X20 -> #N/A | AA20: =+I20*O20 -> #N/A | AB20: =IF(D20="SI",0.67,1) -> 1 | AC20: =IF(L20="SI",0.67,1) -> 1 | AD20: =IF(V20="SI",0.67,1) -> 1 | AE20: =VLOOKUP(H20,$AW$2:$AX$5,2) -> #N/A | AF20: =VLOOKUP(R20,$AW$2:$AX$5,2) -> #N/A | AG20: =IF(P20>0,P20,0) -> #N/A | AW20: =+AW19/1000000 -> 0
E21: =+A21*C21*AB21/1000 -> 0 | F21: =+E21*$BA$3 -> 0 | I21: =+A21 -> 0 | M21: =+I21*K21*AC21/1000 -> 0 | N21: =+M21*$BA$3 -> 0 | O21: =+AE21 -> #N/A | P21: =+I21*O21 -> #N/A | W21: =+S21*U21*AD21/1000 -> 0 | X21: =+AF21 -> #N/A | Y21: =+Z21 -> #N/A | Z21: =+S21*X21 -> #N/A | AA21: =+I21*O21 -> #N/A | AB21: =IF(D21="SI",0.67,1) -> 1 | AC21: =IF(L21="SI",0.67,1) -> 1 | AD21: =IF(V21="SI",0.67,1) -> 1 | AE21: =VLOOKUP(H21,$AW$2:$AX$5,2) -> #N/A | AF21: =VLOOKUP(R21,$AW$2:$AX$5,2) -> #N/A | AG21: =IF(P21>0,P21,0) -> #N/A
E22: =+A22*C22*AB22/1000 -> 0 | F22: =+E22*$BA$3 -> 0 | I22: =+A22 -> 0 | M22: =+I22*K22*AC22/1000 -> 0 | N22: =+M22*$BA$3 -> 0 | O22: =+AE22 -> #N/A | P22: =+I22*O22 -> #N/A | W22: =+S22*U22*AD22/1000 -> 0 | X22: =+AF22 -> #N/A | Y22: =+Z22 -> #N/A | Z22: =+S22*X22 -> #N/A | AA22: =+I22*O22 -> #N/A | AB22: =IF(D22="SI",0.67,1) -> 1 | AC22: =IF(L22="SI",0.67,1) -> 1 | AD22: =IF(V22="SI",0.67,1) -> 1 | AE22: =VLOOKUP(H22,$AW$2:$AX$5,2) -> #N/A | AF22: =VLOOKUP(R22,$AW$2:$AX$5,2) -> #N/A | AG22: =IF(P22>0,P22,0) -> #N/A
E23: =+A23*C23*AB23/1000 -> 0 | F23: =+E23*$BA$3 -> 0 | I23: =+A23 -> 0 | M23: =+I23*K23*AC23/1000 -> 0 | N23: =+M23*$BA$3 -> 0 | O23: =+AE23 -> #N/A | P23: =+I23*O23 -> #N/A | W23: =+S23*U23*AD23/1000 -> 0 | X23: =+AF23 -> #N/A | Y23: =+Z23 -> #N/A | Z23: =+S23*X23 -> #N/A | AA23: =+I23*O23 -> #N/A | AB23: =IF(D23="SI",0.67,1) -> 1 | AC23: =IF(L23="SI",0.67,1) -> 1 | AD23: =IF(V23="SI",0.67,1) -> 1 | AE23: =VLOOKUP(H23,$AW$2:$AX$5,2) -> #N/A | AF23: =VLOOKUP(R23,$AW$2:$AX$5,2) -> #N/A | AG23: =IF(P23>0,P23,0) -> #N/A
E24: =+A24*C24*AB24/1000 -> 0 | F24: =+E24*$BA$3 -> 0 | I24: =+A24 -> 0 | M24: =+I24*K24*AC24/1000 -> 0 | N24: =+M24*$BA$3 -> 0 | O24: =+AE24 -> #N/A | P24: =+I24*O24 -> #N/A | W24: =+S24*U24*AD24/1000 -> 0 | X24: =+AF24 -> #N/A | Y24: =+Z24 -> #N/A | Z24: =+S24*X24 -> #N/A | AA24: =+I24*O24 -> #N/A | AB24: =IF(D24="SI",0.67,1) -> 1 | AC24: =IF(L24="SI",0.67,1) -> 1 | AD24: =IF(V24="SI",0.67,1) -> 1 | AE24: =VLOOKUP(H24,$AW$2:$AX$5,2) -> #N/A | AF24: =VLOOKUP(R24,$AW$2:$AX$5,2) -> #N/A | AG24: =IF(P24>0,P24,0) -> #N/A
E25: =+A25*C25*AB25/1000 -> 0 | F25: =+E25*$BA$3 -> 0 | I25: =+A25 -> 0 | M25: =+I25*K25*AC25/1000 -> 0 | N25: =+M25*$BA$3 -> 0 | O25: =+AE25 -> #N/A | P25: =+I25*O25 -> #N/A | W25: =+S25*U25*AD25/1000 -> 0 | X25: =+AF25 -> #N/A | Y25: =+Z25 -> #N/A | Z25: =+S25*X25 -> #N/A | AA25: =+I25*O25 -> #N/A | AB25: =IF(D25="SI",0.67,1) -> 1 | AC25: =IF(L25="SI",0.67,1) -> 1 | AD25: =IF(V25="SI",0.67,1) -> 1 | AE25: =VLOOKUP(H25,$AW$2:$AX$5,2) -> #N/A | AF25: =VLOOKUP(R25,$AW$2:$AX$5,2) -> #N/A | AG25: =IF(P25>0,P25,0) -> #N/A
E26: =+A26*C26*AB26/1000 -> 0 | F26: =+E26*$BA$3 -> 0 | I26: =+A26 -> 0 | M26: =+I26*K26*AC26/1000 -> 0 | N26: =+M26*$BA$3 -> 0 | O26: =+AE26 -> #N/A | P26: =+I26*O26 -> #N/A | W26: =+S26*U26*AD26/1000 -> 0 | X26: =+AF26 -> #N/A | Y26: =+Z26 -> #N/A | Z26: =+S26*X26 -> #N/A | AA26: =+I26*O26 -> #N/A | AB26: =IF(D26="SI",0.67,1) -> 1 | AC26: =IF(L26="SI",0.67,1) -> 1 | AD26: =IF(V26="SI",0.67,1) -> 1 | AE26: =VLOOKUP(H26,$AW$2:$AX$5,2) -> #N/A | AF26: =VLOOKUP(R26,$AW$2:$AX$5,2) -> #N/A | AG26: =IF(P26>0,P26,0) -> #N/A
E27: =+A27*C27*AB27/1000 -> 0 | F27: =+E27*$BA$3 -> 0 | I27: =+A27 -> 0 | M27: =+I27*K27*AC27/1000 -> 0 | N27: =+M27*$BA$3 -> 0 | O27: =+AE27 -> #N/A | P27: =+I27*O27 -> #N/A | W27: =+S27*U27*AD27/1000 -> 0 | X27: =+AF27 -> #N/A | Y27: =+Z27 -> #N/A | Z27: =+S27*X27 -> #N/A | AA27: =+I27*O27 -> #N/A | AB27: =IF(D27="SI",0.67,1) -> 1 | AC27: =IF(L27="SI",0.67,1) -> 1 | AD27: =IF(V27="SI",0.67,1) -> 1 | AE27: =VLOOKUP(H27,$AW$2:$AX$5,2) -> #N/A | AF27: =VLOOKUP(R27,$AW$2:$AX$5,2) -> #N/A | AG27: =IF(P27>0,P27,0) -> #N/A
E28: =+A28*C28*AB28/1000 -> 0 | F28: =+E28*$BA$3 -> 0 | I28: =+A28 -> 0 | M28: =+I28*K28*AC28/1000 -> 0 | N28: =+M28*$BA$3 -> 0 | O28: =+AE28 -> #N/A | P28: =+I28*O28 -> #N/A | W28: =+S28*U28*AD28/1000 -> 0 | X28: =+AF28 -> #N/A | Y28: =+Z28 -> #N/A | Z28: =+S28*X28 -> #N/A | AA28: =+I28*O28 -> #N/A | AB28: =IF(D28="SI",0.67,1) -> 1 | AC28: =IF(L28="SI",0.67,1) -> 1 | AD28: =IF(V28="SI",0.67,1) -> 1 | AE28: =VLOOKUP(H28,$AW$2:$AX$5,2) -> #N/A | AF28: =VLOOKUP(R28,$AW$2:$AX$5,2) -> #N/A | AG28: =IF(P28>0,P28,0) -> #N/A
E29: =+A29*C29*AB29/1000 -> 0 | F29: =+E29*$BA$3 -> 0 | I29: =+A29 -> 0 | M29: =+I29*K29*AC29/1000 -> 0 | N29: =+M29*$BA$3 -> 0 | O29: =+AE29 -> #N/A | P29: =+I29*O29 -> #N/A | W29: =+S29*U29*AD29/1000 -> 0 | X29: =+AF29 -> #N/A | Y29: =+Z29 -> #N/A | Z29: =+S29*X29 -> #N/A | AA29: =+I29*O29 -> #N/A | AB29: =IF(D29="SI",0.67,1) -> 1 | AC29: =IF(L29="SI",0.67,1) -> 1 | AD29: =IF(V29="SI",0.67,1) -> 1 | AE29: =VLOOKUP(H29,$AW$2:$AX$5,2) -> #N/A | AF29: =VLOOKUP(R29,$AW$2:$AX$5,2) -> #N/A | AG29: =IF(P29>0,P29,0) -> #N/A
E30: =+A30*C30*AB30/1000 -> 0 | F30: =+E30*$BA$3 -> 0 | I30: =+A30 -> 0 | M30: =+I30*K30*AC30/1000 -> 0 | N30: =+M30*$BA$3 -> 0 | O30: =+AE30 -> #N/A | P30: =+I30*O30 -> #N/A | W30: =+S30*U30*AD30/1000 -> 0 | X30: =+AF30 -> #N/A | Y30: =+Z30 -> #N/A | Z30: =+S30*X30 -> #N/A | AA30: =+I30*O30 -> #N/A | AB30: =IF(D30="SI",0.67,1) -> 1 | AC30: =IF(L30="SI",0.67,1) -> 1 | AD30: =IF(V30="SI",0.67,1) -> 1 | AE30: =VLOOKUP(H30,$AW$2:$AX$5,2) -> #N/A | AF30: =VLOOKUP(R30,$AW$2:$AX$5,2) -> #N/A | AG30: =IF(P30>0,P30,0) -> #N/A
E31: =+A31*C31*AB31/1000 -> 0 | F31: =+E31*$BA$3 -> 0 | I31: =+A31 -> 0 | M31: =+I31*K31*AC31/1000 -> 0 | N31: =+M31*$BA$3 -> 0 | O31: =+AE31 -> #N/A | P31: =+I31*O31 -> #N/A | W31: =+S31*U31*AD31/1000 -> 0 | X31: =+AF31 -> #N/A | Y31: =+Z31 -> #N/A | Z31: =+S31*X31 -> #N/A | AA31: =+I31*O31 -> #N/A | AB31: =IF(D31="SI",0.67,1) -> 1 | AC31: =IF(L31="SI",0.67,1) -> 1 | AD31: =IF(V31="SI",0.67,1) -> 1 | AE31: =VLOOKUP(H31,$AW$2:$AX$5,2) -> #N/A | AF31: =VLOOKUP(R31,$AW$2:$AX$5,2) -> #N/A | AG31: =IF(P31>0,P31,0) -> #N/A
E32: =+A32*C32*AB32/1000 -> 0 | F32: =+E32*$BA$3 -> 0 | I32: =+A32 -> 0 | M32: =+I32*K32*AC32/1000 -> 0 | N32: =+M32*$BA$3 -> 0 | O32: =+AE32 -> #N/A | P32: =+I32*O32 -> #N/A | W32: =+S32*U32*AD32/1000 -> 0 | X32: =+AF32 -> #N/A | Y32: =+Z32 -> #N/A | Z32: =+S32*X32 -> #N/A | AA32: =+I32*O32 -> #N/A | AB32: =IF(D32="SI",0.67,1) -> 1 | AC32: =IF(L32="SI",0.67,1) -> 1 | AD32: =IF(V32="SI",0.67,1) -> 1 | AE32: =VLOOKUP(H32,$AW$2:$AX$5,2) -> #N/A | AF32: =VLOOKUP(R32,$AW$2:$AX$5,2) -> #N/A | AG32: =IF(P32>0,P32,0) -> #N/A
... E56: =+A56*C56*AB56/1000 -> 0 | F56: =+E56*$BA$3 -> 0 | I56: =+A56 -> 0 | M56: =+I56*K56*AC56/1000 -> 0 | N56: =+M56*$BA$3 -> 0 | O56: =+AE56 -> #N/A | P56: =+I56*O56 -> #N/A | W56: =+S56*U56*AD56/1000 -> 0 | X56: =+AF56 -> #N/A | Y56: =+Z56 -> #N/A | Z56: =+S56*X56 -> #N/A | AA56: =+I56*O56 -> #N/A | AB56: =IF(D56="SI",0.67,1) -> 1 | AC56: =IF(L56="SI",0.67,1) -> 1 | AD56: =IF(V56="SI",0.67,1) -> 1 | AE56: =VLOOKUP(H56,$AW$2:$AX$5,2) -> #N/A | AF56: =VLOOKUP(R56,$AW$2:$AX$5,2) -> #N/A | AG56: =IF(P56>0,P56,0) -> #N/A
A57: =SUM(A7:A56) -> 0 | B57: TOTALE | E57: =SUM(E7:E56) -> 0 | F57: =SUM(F7:F56) -> 0 | I57: =SUM(I7:I56) -> 0 | J57: TOTALE | M57: =SUM(M7:M56) -> 0 | N57: =SUM(N7:N56) -> 0 | P57: =+AB58 -> 0 | S57: =SUM(S7:S56) -> 0 | T57: TOTALE | W57: =SUM(W7:W56) -> 0 | Y57: =+AE58 -> 0
AB58: =SUMIFS(P7:P56,P7:P56,">0") -> 0 | AC58: =SUMIFS(Q7:Q56,Q7:Q56,">0") -> 0 | AD58: =SUMIFS(R7:R56,R7:R56,">0") -> 0 | AE58: =SUMIFS(Y7:Y56,Y7:Y56,">0") -> 0
A60: S.T.I. (scegliere da menù a tendina) * | B60: Descrizione dettagliata del servizio tecnologico integrato ed analisi del potenziale risparmio energetico atteso * | X60: Risparmio energetico Energia Primaria Atteso [kWh/anno] * | Y60: Costo Totale [€] (campo compilato in automatico)
Y61: =+AA61 -> 0 | AA61: =IF(A61="SI",$BE$13,0) -> 0 | AB61: =IF(A61="SI",1,0) -> 0 | AC61: =IF(B61="SI",1,0) -> 0 | AD61: =IF(C61="SI",1,0) -> 0
Y62: =+AA62 -> 0 | AA62: =IF(A62="SI",$BE$13,0) -> 0 | AB62: =IF(A62="SI",1,0) -> 0 | AC62: =IF(B62="SI",1,0) -> 0 | AD62: =IF(C62="SI",1,0) -> 0
Y63: =+AA63 -> 0 | AA63: =IF(A63="SI",$BE$13,0) -> 0 | AB63: =IF(A63="SI",1,0) -> 0 | AC63: =IF(B63="SI",1,0) -> 0 | AD63: =IF(C63="SI",1,0) -> 0
Y64: =+AA64 -> 0 | AA64: =IF(A64="SI",$BE$13,0) -> 0 | AB64: =IF(A64="SI",1,0) -> 0 | AC64: =IF(B64="SI",1,0) -> 0 | AD64: =IF(C64="SI",1,0) -> 0
Y65: =+AA65 -> 0 | AA65: =IF(A65="SI",$BE$13,0) -> 0 | AB65: =IF(A65="SI",1,0) -> 0 | AC65: =IF(B65="SI",1,0) -> 0 | AD65: =IF(C65="SI",1,0) -> 0
Y66: =+AA66 -> 0 | AA66: =IF(A66="SI",$BE$13,0) -> 0 | AB66: =IF(A66="SI",1,0) -> 0 | AC66: =IF(B66="SI",1,0) -> 0 | AD66: =IF(C66="SI",1,0) -> 0
Y67: =+AA67 -> 0 | AA67: =IF(A67="SI",$BE$13,0) -> 0 | AB67: =IF(A67="SI",1,0) -> 0 | AC67: =IF(B67="SI",1,0) -> 0 | AD67: =IF(C67="SI",1,0) -> 0
Y68: =+AA68 -> 0 | AA68: =IF(A68="SI",$BE$13,0) -> 0 | AB68: =IF(A68="SI",1,0) -> 0 | AC68: =IF(B68="SI",1,0) -> 0 | AD68: =IF(C68="SI",1,0) -> 0
Y69: =+AA69 -> 0 | AA69: =IF(A69="SI",$BE$13,0) -> 0 | AB69: =IF(A69="SI",1,0) -> 0 | AC69: =IF(B69="SI",1,0) -> 0 | AD69: =IF(C69="SI",1,0) -> 0
Y70: =+AA70 -> 0 | AA70: =IF(A70="SI",$BE$13,0) -> 0 | AB70: =IF(A70="SI",1,0) -> 0 | AC70: =IF(B70="SI",1,0) -> 0 | AD70: =IF(C70="SI",1,0) -> 0
Y71: =+AA71 -> 0 | AA71: =IF(A71="SI",$BE$13,0) -> 0 | AB71: =IF(A71="SI",1,0) -> 0 | AC71: =IF(B71="SI",1,0) -> 0 | AD71: =IF(C71="SI",1,0) -> 0
Y72: =+AA72 -> 0 | AA72: =IF(A72="SI",$BE$13,0) -> 0 | AB72: =IF(A72="SI",1,0) -> 0 | AC72: =IF(B72="SI",1,0) -> 0 | AD72: =IF(C72="SI",1,0) -> 0
... Y75: =+AA75 -> 0 | AA75: =IF(A75="SI",$BE$13,0) -> 0 | AB75: =IF(A75="SI",1,0) -> 0 | AC75: =IF(B75="SI",1,0) -> 0 | AD75: =IF(C75="SI",1,0) -> 0
A76: TOTALE | X76: =SUM(X61:X75) -> 0 | Y76: =SUM(Y61:Y75) -> 0 | AB76: =SUM(AB61:AB75) -> 0 | AC76: =SUM(AC61:AC75) -> 0 | AD76: =SUM(AD61:AD75) -> 0
A78: Costo Totale [€] (campo compilato in automatico) | E78: =+P57+Y57+Y76 -> 0
A79: Risparmio Energetico Opz. A/B/C [MWh/anno] (campo compilato in automatico) | E79: =+(F57-N57)/1000 -> 0
A80: Risparmio Energetico Atteso Opz. D [MWh/anno] (campo compilato in automatico) | E80: =+X76/1000 -> 0
A81: Risparmio Energetico Totale [MWh/anno] (campo compilato in automatico) | E81: =+E79+E80 -> 0
A82: Riduzione emissioni [ton. CO2/anno] (campo compilato in automatico) | E82: =+E81*1000*AW16 -> 0
A84: NOTA: COMPILARE ESCLUSIVAMENTE LE CELLE IN GRIGIO
A85: * DATI OBBLIGATORI | B85: * DATI OBBLIGATORI
A87: =+E78-Y76 -> 0 | B87: 312a
A88: =+Y76 -> 0 | B88: 331b
A89: =+A87+A88 -> 0 | B89: totale | C89: =+E78-A89 -> 0
A91: =+F57 -> 0 | B91: CONSUMO PRE | C91: =+A91/1000 -> 0
A92: =+N57 -> 0 | B92: CONSUMO POST | C92: =+N57/1000 -> 0
B93: RISPARMIO A/B/C | C93: =+C91-C92 -> 0
B94: RISPARMIO D | C94: =+E80 -> 0
B95: RISPARMIO TOTALE | C95: =+C93+C94 -> 0 | D95: =+E81-C95 -> 0
B96: PERCENTUALE RISPARMIO | C96: =+C95/C91 -> #DIV/0!
B98: PUNTI LUCE | C98: =+I57+S57 -> 0
B99: STI | C99: =+AB76 -> 0

Sheet PdI_7
AF1: PFTE
AF2: Progetto Esecutivo | AL2: 1 - | AM2: 2 - | AN2: 3 - | AO2: 4 - | AP2: 5 - | AW2: OPZIONE | AX2: IMPORTO
A3: =CONCATENATE(AJ3,AK3,'DATI DI PARTENZA'!I6) -> PERIMETRO DI INTERVENTO: | AF3: Nessun progetto | AJ3: PERIMETRO DI INTERVENTO | AK3: : | AL3: =+'DATI DI PARTENZA'!C6 -> 0 | AM3: =+'DATI DI PARTENZA'!D6 -> 0 | AN3: =+'DATI DI PARTENZA'!E6 -> 0 | AO3: =+'DATI DI PARTENZA'!F6 -> 0 | AP3: =+'DATI DI PARTENZA'!G6 -> 0 | AR3: =CONCATENATE(AW3,AU3,AS3,AT3) -> OPZIONE A: 5555,59 € | AS3: =+BB13 -> 5555.59 | AT3: € | AU3: : | AW3: OPZIONE A | AX3: =+BB13 -> 5555.59 | AY3: Vapori di Mercurio | AZ3: SI | BA3: 4151.875 | BB3: OPZA | BC3: OPZB | BD3: OPZC | BE3: OPZD
A4: INDIRIZZO DI RIFERIMENTO DEL POD - PERIMETRO DI INTERVENTO | X4: =+'DATI DI PARTENZA'!I7 -> 0 | AJ4: Perimetro di Intervento | AL4: =+'DATI DI PARTENZA'!C6 -> 0 | AM4: =+'DATI DI PARTENZA'!D6 -> 0 | AN4: =+'DATI DI PARTENZA'!E6 -> 0 | AO4: =+'DATI DI PARTENZA'!F6 -> 0 | AP4: =+'DATI DI PARTENZA'!G6 -> 0 | AR4: =CONCATENATE(AW4,AU4,AS4,AT4) -> OPZIONE B: 3800,9 € | AS4: =+BC13 -> 3800.9 | AT4: € | AU4: : | AW4: OPZIONE B | AX4: =+BC13 -> 3800.9 | AY4: Incandescenza | AZ4: NO | BB4: 3867.72 | BC4: 2646.13 | BD4: 1407.67 | BE4: 11227.5
A5: SITUAZIONE ANTE INTERVENTO | H5: SITUAZIONE POST INTERVENTO | R5: NUOVI PUNTI LUCE | AR5: =CONCATENATE(AW5,AU5,AS5,AT5) -> OPZIONE C: 2021,97 € | AS5: =+BD13 -> 2021.97 | AT5: € | AU5: : | AW5: OPZIONE C | AX5: =+BD13 -> 2021.97 | AY5: Fluorescenti Compatte | BB5: =+(0.22)-(0.22*'DATI DI PARTENZA'!$B$11) -> 0.22 | BC5: =+(0.22)-(0.22*'DATI DI PARTENZA'!$B$11) -> 0.22 | BD5: =+(0.22)-(0.22*'DATI DI PARTENZA'!$B$11) -> 0.22 | BE5: =+(0.22)-(0.22*'DATI DI PARTENZA'!$B$11) -> 0.22
A6: N° Punti Luce * | B6: Tipologia Sorgente Luminosa (scegliere da menù a tendina) * | C6: Potenza Nominale Unitaria (W) * | D6: Regolazione di flusso (scegliere da menù a tendina) * | E6: Potenza Complessiva [kW] (campo compilato in automatico) | F6: Consumo Energetico [kWh/anno] (campo compilato in automatico) | H6: Intervento (scegliere da menù a tendina) * | I6: N° Punti Luce (campo compilato in automatico) | J6: Tipologia Sorgente Luminosa (scegliere da menù a tendina) * | K6: Potenza Nominale Unitaria (W) * | L6: Regolazione di flusso (scegliere da menù a tendina) * | M6: Potenza Complessiva [kW] (campo compilato in automatico) | N6: Consumo Energetico [kWh/anno] (campo compilato in automatico) | O6: Costo Unitario [€] (campo compilato in automatico) | P6: Costo Totale [€] (campo compilato in automatico) | R6: Intervento (scegliere da menù a tendina) * | S6: N° Punti Luce * | T6: Tipologia Sorgente Luminosa (scegliere da menù a tendina) * | U6: Potenza Nominale Unitaria (W) * | V6: Regolazione di flusso (scegliere da menù a tendina) * | W6: Potenza Complessiva [kW] (campo compilato in automatico) | X6: Costo Unitario [€] (campo compilato in automatico) | Y6: Costo Totale [€] (campo compilato in automatico) | AE6: SOSTITUZIONE | AF6: NUOVI | AJ6: Perimetro di Intervento | AL6: =+'DATI DI PARTENZA'!C7 -> 0 | AM6: =+'DATI DI PARTENZA'!D7 -> 0 | AN6: =+'DATI DI PARTENZA'!E7 -> 0 | AO6: =+'DATI DI PARTENZA'!F7 -> 0 | AP6: =+'DATI DI PARTENZA'!G7 -> 0 | AR6: =CONCATENATE(AW6,AU6,AS6,AT6) -> OPZIONE D: 16127,18 € | AS6: =+BE13 -> 16127.18 | AT6: € | AU6: : | AW6: OPZIONE D | AX6: =+BE13 -> 16127.18 | AY6: Fluorescenti Tubolari | BB6: =+BB4*BB5 -> 850.8984 | BC6: =+BC4*BC5 -> 582.1486 | BD6: =+BD4*BD5 -> 309.6874 | BE6: =+BE4*BE5 -> 2470.05
E7: =+A7*C7*AB7/1000 -> 0 | F7: =+E7*$BA$3 -> 0 | I7: =+A7 -> 0 | M7: =+I7*K7*AC7/1000 -> 0 | N7: =+M7*$BA$3 -> 0 | O7: =+AE7 -> #N/A | P7: =+I7*O7 -> #N/A | W7: =+S7*U7*AD7/1000 -> 0 | X7: =+AF7 -> #N/A | Y7: =+Z7 -> #N/A | Z7: =+S7*X7 -> #N/A | AA7: =+I7*O7 -> #N/A | AB7: =IF(D7="SI",0.67,1) -> 1 | AC7: =IF(L7="SI",0.67,1) -> 1 | AD7: =IF(V7="SI",0.67,1) -> 1 | AE7: =VLOOKUP(H7,$AW$2:$AX$5,2) -> #N/A | AF7: =VLOOKUP(R7,$AW$2:$AX$5,2) -> #N/A | AG7: =IF(P7="NUMERO",P7,0) -> #N/A | AY7: Sodio Alta Pressione | BB7: 0.12 | BC7: 0.12 | BD7: 0.12 | BE7: 0.12
E8: =+A8*C8*AB8/1000 -> 0 | F8: =+E8*$BA$3 -> 0 | I8: =+A8 -> 0 | M8: =+I8*K8*AC8/1000 -> 0 | N8: =+M8*$BA$3 -> 0 | O8: =+AE8 -> #N/A | P8: =+I8*O8 -> #N/A | W8: =+S8*U8*AD8/1000 -> 0 | X8: =+AF8 -> #N/A | Y8: =+Z8 -> #N/A | Z8: =+S8*X8 -> #N/A | AA8: =+I8*O8 -> #N/A | AB8: =IF(D8="SI",0.67,1) -> 1 | AC8: =IF(L8="SI",0.67,1) -> 1 | AD8: =IF(V8="SI",0.67,1) -> 1 | AE8: =VLOOKUP(H8,$AW$2:$AX$5,2) -> #N/A | AF8: =VLOOKUP(R8,$AW$2:$AX$5,2) -> #N/A | AG8: =IF(P8>0,P8,0) -> #N/A | AY8: Sodio Bassa Pressione | BB8: =+BB4*BB7 -> 464.1264 | BC8: =+BC4*BC7 -> 317.5356 | BD8: =+BD4*BD7 -> 168.9204 | BE8: =+BE4*BE7 -> 1347.3
E9: =+A9*C9*AB9/1000 -> 0 | F9: =+E9*$BA$3 -> 0 | I9: =+A9 -> 0 | M9: =+I9*K9*AC9/1000 -> 0 | N9: =+M9*$BA$3 -> 0 | O9: =+AE9 -> #N/A | P9: =+I9*O9 -> #N/A | W9: =+S9*U9*AD9/1000 -> 0 | X9: =+AF9 -> #N/A | Y9: =+Z9 -> #N/A | Z9: =+S9*X9 -> #N/A | AA9: =+I9*O9 -> #N/A | AB9: =IF(D9="SI",0.67,1) -> 1 | AC9: =IF(L9="SI",0.67,1) -> 1 | AD9: =IF(V9="SI",0.67,1) -> 1 | AE9: =VLOOKUP(H9,$AW$2:$AX$5,2) -> #N/A | AF9: =VLOOKUP(R9,$AW$2:$AX$5,2) -> #N/A | AG9: =IF(P9>0,P9,0) -> #N/A | AY9: Ioduri Metallici | BB9: =+BB8*BB5 -> 102.10781 | BC9: =+BC8*BC5 -> 69.857832 | BD9: =+BD8*BD5 -> 37.162488 | BE9: =+BE8*BE5 -> 296.406
E10: =+A10*C10*AB10/1000 -> 0 | F10: =+E10*$BA$3 -> 0 | I10: =+A10 -> 0 | M10: =+I10*K10*AC10/1000 -> 0 | N10: =+M10*$BA$3 -> 0 | O10: =+AE10 -> #N/A | P10: =+I10*O10 -> #N/A | W10: =+S10*U10*AD10/1000 -> 0 | X10: =+AF10 -> #N/A | Y10: =+Z10 -> #N/A | Z10: =+S10*X10 -> #N/A | AA10: =+I10*O10 -> #N/A | AB10: =IF(D10="SI",0.67,1) -> 1 | AC10: =IF(L10="SI",0.67,1) -> 1 | AD10: =IF(V10="SI",0.67,1) -> 1 | AE10: =VLOOKUP(H10,$AW$2:$AX$5,2) -> #N/A | AF10: =VLOOKUP(R10,$AW$2:$AX$5,2) -> #N/A | AG10: =IF(P10>0,P10,0) -> #N/A | AW10: OPZIONE D | AX10: OPZIONE D | AY10: Alogena | BB10: 0.07 | BC10: 0.07 | BD10: 0.07 | BE10: 0.07
E11: =+A11*C11*AB11/1000 -> 0 | F11: =+E11*$BA$3 -> 0 | I11: =+A11 -> 0 | M11: =+I11*K11*AC11/1000 -> 0 | N11: =+M11*$BA$3 -> 0 | O11: =+AE11 -> #N/A | P11: =+I11*O11 -> #N/A | W11: =+S11*U11*AD11/1000 -> 0 | X11: =+AF11 -> #N/A | Y11: =+Z11 -> #N/A | Z11: =+S11*X11 -> #N/A | AA11: =+I11*O11 -> #N/A | AB11: =IF(D11="SI",0.67,1) -> 1 | AC11: =IF(L11="SI",0.67,1) -> 1 | AD11: =IF(V11="SI",0.67,1) -> 1 | AE11: =VLOOKUP(H11,$AW$2:$AX$5,2) -> #N/A | AF11: =VLOOKUP(R11,$AW$2:$AX$5,2) -> #N/A | AG11: =IF(P11>0,P11,0) -> #N/A | AY11: LED | BB11: =+BB10*BB4 -> 270.7404 | BC11: =+BC10*BC4 -> 185.2291 | BD11: =+BD10*BD4 -> 98.5369 | BE11: =+BE10*BE4 -> 785.925
E12: =+A12*C12*AB12/1000 -> 0 | F12: =+E12*$BA$3 -> 0 | I12: =+A12 -> 0 | M12: =+I12*K12*AC12/1000 -> 0 | N12: =+M12*$BA$3 -> 0 | O12: =+AE12 -> #N/A | P12: =+I12*O12 -> #N/A | W12: =+S12*U12*AD12/1000 -> 0 | X12: =+AF12 -> #N/A | Y12: =+Z12 -> #N/A | Z12: =+S12*X12 -> #N/A | AA12: =+I12*O12 -> #N/A | AB12: =IF(D12="SI",0.67,1) -> 1 | AC12: =IF(L12="SI",0.67,1) -> 1 | AD12: =IF(V12="SI",0.67,1) -> 1 | AE12: =VLOOKUP(H12,$AW$2:$AX$5,2) -> #N/A | AF12: =VLOOKUP(R12,$AW$2:$AX$5,2) -> #N/A | AG12: =IF(P12>0,P12,0) -> #N/A | AY12: Altro | BB12: =+BB4+BB6+BB8+BB9+BB11 -> 5555.593 | BC12: =+BC4+BC6+BC8+BC9+BC11 -> 3800.9011 | BD12: =+BD4+BD6+BD8+BD9+BD11 -> 2021.9772 | BE12: =+BE4+BE6+BE8+BE9+BE11 -> 16127.181
E13: =+A13*C13*AB13/1000 -> 0 | F13: =+E13*$BA$3 -> 0 | I13: =+A13 -> 0 | M13: =+I13*K13*AC13/1000 -> 0 | N13: =+M13*$BA$3 -> 0 | O13: =+AE13 -> #N/A | P13: =+I13*O13 -> #N/A | W13: =+S13*U13*AD13/1000 -> 0 | X13: =+AF13 -> #N/A | Y13: =+Z13 -> #N/A | Z13: =+S13*X13 -> #N/A | AA13: =+I13*O13 -> #N/A | AB13: =IF(D13="SI",0.67,1) -> 1 | AC13: =IF(L13="SI",0.67,1) -> 1 | AD13: =IF(V13="SI",0.67,1) -> 1 | AE13: =VLOOKUP(H13,$AW$2:$AX$5,2) -> #N/A | AF13: =VLOOKUP(R13,$AW$2:$AX$5,2) -> #N/A | AG13: =IF(P13>0,P13,0) -> #N/A | BB13: =TRUNC(BB12,2) -> 5555.59 | BC13: =TRUNC(BC12,2) -> 3800.9 | BD13: =TRUNC(BD12,2) -> 2021.97 | BE13: =TRUNC(BE12,2) -> 16127.18
E14: =+A14*C14*AB14/1000 -> 0 | F14: =+E14*$BA$3 -> 0 | I14: =+A14 -> 0 | M14: =+I14*K14*AC14/1000 -> 0 | N14: =+M14*$BA$3 -> 0 | O14: =+AE14 -> #N/A | P14: =+I14*O14 -> #N/A | W14: =+S14*U14*AD14/1000 -> 0 | X14: =+AF14 -> #N/A | Y14: =+Z14 -> #N/A | Z14: =+S14*X14 -> #N/A | AA14: =+I14*O14 -> #N/A | AB14: =IF(D14="SI",0.67,1) -> 1 | AC14: =IF(L14="SI",0.67,1) -> 1 | AD14: =IF(V14="SI",0.67,1) -> 1 | AE14: =VLOOKUP(H14,$AW$2:$AX$5,2) -> #N/A | AF14: =VLOOKUP(R14,$AW$2:$AX$5,2) -> #N/A | AG14: =IF(P14>0,P14,0) -> #N/A
E15: =+A15*C15*AB15/1000 -> 0 | F15: =+E15*$BA$3 -> 0 | I15: =+A15 -> 0 | M15: =+I15*K15*AC15/1000 -> 0 | N15: =+M15*$BA$3 -> 0 | O15: =+AE15 -> #N/A | P15: =+I15*O15 -> #N/A | W15: =+S15*U15*AD15/1000 -> 0 | X15: =+AF15 -> #N/A | Y15: =+Z15 -> #N/A | Z15: =+S15*X15 -> #N/A | AA15: =+I15*O15 -> #N/A | AB15: =IF(D15="SI",0.67,1) -> 1 | AC15: =IF(L15="SI",0.67,1) -> 1 | AD15: =IF(V15="SI",0.67,1) -> 1 | AE15: =VLOOKUP(H15,$AW$2:$AX$5,2) -> #N/A | AF15: =VLOOKUP(R15,$AW$2:$AX$5,2) -> #N/A | AG15: =IF(P15>0,P15,0) -> #N/A | AV15: FONTE: ISPRA | AW15: 558.7 | AX15: g
E16: =+A16*C16*AB16/1000 -> 0 | F16: =+E16*$BA$3 -> 0 | I16: =+A16 -> 0 | M16: =+I16*K16*AC16/1000 -> 0 | N16: =+M16*$BA$3 -> 0 | O16: =+AE16 -> #N/A | P16: =+I16*O16 -> #N/A | W16: =+S16*U16*AD16/1000 -> 0 | X16: =+AF16 -> #N/A | Y16: =+Z16 -> #N/A | Z16: =+S16*X16 -> #N/A | AA16: =+I16*O16 -> #N/A | AB16: =IF(D16="SI",0.67,1) -> 1 | AC16: =IF(L16="SI",0.67,1) -> 1 | AD16: =IF(V16="SI",0.67,1) -> 1 | AE16: =VLOOKUP(H16,$AW$2:$AX$5,2) -> #N/A | AF16: =VLOOKUP(R16,$AW$2:$AX$5,2) -> #N/A | AG16: =IF(P16>0,P16,0) -> #N/A | AV16: Consumi Settore Elettrico | AW16: =+AW15/1000/1000 -> 0.0005587 | AX16: ton CO2
E17: =+A17*C17*AB17/1000 -> 0 | F17: =+E17*$BA$3 -> 0 | I17: =+A17 -> 0 | M17: =+I17*K17*AC17/1000 -> 0 | N17: =+M17*$BA$3 -> 0 | O17: =+AE17 -> #N/A | P17: =+I17*O17 -> #N/A | W17: =+S17*U17*AD17/1000 -> 0 | X17: =+AF17 -> #N/A | Y17: =+Z17 -> #N/A | Z17: =+S17*X17 -> #N/A | AA17: =+I17*O17 -> #N/A | AB17: =IF(D17="SI",0.67,1) -> 1 | AC17: =IF(L17="SI",0.67,1) -> 1 | AD17: =IF(V17="SI",0.67,1) -> 1 | AE17: =VLOOKUP(H17,$AW$2:$AX$5,2) -> #N/A | AF17: =VLOOKUP(R17,$AW$2:$AX$5,2) -> #N/A | AG17: =IF(P17>0,P17,0) -> #N/A | AW17: =+E81*1000 -> 0
E18: =+A18*C18*AB18/1000 -> 0 | F18: =+E18*$BA$3 -> 0 | I18: =+A18 -> 0 | M18: =+I18*K18*AC18/1000 -> 0 | N18: =+M18*$BA$3 -> 0 | O18: =+AE18 -> #N/A | P18: =+I18*O18 -> #N/A | W18: =+S18*U18*AD18/1000 -> 0 | X18: =+AF18 -> #N/A | Y18: =+Z18 -> #N/A | Z18: =+S18*X18 -> #N/A | AA18: =+I18*O18 -> #N/A | AB18: =IF(D18="SI",0.67,1) -> 1 | AC18: =IF(L18="SI",0.67,1) -> 1 | AD18: =IF(V18="SI",0.67,1) -> 1 | AE18: =VLOOKUP(H18,$AW$2:$AX$5,2) -> #N/A | AF18: =VLOOKUP(R18,$AW$2:$AX$5,2) -> #N/A | AG18: =IF(P18>0,P18,0) -> #N/A | AW18: =+AW16*AW17 -> 0
E19: =+A19*C19*AB19/1000 -> 0 | F19: =+E19*$BA$3 -> 0 | I19: =+A19 -> 0 | M19: =+I19*K19*AC19/1000 -> 0 | N19: =+M19*$BA$3 -> 0 | O19: =+AE19 -> #N/A | P19: =+I19*O19 -> #N/A | W19: =+S19*U19*AD19/1000 -> 0 | X19: =+AF19 -> #N/A | Y19: =+Z19 -> #N/A | Z19: =+S19*X19 -> #N/A | AA19: =+I19*O19 -> #N/A | AB19: =IF(D19="SI",0.67,1) -> 1 | AC19: =IF(L19="SI",0.67,1) -> 1 | AD19: =IF(V19="SI",0.67,1) -> 1 | AE19: =VLOOKUP(H19,$AW$2:$AX$5,2) -> #N/A | AF19: =VLOOKUP(R19,$AW$2:$AX$5,2) -> #N/A | AG19: =IF(P19>0,P19,0) -> #N/A | AW19: =+AW17*AW15 -> 0
E20: =+A20*C20*AB20/1000 -> 0 | F20: =+E20*$BA$3 -> 0 | I20: =+A20 -> 0 | M20: =+I20*K20*AC20/1000 -> 0 | N20: =+M20*$BA$3 -> 0 | O20: =+AE20 -> #N/A | P20: =+I20*O20 -> #N/A | W20: =+S20*U20*AD20/1000 -> 0 | X20: =+AF20 -> #N/A | Y20: =+Z20 -> #N/A | Z20: =+S20*X20 -> #N/A | AA20: =+I20*O20 -> #N/A | AB20: =IF(D20="SI",0.67,1) -> 1 | AC20: =IF(L20="SI",0.67,1) -> 1 | AD20: =IF(V20="SI",0.67,1) -> 1 | AE20: =VLOOKUP(H20,$AW$2:$AX$5,2) -> #N/A | AF20: =VLOOKUP(R20,$AW$2:$AX$5,2) -> #N/A | AG20: =IF(P20>0,P20,0) -> #N/A | AW20: =+AW19/1000000 -> 0
E21: =+A21*C21*AB21/1000 -> 0 | F21: =+E21*$BA$3 -> 0 | I21: =+A21 -> 0 | M21: =+I21*K21*AC21/1000 -> 0 | N21: =+M21*$BA$3 -> 0 | O21: =+AE21 -> #N/A | P21: =+I21*O21 -> #N/A | W21: =+S21*U21*AD21/1000 -> 0 | X21: =+AF21 -> #N/A | Y21: =+Z21 -> #N/A | Z21: =+S21*X21 -> #N/A | AA21: =+I21*O21 -> #N/A | AB21: =IF(D21="SI",0.67,1) -> 1 | AC21: =IF(L21="SI",0.67,1) -> 1 | AD21: =IF(V21="SI",0.67,1) -> 1 | AE21: =VLOOKUP(H21,$AW$2:$AX$5,2) -> #N/A | AF21: =VLOOKUP(R21,$AW$2:$AX$5,2) -> #N/A | AG21: =IF(P21>0,P21,0) -> #N/A
E22: =+A22*C22*AB22/1000 -> 0 | F22: =+E22*$BA$3 -> 0 | I22: =+A22 -> 0 | M22: =+I22*K22*AC22/1000 -> 0 | N22: =+M22*$BA$3 -> 0 | O22: =+AE22 -> #N/A | P22: =+I22*O22 -> #N/A | W22: =+S22*U22*AD22/1000 -> 0 | X22: =+AF22 -> #N/A | Y22: =+Z22 -> #N/A | Z22: =+S22*X22 -> #N/A | AA22: =+I22*O22 -> #N/A | AB22: =IF(D22="SI",0.67,1) -> 1 | AC22: =IF(L22="SI",0.67,1) -> 1 | AD22: =IF(V22="SI",0.67,1) -> 1 | AE22: =VLOOKUP(H22,$AW$2:$AX$5,2) -> #N/A | AF22: =VLOOKUP(R22,$AW$2:$AX$5,2) -> #N/A | AG22: =IF(P22>0,P22,0) -> #N/A
E23: =+A23*C23*AB23/1000 -> 0 | F23: =+E23*$BA$3 -> 0 | I23: =+A23 -> 0 | M23: =+I23*K23*AC23/1000 -> 0 | N23: =+M23*$BA$3 -> 0 | O23: =+AE23 -> #N/A | P23: =+I23*O23 -> #N/A | W23: =+S23*U23*AD23/1000 -> 0 | X23: =+AF23 -> #N/A | Y23: =+Z23 -> #N/A | Z23: =+S23*X23 -> #N/A | AA23: =+I23*O23 -> #N/A | AB23: =IF(D23="SI",0.67,1) -> 1 | AC23: =IF(L23="SI",0.67,1) -> 1 | AD23: =IF(V23="SI",0.67,1) -> 1 | AE23: =VLOOKUP(H23,$AW$2:$AX$5,2) -> #N/A | AF23: =VLOOKUP(R23,$AW$2:$AX$5,2) -> #N/A | AG23: =IF(P23>0,P23,0) -> #N/A
E24: =+A24*C24*AB24/1000 -> 0 | F24: =+E24*$BA$3 -> 0 | I24: =+A24 -> 0 | M24: =+I24*K24*AC24/1000 -> 0 | N24: =+M24*$BA$3 -> 0 | O24: =+AE24 -> #N/A | P24: =+I24*O24 -> #N/A | W24: =+S24*U24*AD24/1000 -> 0 | X24: =+AF24 -> #N/A | Y24: =+Z24 -> #N/A | Z24: =+S24*X24 -> #N/A | AA24: =+I24*O24 -> #N/A | AB24: =IF(D24="SI",0.67,1) -> 1 | AC24: =IF(L24="SI",0.67,1) -> 1 | AD24: =IF(V24="SI",0.67,1) -> 1 | AE24: =VLOOKUP(H24,$AW$2:$AX$5,2) -> #N/A | AF24: =VLOOKUP(R24,$AW$2:$AX$5,2) -> #N/A | AG24: =IF(P24>0,P24,0) -> #N/A
E25: =+A25*C25*AB25/1000 -> 0 | F25: =+E25*$BA$3 -> 0 | I25: =+A25 -> 0 | M25: =+I25*K25*AC25/1000 -> 0 | N25: =+M25*$BA$3 -> 0 | O25: =+AE25 -> #N/A | P25: =+I25*O25 -> #N/A | W25: =+S25*U25*AD25/1000 -> 0 | X25: =+AF25 -> #N/A | Y25: =+Z25 -> #N/A | Z25: =+S25*X25 -> #N/A | AA25: =+I25*O25 -> #N/A | AB25: =IF(D25="SI",0.67,1) -> 1 | AC25: =IF(L25="SI",0.67,1) -> 1 | AD25: =IF(V25="SI",0.67,1) -> 1 | AE25: =VLOOKUP(H25,$AW$2:$AX$5,2) -> #N/A | AF25: =VLOOKUP(R25,$AW$2:$AX$5,2) -> #N/A | AG25: =IF(P25>0,P25,0) -> #N/A
E26: =+A26*C26*AB26/1000 -> 0 | F26: =+E26*$BA$3 -> 0 | I26: =+A26 -> 0 | M26: =+I26*K26*AC26/1000 -> 0 | N26: =+M26*$BA$3 -> 0 | O26: =+AE26 -> #N/A | P26: =+I26*O26 -> #N/A | W26: =+S26*U26*AD26/1000 -> 0 | X26: =+AF26 -> #N/A | Y26: =+Z26 -> #N/A | Z26: =+S26*X26 -> #N/A | AA26: =+I26*O26 -> #N/A | AB26: =IF(D26="SI",0.67,1) -> 1 | AC26: =IF(L26="SI",0.67,1) -> 1 | AD26: =IF(V26="SI",0.67,1) -> 1 | AE26: =VLOOKUP(H26,$AW$2:$AX$5,2) -> #N/A | AF26: =VLOOKUP(R26,$AW$2:$AX$5,2) -> #N/A | AG26: =IF(P26>0,P26,0) -> #N/A
E27: =+A27*C27*AB27/1000 -> 0 | F27: =+E27*$BA$3 -> 0 | I27: =+A27 -> 0 | M27: =+I27*K27*AC27/1000 -> 0 | N27: =+M27*$BA$3 -> 0 | O27: =+AE27 -> #N/A | P27: =+I27*O27 -> #N/A | W27: =+S27*U27*AD27/1000 -> 0 | X27: =+AF27 -> #N/A | Y27: =+Z27 -> #N/A | Z27: =+S27*X27 -> #N/A | AA27: =+I27*O27 -> #N/A | AB27: =IF(D27="SI",0.67,1) -> 1 | AC27: =IF(L27="SI",0.67,1) -> 1 | AD27: =IF(V27="SI",0.67,1) -> 1 | AE27: =VLOOKUP(H27,$AW$2:$AX$5,2) -> #N/A | AF27: =VLOOKUP(R27,$AW$2:$AX$5,2) -> #N/A | AG27: =IF(P27>0,P27,0) -> #N/A
E28: =+A28*C28*AB28/1000 -> 0 | F28: =+E28*$BA$3 -> 0 | I28: =+A28 -> 0 | M28: =+I28*K28*AC28/1000 -> 0 | N28: =+M28*$BA$3 -> 0 | O28: =+AE28 -> #N/A | P28: =+I28*O28 -> #N/A | W28: =+S28*U28*AD28/1000 -> 0 | X28: =+AF28 -> #N/A | Y28: =+Z28 -> #N/A | Z28: =+S28*X28 -> #N/A | AA28: =+I28*O28 -> #N/A | AB28: =IF(D28="SI",0.67,1) -> 1 | AC28: =IF(L28="SI",0.67,1) -> 1 | AD28: =IF(V28="SI",0.67,1) -> 1 | AE28: =VLOOKUP(H28,$AW$2:$AX$5,2) -> #N/A | AF28: =VLOOKUP(R28,$AW$2:$AX$5,2) -> #N/A | AG28: =IF(P28>0,P28,0) -> #N/A
E29: =+A29*C29*AB29/1000 -> 0 | F29: =+E29*$BA$3 -> 0 | I29: =+A29 -> 0 | M29: =+I29*K29*AC29/1000 -> 0 | N29: =+M29*$BA$3 -> 0 | O29: =+AE29 -> #N/A | P29: =+I29*O29 -> #N/A | W29: =+S29*U29*AD29/1000 -> 0 | X29: =+AF29 -> #N/A | Y29: =+Z29 -> #N/A | Z29: =+S29*X29 -> #N/A | AA29: =+I29*O29 -> #N/A | AB29: =IF(D29="SI",0.67,1) -> 1 | AC29: =IF(L29="SI",0.67,1) -> 1 | AD29: =IF(V29="SI",0.67,1) -> 1 | AE29: =VLOOKUP(H29,$AW$2:$AX$5,2) -> #N/A | AF29: =VLOOKUP(R29,$AW$2:$AX$5,2) -> #N/A | AG29: =IF(P29>0,P29,0) -> #N/A
E30: =+A30*C30*AB30/1000 -> 0 | F30: =+E30*$BA$3 -> 0 | I30: =+A30 -> 0 | M30: =+I30*K30*AC30/1000 -> 0 | N30: =+M30*$BA$3 -> 0 | O30: =+AE30 -> #N/A | P30: =+I30*O30 -> #N/A | W30: =+S30*U30*AD30/1000 -> 0 | X30: =+AF30 -> #N/A | Y30: =+Z30 -> #N/A | Z30: =+S30*X30 -> #N/A | AA30: =+I30*O30 -> #N/A | AB30: =IF(D30="SI",0.67,1) -> 1 | AC30: =IF(L30="SI",0.67,1) -> 1 | AD30: =IF(V30="SI",0.67,1) -> 1 | AE30: =VLOOKUP(H30,$AW$2:$AX$5,2) -> #N/A | AF30: =VLOOKUP(R30,$AW$2:$AX$5,2) -> #N/A | AG30: =IF(P30>0,P30,0) -> #N/A
E31: =+A31*C31*AB31/1000 -> 0 | F31: =+E31*$BA$3 -> 0 | I31: =+A31 -> 0 | M31: =+I31*K31*AC31/1000 -> 0 | N31: =+M31*$BA$3 -> 0 | O31: =+AE31 -> #N/A | P31: =+I31*O31 -> #N/A | W31: =+S31*U31*AD31/1000 -> 0 | X31: =+AF31 -> #N/A | Y31: =+Z31 -> #N/A | Z31: =+S31*X31 -> #N/A | AA31: =+I31*O31 -> #N/A | AB31: =IF(D31="SI",0.67,1) -> 1 | AC31: =IF(L31="SI",0.67,1) -> 1 | AD31: =IF(V31="SI",0.67,1) -> 1 | AE31: =VLOOKUP(H31,$AW$2:$AX$5,2) -> #N/A | AF31: =VLOOKUP(R31,$AW$2:$AX$5,2) -> #N/A | AG31: =IF(P31>0,P31,0) -> #N/A
E32: =+A32*C32*AB32/1000 -> 0 | F32: =+E32*$BA$3 -> 0 | I32: =+A32 -> 0 | M32: =+I32*K32*AC32/1000 -> 0 | N32: =+M32*$BA$3 -> 0 | O32: =+AE32 -> #N/A | P32: =+I32*O32 -> #N/A | W32: =+S32*U32*AD32/1000 -> 0 | X32: =+AF32 -> #N/A | Y32: =+Z32 -> #N/A | Z32: =+S32*X32 -> #N/A | AA32: =+I32*O32 -> #N/A | AB32: =IF(D32="SI",0.67,1) -> 1 | AC32: =IF(L32="SI",0.67,1) -> 1 | AD32: =IF(V32="SI",0.67,1) -> 1 | AE32: =VLOOKUP(H32,$AW$2:$AX$5,2) -> #N/A | AF32: =VLOOKUP(R32,$AW$2:$AX$5,2) -> #N/A | AG32: =IF(P32>0,P32,0) -> #N/A
... E56: =+A56*C56*AB56/1000 -> 0 | F56: =+E56*$BA$3 -> 0 | I56: =+A56 -> 0 | M56: =+I56*K56*AC56/1000 -> 0 | N56: =+M56*$BA$3 -> 0 | O56: =+AE56 -> #N/A | P56: =+I56*O56 -> #N/A | W56: =+S56*U56*AD56/1000 -> 0 | X56: =+AF56 -> #N/A | Y56: =+Z56 -> #N/A | Z56: =+S56*X56 -> #N/A | AA56: =+I56*O56 -> #N/A | AB56: =IF(D56="SI",0.67,1) -> 1 | AC56: =IF(L56="SI",0.67,1) -> 1 | AD56: =IF(V56="SI",0.67,1) -> 1 | AE56: =VLOOKUP(H56,$AW$2:$AX$5,2) -> #N/A | AF56: =VLOOKUP(R56,$AW$2:$AX$5,2) -> #N/A | AG56: =IF(P56>0,P56,0) -> #N/A
A57: =SUM(A7:A56) -> 0 | B57: TOTALE | E57: =SUM(E7:E56) -> 0 | F57: =SUM(F7:F56) -> 0 | I57: =SUM(I7:I56) -> 0 | J57: TOTALE | M57: =SUM(M7:M56) -> 0 | N57: =SUM(N7:N56) -> 0 | P57: =+AB58 -> 0 | S57: =SUM(S7:S56) -> 0 | T57: TOTALE | W57: =SUM(W7:W56) -> 0 | Y57: =+AE58 -> 0
AB58: =SUMIFS(P7:P56,P7:P56,">0") -> 0 | AC58: =SUMIFS(Q7:Q56,Q7:Q56,">0") -> 0 | AD58: =SUMIFS(R7:R56,R7:R56,">0") -> 0 | AE58: =SUMIFS(Y7:Y56,Y7:Y56,">0") -> 0
A60: S.T.I. (scegliere da menù a tendina) * | B60: Descrizione dettagliata del servizio tecnologico integrato ed analisi del potenziale risparmio energetico atteso * | X60: Risparmio energetico Energia Primaria Atteso [kWh/anno] * | Y60: Costo Totale [€] (campo compilato in automatico)
Y61: =+AA61 -> 0 | AA61: =IF(A61="SI",$BE$13,0) -> 0 | AB61: =IF(A61="SI",1,0) -> 0 | AC61: =IF(B61="SI",1,0) -> 0 | AD61: =IF(C61="SI",1,0) -> 0
Y62: =+AA62 -> 0 | AA62: =IF(A62="SI",$BE$13,0) -> 0 | AB62: =IF(A62="SI",1,0) -> 0 | AC62: =IF(B62="SI",1,0) -> 0 | AD62: =IF(C62="SI",1,0) -> 0
Y63: =+AA63 -> 0 | AA63: =IF(A63="SI",$BE$13,0) -> 0 | AB63: =IF(A63="SI",1,0) -> 0 | AC63: =IF(B63="SI",1,0) -> 0 | AD63: =IF(C63="SI",1,0) -> 0
Y64: =+AA64 -> 0 | AA64: =IF(A64="SI",$BE$13,0) -> 0 | AB64: =IF(A64="SI",1,0) -> 0 | AC64: =IF(B64="SI",1,0) -> 0 | AD64: =IF(C64="SI",1,0) -> 0
Y65: =+AA65 -> 0 | AA65: =IF(A65="SI",$BE$13,0) -> 0 | AB65: =IF(A65="SI",1,0) -> 0 | AC65: =IF(B65="SI",1,0) -> 0 | AD65: =IF(C65="SI",1,0) -> 0
Y66: =+AA66 -> 0 | AA66: =IF(A66="SI",$BE$13,0) -> 0 | AB66: =IF(A66="SI",1,0) -> 0 | AC66: =IF(B66="SI",1,0) -> 0 | AD66: =IF(C66="SI",1,0) -> 0
Y67: =+AA67 -> 0 | AA67: =IF(A67="SI",$BE$13,0) -> 0 | AB67: =IF(A67="SI",1,0) -> 0 | AC67: =IF(B67="SI",1,0) -> 0 | AD67: =IF(C67="SI",1,0) -> 0
Y68: =+AA68 -> 0 | AA68: =IF(A68="SI",$BE$13,0) -> 0 | AB68: =IF(A68="SI",1,0) -> 0 | AC68: =IF(B68="SI",1,0) -> 0 | AD68: =IF(C68="SI",1,0) -> 0
Y69: =+AA69 -> 0 | AA69: =IF(A69="SI",$BE$13,0) -> 0 | AB69: =IF(A69="SI",1,0) -> 0 | AC69: =IF(B69="SI",1,0) -> 0 | AD69: =IF(C69="SI",1,0) -> 0
Y70: =+AA70 -> 0 | AA70: =IF(A70="SI",$BE$13,0) -> 0 | AB70: =IF(A70="SI",1,0) -> 0 | AC70: =IF(B70="SI",1,0) -> 0 | AD70: =IF(C70="SI",1,0) -> 0
Y71: =+AA71 -> 0 | AA71: =IF(A71="SI",$BE$13,0) -> 0 | AB71: =IF(A71="SI",1,0) -> 0 | AC71: =IF(B71="SI",1,0) -> 0 | AD71: =IF(C71="SI",1,0) -> 0
Y72: =+AA72 -> 0 | AA72: =IF(A72="SI",$BE$13,0) -> 0 | AB72: =IF(A72="SI",1,0) -> 0 | AC72: =IF(B72="SI",1,0) -> 0 | AD72: =IF(C72="SI",1,0) -> 0
... Y75: =+AA75 -> 0 | AA75: =IF(A75="SI",$BE$13,0) -> 0 | AB75: =IF(A75="SI",1,0) -> 0 | AC75: =IF(B75="SI",1,0) -> 0 | AD75: =IF(C75="SI",1,0) -> 0
A76: TOTALE | X76: =SUM(X61:X75) -> 0 | Y76: =SUM(Y61:Y75) -> 0 | AB76: =SUM(AB61:AB75) -> 0 | AC76: =SUM(AC61:AC75) -> 0 | AD76: =SUM(AD61:AD75) -> 0
A78: Costo Totale [€] (campo compilato in automatico) | E78: =+P57+Y57+Y76 -> 0
A79: Risparmio Energetico Opz. A/B/C [MWh/anno] (campo compilato in automatico) | E79: =+(F57-N57)/1000 -> 0
A80: Risparmio Energetico Atteso Opz. D [MWh/anno] (campo compilato in automatico) | E80: =+X76/1000 -> 0
A81: Risparmio Energetico Totale [MWh/anno] (campo compilato in automatico) | E81: =+E79+E80 -> 0
A82: Riduzione emissioni [ton. CO2/anno] (campo compilato in automatico) | E82: =+E81*1000*AW16 -> 0
A84: NOTA: COMPILARE ESCLUSIVAMENTE LE CELLE IN GRIGIO
A85: * DATI OBBLIGATORI | B85: * DATI OBBLIGATORI
A87: =+E78-Y76 -> 0 | B87: 312a
A88: =+Y76 -> 0 | B88: 331b
A89: =+A87+A88 -> 0 | B89: totale | C89: =+E78-A89 -> 0
A91: =+F57 -> 0 | B91: CONSUMO PRE | C91: =+A91/1000 -> 0
A92: =+N57 -> 0 | B92: CONSUMO POST | C92: =+N57/1000 -> 0
B93: RISPARMIO A/B/C | C93: =+C91-C92 -> 0
B94: RISPARMIO D | C94: =+E80 -> 0
B95: RISPARMIO TOTALE | C95: =+C93+C94 -> 0 | D95: =+E81-C95 -> 0
B96: PERCENTUALE RISPARMIO | C96: =+C95/C91 -> #DIV/0!
B98: PUNTI LUCE | C98: =+I57+S57 -> 0
B99: STI | C99: =+AB76 -> 0

Sheet PdI_8
AF1: PFTE
AF2: Progetto Esecutivo | AL2: 1 - | AM2: 2 - | AN2: 3 - | AO2: 4 - | AP2: 5 - | AW2: OPZIONE | AX2: IMPORTO
A3: =CONCATENATE(AJ3,AK3,'DATI DI PARTENZA'!J6) -> PERIMETRO DI INTERVENTO: | AF3: Nessun progetto | AJ3: PERIMETRO DI INTERVENTO | AK3: : | AL3: =+'DATI DI PARTENZA'!C6 -> 0 | AM3: =+'DATI DI PARTENZA'!D6 -> 0 | AN3: =+'DATI DI PARTENZA'!E6 -> 0 | AO3: =+'DATI DI PARTENZA'!F6 -> 0 | AP3: =+'DATI DI PARTENZA'!G6 -> 0 | AR3: =CONCATENATE(AW3,AU3,AS3,AT3) -> OPZIONE A: 5555,59 € | AS3: =+BB13 -> 5555.59 | AT3: € | AU3: : | AW3: OPZIONE A | AX3: =+BB13 -> 5555.59 | AY3: Vapori di Mercurio | AZ3: SI | BA3: 4151.875 | BB3: OPZA | BC3: OPZB | BD3: OPZC | BE3: OPZD
A4: INDIRIZZO DI RIFERIMENTO DEL POD - PERIMETRO DI INTERVENTO | X4: =+'DATI DI PARTENZA'!J7 -> 0 | AJ4: Perimetro di Intervento | AL4: =+'DATI DI PARTENZA'!C6 -> 0 | AM4: =+'DATI DI PARTENZA'!D6 -> 0 | AN4: =+'DATI DI PARTENZA'!E6 -> 0 | AO4: =+'DATI DI PARTENZA'!F6 -> 0 | AP4: =+'DATI DI PARTENZA'!G6 -> 0 | AR4: =CONCATENATE(AW4,AU4,AS4,AT4) -> OPZIONE B: 3800,9 € | AS4: =+BC13 -> 3800.9 | AT4: € | AU4: : | AW4: OPZIONE B | AX4: =+BC13 -> 3800.9 | AY4: Incandescenza | AZ4: NO | BB4: 3867.72 | BC4: 2646.13 | BD4: 1407.67 | BE4: 11227.5
A5: SITUAZIONE ANTE INTERVENTO | H5: SITUAZIONE POST INTERVENTO | R5: NUOVI PUNTI LUCE | AR5: =CONCATENATE(AW5,AU5,AS5,AT5) -> OPZIONE C: 2021,97 € | AS5: =+BD13 -> 2021.97 | AT5: € | AU5: : | AW5: OPZIONE C | AX5: =+BD13 -> 2021.97 | AY5: Fluorescenti Compatte | BB5: =+(0.22)-(0.22*'DATI DI PARTENZA'!$B$11) -> 0.22 | BC5: =+(0.22)-(0.22*'DATI DI PARTENZA'!$B$11) -> 0.22 | BD5: =+(0.22)-(0.22*'DATI DI PARTENZA'!$B$11) -> 0.22 | BE5: =+(0.22)-(0.22*'DATI DI PARTENZA'!$B$11) -> 0.22
A6: N° Punti Luce * | B6: Tipologia Sorgente Luminosa (scegliere da menù a tendina) * | C6: Potenza Nominale Unitaria (W) * | D6: Regolazione di flusso (scegliere da menù a tendina) * | E6: Potenza Complessiva [kW] (campo compilato in automatico) | F6: Consumo Energetico [kWh/anno] (campo compilato in automatico) | H6: Intervento (scegliere da menù a tendina) * | I6: N° Punti Luce (campo compilato in automatico) | J6: Tipologia Sorgente Luminosa (scegliere da menù a tendina) * | K6: Potenza Nominale Unitaria (W) * | L6: Regolazione di flusso (scegliere da menù a tendina) * | M6: Potenza Complessiva [kW] (campo compilato in automatico) | N6: Consumo Energetico [kWh/anno] (campo compilato in automatico) | O6: Costo Unitario [€] (campo compilato in automatico) | P6: Costo Totale [€] (campo compilato in automatico) | R6: Intervento (scegliere da menù a tendina) * | S6: N° Punti Luce * | T6: Tipologia Sorgente Luminosa (scegliere da menù a tendina) * | U6: Potenza Nominale Unitaria (W) * | V6: Regolazione di flusso (scegliere da menù a tendina) * | W6: Potenza Complessiva [kW] (campo compilato in automatico) | X6: Costo Unitario [€] (campo compilato in automatico) | Y6: Costo Totale [€] (campo compilato in automatico) | AE6: SOSTITUZIONE | AF6: NUOVI | AJ6: Perimetro di Intervento | AL6: =+'DATI DI PARTENZA'!C7 -> 0 | AM6: =+'DATI DI PARTENZA'!D7 -> 0 | AN6: =+'DATI DI PARTENZA'!E7 -> 0 | AO6: =+'DATI DI PARTENZA'!F7 -> 0 | AP6: =+'DATI DI PARTENZA'!G7 -> 0 | AR6: =CONCATENATE(AW6,AU6,AS6,AT6) -> OPZIONE D: 16127,18 € | AS6: =+BE13 -> 16127.18 | AT6: € | AU6: : | AW6: OPZIONE D | AX6: =+BE13 -> 16127.18 | AY6: Fluorescenti Tubolari | BB6: =+BB4*BB5 -> 850.8984 | BC6: =+BC4*BC5 -> 582.1486 | BD6: =+BD4*BD5 -> 309.6874 | BE6: =+BE4*BE5 -> 2470.05
E7: =+A7*C7*AB7/1000 -> 0 | F7: =+E7*$BA$3 -> 0 | I7: =+A7 -> 0 | M7: =+I7*K7*AC7/1000 -> 0 | N7: =+M7*$BA$3 -> 0 | O7: =+AE7 -> #N/A | P7: =+I7*O7 -> #N/A | W7: =+S7*U7*AD7/1000 -> 0 | X7: =+AF7 -> #N/A | Y7: =+Z7 -> #N/A | Z7: =+S7*X7 -> #N/A | AA7: =+I7*O7 -> #N/A | AB7: =IF(D7="SI",0.67,1) -> 1 | AC7: =IF(L7="SI",0.67,1) -> 1 | AD7: =IF(V7="SI",0.67,1) -> 1 | AE7: =VLOOKUP(H7,$AW$2:$AX$5,2) -> #N/A | AF7: =VLOOKUP(R7,$AW$2:$AX$5,2) -> #N/A | AG7: =IF(P7="NUMERO",P7,0) -> #N/A | AY7: Sodio Alta Pressione | BB7: 0.12 | BC7: 0.12 | BD7: 0.12 | BE7: 0.12
E8: =+A8*C8*AB8/1000 -> 0 | F8: =+E8*$BA$3 -> 0 | I8: =+A8 -> 0 | M8: =+I8*K8*AC8/1000 -> 0 | N8: =+M8*$BA$3 -> 0 | O8: =+AE8 -> #N/A | P8: =+I8*O8 -> #N/A | W8: =+S8*U8*AD8/1000 -> 0 | X8: =+AF8 -> #N/A | Y8: =+Z8 -> #N/A | Z8: =+S8*X8 -> #N/A | AA8: =+I8*O8 -> #N/A | AB8: =IF(D8="SI",0.67,1) -> 1 | AC8: =IF(L8="SI",0.67,1) -> 1 | AD8: =IF(V8="SI",0.67,1) -> 1 | AE8: =VLOOKUP(H8,$AW$2:$AX$5,2) -> #N/A | AF8: =VLOOKUP(R8,$AW$2:$AX$5,2) -> #N/A | AG8: =IF(P8>0,P8,0) -> #N/A | AY8: Sodio Bassa Pressione | BB8: =+BB4*BB7 -> 464.1264 | BC8: =+BC4*BC7 -> 317.5356 | BD8: =+BD4*BD7 -> 168.9204 | BE8: =+BE4*BE7 -> 1347.3
E9: =+A9*C9*AB9/1000 -> 0 | F9: =+E9*$BA$3 -> 0 | I9: =+A9 -> 0 | M9: =+I9*K9*AC9/1000 -> 0 | N9: =+M9*$BA$3 -> 0 | O9: =+AE9 -> #N/A | P9: =+I9*O9 -> #N/A | W9: =+S9*U9*AD9/1000 -> 0 | X9: =+AF9 -> #N/A | Y9: =+Z9 -> #N/A | Z9: =+S9*X9 -> #N/A | AA9: =+I9*O9 -> #N/A | AB9: =IF(D9="SI",0.67,1) -> 1 | AC9: =IF(L9="SI",0.67,1) -> 1 | AD9: =IF(V9="SI",0.67,1) -> 1 | AE9: =VLOOKUP(H9,$AW$2:$AX$5,2) -> #N/A | AF9: =VLOOKUP(R9,$AW$2:$AX$5,2) -> #N/A | AG9: =IF(P9>0,P9,0) -> #N/A | AY9: Ioduri Metallici | BB9: =+BB8*BB5 -> 102.10781 | BC9: =+BC8*BC5 -> 69.857832 | BD9: =+BD8*BD5 -> 37.162488 | BE9: =+BE8*BE5 -> 296.406
E10: =+A10*C10*AB10/1000 -> 0 | F10: =+E10*$BA$3 -> 0 | I10: =+A10 -> 0 | M10: =+I10*K10*AC10/1000 -> 0 | N10: =+M10*$BA$3 -> 0 | O10: =+AE10 -> #N/A | P10: =+I10*O10 -> #N/A | W10: =+S10*U10*AD10/1000 -> 0 | X10: =+AF10 -> #N/A | Y10: =+Z10 -> #N/A | Z10: =+S10*X10 -> #N/A | AA10: =+I10*O10 -> #N/A | AB10: =IF(D10="SI",0.67,1) -> 1 | AC10: =IF(L10="SI",0.67,1) -> 1 | AD10: =IF(V10="SI",0.67,1) -> 1 | AE10: =VLOOKUP(H10,$AW$2:$AX$5,2) -> #N/A | AF10: =VLOOKUP(R10,$AW$2:$AX$5,2) -> #N/A | AG10: =IF(P10>0,P10,0) -> #N/A | AW10: OPZIONE D | AX10: OPZIONE D | AY10: Alogena | BB10: 0.07 | BC10: 0.07 | BD10: 0.07 | BE10: 0.07
E11: =+A11*C11*AB11/1000 -> 0 | F11: =+E11*$BA$3 -> 0 | I11: =+A11 -> 0 | M11: =+I11*K11*AC11/1000 -> 0 | N11: =+M11*$BA$3 -> 0 | O11: =+AE11 -> #N/A | P11: =+I11*O11 -> #N/A | W11: =+S11*U11*AD11/1000 -> 0 | X11: =+AF11 -> #N/A | Y11: =+Z11 -> #N/A | Z11: =+S11*X11 -> #N/A | AA11: =+I11*O11 -> #N/A | AB11: =IF(D11="SI",0.67,1) -> 1 | AC11: =IF(L11="SI",0.67,1) -> 1 | AD11: =IF(V11="SI",0.67,1) -> 1 | AE11: =VLOOKUP(H11,$AW$2:$AX$5,2) -> #N/A | AF11: =VLOOKUP(R11,$AW$2:$AX$5,2) -> #N/A | AG11: =IF(P11>0,P11,0) -> #N/A | AY11: LED | BB11: =+BB10*BB4 -> 270.7404 | BC11: =+BC10*BC4 -> 185.2291 | BD11: =+BD10*BD4 -> 98.5369 | BE11: =+BE10*BE4 -> 785.925
E12: =+A12*C12*AB12/1000 -> 0 | F12: =+E12*$BA$3 -> 0 | I12: =+A12 -> 0 | M12: =+I12*K12*AC12/1000 -> 0 | N12: =+M12*$BA$3 -> 0 | O12: =+AE12 -> #N/A | P12: =+I12*O12 -> #N/A | W12: =+S12*U12*AD12/1000 -> 0 | X12: =+AF12 -> #N/A | Y12: =+Z12 -> #N/A | Z12: =+S12*X12 -> #N/A | AA12: =+I12*O12 -> #N/A | AB12: =IF(D12="SI",0.67,1) -> 1 | AC12: =IF(L12="SI",0.67,1) -> 1 | AD12: =IF(V12="SI",0.67,1) -> 1 | AE12: =VLOOKUP(H12,$AW$2:$AX$5,2) -> #N/A | AF12: =VLOOKUP(R12,$AW$2:$AX$5,2) -> #N/A | AG12: =IF(P12>0,P12,0) -> #N/A | AY12: Altro | BB12: =+BB4+BB6+BB8+BB9+BB11 -> 5555.593 | BC12: =+BC4+BC6+BC8+BC9+BC11 -> 3800.9011 | BD12: =+BD4+BD6+BD8+BD9+BD11 -> 2021.9772 | BE12: =+BE4+BE6+BE8+BE9+BE11 -> 16127.181
E13: =+A13*C13*AB13/1000 -> 0 | F13: =+E13*$BA$3 -> 0 | I13: =+A13 -> 0 | M13: =+I13*K13*AC13/1000 -> 0 | N13: =+M13*$BA$3 -> 0 | O13: =+AE13 -> #N/A | P13: =+I13*O13 -> #N/A | W13: =+S13*U13*AD13/1000 -> 0 | X13: =+AF13 -> #N/A | Y13: =+Z13 -> #N/A | Z13: =+S13*X13 -> #N/A | AA13: =+I13*O13 -> #N/A | AB13: =IF(D13="SI",0.67,1) -> 1 | AC13: =IF(L13="SI",0.67,1) -> 1 | AD13: =IF(V13="SI",0.67,1) -> 1 | AE13: =VLOOKUP(H13,$AW$2:$AX$5,2) -> #N/A | AF13: =VLOOKUP(R13,$AW$2:$AX$5,2) -> #N/A | AG13: =IF(P13>0,P13,0) -> #N/A | BB13: =TRUNC(BB12,2) -> 5555.59 | BC13: =TRUNC(BC12,2) -> 3800.9 | BD13: =TRUNC(BD12,2) -> 2021.97 | BE13: =TRUNC(BE12,2) -> 16127.18
E14: =+A14*C14*AB14/1000 -> 0 | F14: =+E14*$BA$3 -> 0 | I14: =+A14 -> 0 | M14: =+I14*K14*AC14/1000 -> 0 | N14: =+M14*$BA$3 -> 0 | O14: =+AE14 -> #N/A | P14: =+I14*O14 -> #N/A | W14: =+S14*U14*AD14/1000 -> 0 | X14: =+AF14 -> #N/A | Y14: =+Z14 -> #N/A | Z14: =+S14*X14 -> #N/A | AA14: =+I14*O14 -> #N/A | AB14: =IF(D14="SI",0.67,1) -> 1 | AC14: =IF(L14="SI",0.67,1) -> 1 | AD14: =IF(V14="SI",0.67,1) -> 1 | AE14: =VLOOKUP(H14,$AW$2:$AX$5,2) -> #N/A | AF14: =VLOOKUP(R14,$AW$2:$AX$5,2) -> #N/A | AG14: =IF(P14>0,P14,0) -> #N/A
E15: =+A15*C15*AB15/1000 -> 0 | F15: =+E15*$BA$3 -> 0 | I15: =+A15 -> 0 | M15: =+I15*K15*AC15/1000 -> 0 | N15: =+M15*$BA$3 -> 0 | O15: =+AE15 -> #N/A | P15: =+I15*O15 -> #N/A | W15: =+S15*U15*AD15/1000 -> 0 | X15: =+AF15 -> #N/A | Y15: =+Z15 -> #N/A | Z15: =+S15*X15 -> #N/A | AA15: =+I15*O15 -> #N/A | AB15: =IF(D15="SI",0.67,1) -> 1 | AC15: =IF(L15="SI",0.67,1) -> 1 | AD15: =IF(V15="SI",0.67,1) -> 1 | AE15: =VLOOKUP(H15,$AW$2:$AX$5,2) -> #N/A | AF15: =VLOOKUP(R15,$AW$2:$AX$5,2) -> #N/A | AG15: =IF(P15>0,P15,0) -> #N/A | AV15: FONTE: ISPRA | AW15: 558.7 | AX15: g
E16: =+A16*C16*AB16/1000 -> 0 | F16: =+E16*$BA$3 -> 0 | I16: =+A16 -> 0 | M16: =+I16*K16*AC16/1000 -> 0 | N16: =+M16*$BA$3 -> 0 | O16: =+AE16 -> #N/A | P16: =+I16*O16 -> #N/A | W16: =+S16*U16*AD16/1000 -> 0 | X16: =+AF16 -> #N/A | Y16: =+Z16 -> #N/A | Z16: =+S16*X16 -> #N/A | AA16: =+I16*O16 -> #N/A | AB16: =IF(D16="SI",0.67,1) -> 1 | AC16: =IF(L16="SI",0.67,1) -> 1 | AD16: =IF(V16="SI",0.67,1) -> 1 | AE16: =VLOOKUP(H16,$AW$2:$AX$5,2) -> #N/A | AF16: =VLOOKUP(R16,$AW$2:$AX$5,2) -> #N/A | AG16: =IF(P16>0,P16,0) -> #N/A | AV16: Consumi Settore Elettrico | AW16: =+AW15/1000/1000 -> 0.0005587 | AX16: ton CO2
E17: =+A17*C17*AB17/1000 -> 0 | F17: =+E17*$BA$3 -> 0 | I17: =+A17 -> 0 | M17: =+I17*K17*AC17/1000 -> 0 | N17: =+M17*$BA$3 -> 0 | O17: =+AE17 -> #N/A | P17: =+I17*O17 -> #N/A | W17: =+S17*U17*AD17/1000 -> 0 | X17: =+AF17 -> #N/A | Y17: =+Z17 -> #N/A | Z17: =+S17*X17 -> #N/A | AA17: =+I17*O17 -> #N/A | AB17: =IF(D17="SI",0.67,1) -> 1 | AC17: =IF(L17="SI",0.67,1) -> 1 | AD17: =IF(V17="SI",0.67,1) -> 1 | AE17: =VLOOKUP(H17,$AW$2:$AX$5,2) -> #N/A | AF17: =VLOOKUP(R17,$AW$2:$AX$5,2) -> #N/A | AG17: =IF(P17>0,P17,0) -> #N/A | AW17: =+E81*1000 -> 0
E18: =+A18*C18*AB18/1000 -> 0 | F18: =+E18*$BA$3 -> 0 | I18: =+A18 -> 0 | M18: =+I18*K18*AC18/1000 -> 0 | N18: =+M18*$BA$3 -> 0 | O18: =+AE18 -> #N/A | P18: =+I18*O18 -> #N/A | W18: =+S18*U18*AD18/1000 -> 0 | X18: =+AF18 -> #N/A | Y18: =+Z18 -> #N/A | Z18: =+S18*X18 -> #N/A | AA18: =+I18*O18 -> #N/A | AB18: =IF(D18="SI",0.67,1) -> 1 | AC18: =IF(L18="SI",0.67,1) -> 1 | AD18: =IF(V18="SI",0.67,1) -> 1 | AE18: =VLOOKUP(H18,$AW$2:$AX$5,2) -> #N/A | AF18: =VLOOKUP(R18,$AW$2:$AX$5,2) -> #N/A | AG18: =IF(P18>0,P18,0) -> #N/A | AW18: =+AW16*AW17 -> 0
E19: =+A19*C19*AB19/1000 -> 0 | F19: =+E19*$BA$3 -> 0 | I19: =+A19 -> 0 | M19: =+I19*K19*AC19/1000 -> 0 | N19: =+M19*$BA$3 -> 0 | O19: =+AE19 -> #N/A | P19: =+I19*O19 -> #N/A | W19: =+S19*U19*AD19/1000 -> 0 | X19: =+AF19 -> #N/A | Y19: =+Z19 -> #N/A | Z19: =+S19*X19 -> #N/A | AA19: =+I19*O19 -> #N/A | AB19: =IF(D19="SI",0.67,1) -> 1 | AC19: =IF(L19="SI",0.67,1) -> 1 | AD19: =IF(V19="SI",0.67,1) -> 1 | AE19: =VLOOKUP(H19,$AW$2:$AX$5,2) -> #N/A | AF19: =VLOOKUP(R19,$AW$2:$AX$5,2) -> #N/A | AG19: =IF(P19>0,P19,0) -> #N/A | AW19: =+AW17*AW15 -> 0
E20: =+A20*C20*AB20/1000 -> 0 | F20: =+E20*$BA$3 -> 0 | I20: =+A20 -> 0 | M20: =+I20*K20*AC20/1000 -> 0 | N20: =+M20*$BA$3 -> 0 | O20: =+AE20 -> #N/A | P20: =+I20*O20 -> #N/A | W20: =+S20*U20*AD20/1000 -> 0 | X20: =+AF20 -> #N/A | Y20: =+Z20 -> #N/A | Z20: =+S20*X20 -> #N/A | AA20: =+I20*O20 -> #N/A | AB20: =IF(D20="SI",0.67,1) -> 1 | AC20: =IF(L20="SI",0.67,1) -> 1 | AD20: =IF(V20="SI",0.67,1) -> 1 | AE20: =VLOOKUP(H20,$AW$2:$AX$5,2) -> #N/A | AF20: =VLOOKUP(R20,$AW$2:$AX$5,2) -> #N/A | AG20: =IF(P20>0,P20,0) -> #N/A | AW20: =+AW19/1000000 -> 0
E21: =+A21*C21*AB21/1000 -> 0 | F21: =+E21*$BA$3 -> 0 | I21: =+A21 -> 0 | M21: =+I21*K21*AC21/1000 -> 0 | N21: =+M21*$BA$3 -> 0 | O21: =+AE21 -> #N/A | P21: =+I21*O21 -> #N/A | W21: =+S21*U21*AD21/1000 -> 0 | X21: =+AF21 -> #N/A | Y21: =+Z21 -> #N/A | Z21: =+S21*X21 -> #N/A | AA21: =+I21*O21 -> #N/A | AB21: =IF(D21="SI",0.67,1) -> 1 | AC21: =IF(L21="SI",0.67,1) -> 1 | AD21: =IF(V21="SI",0.67,1) -> 1 | AE21: =VLOOKUP(H21,$AW$2:$AX$5,2) -> #N/A | AF21: =VLOOKUP(R21,$AW$2:$AX$5,2) -> #N/A | AG21: =IF(P21>0,P21,0) -> #N/A
E22: =+A22*C22*AB22/1000 -> 0 | F22: =+E22*$BA$3 -> 0 | I22: =+A22 -> 0 | M22: =+I22*K22*AC22/1000 -> 0 | N22: =+M22*$BA$3 -> 0 | O22: =+AE22 -> #N/A | P22: =+I22*O22 -> #N/A | W22: =+S22*U22*AD22/1000 -> 0 | X22: =+AF22 -> #N/A | Y22: =+Z22 -> #N/A | Z22: =+S22*X22 -> #N/A | AA22: =+I22*O22 -> #N/A | AB22: =IF(D22="SI",0.67,1) -> 1 | AC22: =IF(L22="SI",0.67,1) -> 1 | AD22: =IF(V22="SI",0.67,1) -> 1 | AE22: =VLOOKUP(H22,$AW$2:$AX$5,2) -> #N/A | AF22: =VLOOKUP(R22,$AW$2:$AX$5,2) -> #N/A | AG22: =IF(P22>0,P22,0) -> #N/A
E23: =+A23*C23*AB23/1000 -> 0 | F23: =+E23*$BA$3 -> 0 | I23: =+A23 -> 0 | M23: =+I23*K23*AC23/1000 -> 0 | N23: =+M23*$BA$3 -> 0 | O23: =+AE23 -> #N/A | P23: =+I23*O23 -> #N/A | W23: =+S23*U23*AD23/1000 -> 0 | X23: =+AF23 -> #N/A | Y23: =+Z23 -> #N/A | Z23: =+S23*X23 -> #N/A | AA23: =+I23*O23 -> #N/A | AB23: =IF(D23="SI",0.67,1) -> 1 | AC23: =IF(L23="SI",0.67,1) -> 1 | AD23: =IF(V23="SI",0.67,1) -> 1 | AE23: =VLOOKUP(H23,$AW$2:$AX$5,2) -> #N/A | AF23: =VLOOKUP(R23,$AW$2:$AX$5,2) -> #N/A | AG23: =IF(P23>0,P23,0) -> #N/A
E24: =+A24*C24*AB24/1000 -> 0 | F24: =+E24*$BA$3 -> 0 | I24: =+A24 -> 0 | M24: =+I24*K24*AC24/1000 -> 0 | N24: =+M24*$BA$3 -> 0 | O24: =+AE24 -> #N/A | P24: =+I24*O24 -> #N/A | W24: =+S24*U24*AD24/1000 -> 0 | X24: =+AF24 -> #N/A | Y24: =+Z24 -> #N/A | Z24: =+S24*X24 -> #N/A | AA24: =+I24*O24 -> #N/A | AB24: =IF(D24="SI",0.67,1) -> 1 | AC24: =IF(L24="SI",0.67,1) -> 1 | AD24: =IF(V24="SI",0.67,1) -> 1 | AE24: =VLOOKUP(H24,$AW$2:$AX$5,2) -> #N/A | AF24: =VLOOKUP(R24,$AW$2:$AX$5,2) -> #N/A | AG24: =IF(P24>0,P24,0) -> #N/A
E25: =+A25*C25*AB25/1000 -> 0 | F25: =+E25*$BA$3 -> 0 | I25: =+A25 -> 0 | M25: =+I25*K25*AC25/1000 -> 0 | N25: =+M25*$BA$3 -> 0 | O25: =+AE25 -> #N/A | P25: =+I25*O25 -> #N/A | W25: =+S25*U25*AD25/1000 -> 0 | X25: =+AF25 -> #N/A | Y25: =+Z25 -> #N/A | Z25: =+S25*X25 -> #N/A | AA25: =+I25*O25 -> #N/A | AB25: =IF(D25="SI",0.67,1) -> 1 | AC25: =IF(L25="SI",0.67,1) -> 1 | AD25: =IF(V25="SI",0.67,1) -> 1 | AE25: =VLOOKUP(H25,$AW$2:$AX$5,2) -> #N/A | AF25: =VLOOKUP(R25,$AW$2:$AX$5,2) -> #N/A | AG25: =IF(P25>0,P25,0) -> #N/A
E26: =+A26*C26*AB26/1000 -> 0 | F26: =+E26*$BA$3 -> 0 | I26: =+A26 -> 0 | M26: =+I26*K26*AC26/1000 -> 0 | N26: =+M26*$BA$3 -> 0 | O26: =+AE26 -> #N/A | P26: =+I26*O26 -> #N/A | W26: =+S26*U26*AD26/1000 -> 0 | X26: =+AF26 -> #N/A | Y26: =+Z26 -> #N/A | Z26: =+S26*X26 -> #N/A | AA26: =+I26*O26 -> #N/A | AB26: =IF(D26="SI",0.67,1) -> 1 | AC26: =IF(L26="SI",0.67,1) -> 1 | AD26: =IF(V26="SI",0.67,1) -> 1 | AE26: =VLOOKUP(H26,$AW$2:$AX$5,2) -> #N/A | AF26: =VLOOKUP(R26,$AW$2:$AX$5,2) -> #N/A | AG26: =IF(P26>0,P26,0) -> #N/A
E27: =+A27*C27*AB27/1000 -> 0 | F27: =+E27*$BA$3 -> 0 | I27: =+A27 -> 0 | M27: =+I27*K27*AC27/1000 -> 0 | N27: =+M27*$BA$3 -> 0 | O27: =+AE27 -> #N/A | P27: =+I27*O27 -> #N/A | W27: =+S27*U27*AD27/1000 -> 0 | X27: =+AF27 -> #N/A | Y27: =+Z27 -> #N/A | Z27: =+S27*X27 -> #N/A | AA27: =+I27*O27 -> #N/A | AB27: =IF(D27="SI",0.67,1) -> 1 | AC27: =IF(L27="SI",0.67,1) -> 1 | AD27: =IF(V27="SI",0.67,1) -> 1 | AE27: =VLOOKUP(H27,$AW$2:$AX$5,2) -> #N/A | AF27: =VLOOKUP(R27,$AW$2:$AX$5,2) -> #N/A | AG27: =IF(P27>0,P27,0) -> #N/A
E28: =+A28*C28*AB28/1000 -> 0 | F28: =+E28*$BA$3 -> 0 | I28: =+A28 -> 0 | M28: =+I28*K28*AC28/1000 -> 0 | N28: =+M28*$BA$3 -> 0 | O28: =+AE28 -> #N/A | P28: =+I28*O28 -> #N/A | W28: =+S28*U28*AD28/1000 -> 0 | X28: =+AF28 -> #N/A | Y28: =+Z28 -> #N/A | Z28: =+S28*X28 -> #N/A | AA28: =+I28*O28 -> #N/A | AB28: =IF(D28="SI",0.67,1) -> 1 | AC28: =IF(L28="SI",0.67,1) -> 1 | AD28: =IF(V28="SI",0.67,1) -> 1 | AE28: =VLOOKUP(H28,$AW$2:$AX$5,2) -> #N/A | AF28: =VLOOKUP(R28,$AW$2:$AX$5,2) -> #N/A | AG28: =IF(P28>0,P28,0) -> #N/A
E29: =+A29*C29*AB29/1000 -> 0 | F29: =+E29*$BA$3 -> 0 | I29: =+A29 -> 0 | M29: =+I29*K29*AC29/1000 -> 0 | N29: =+M29*$BA$3 -> 0 | O29: =+AE29 -> #N/A | P29: =+I29*O29 -> #N/A | W29: =+S29*U29*AD29/1000 -> 0 | X29: =+AF29 -> #N/A | Y29: =+Z29 -> #N/A | Z29: =+S29*X29 -> #N/A | AA29: =+I29*O29 -> #N/A | AB29: =IF(D29="SI",0.67,1) -> 1 | AC29: =IF(L29="SI",0.67,1) -> 1 | AD29: =IF(V29="SI",0.67,1) -> 1 | AE29: =VLOOKUP(H29,$AW$2:$AX$5,2) -> #N/A | AF29: =VLOOKUP(R29,$AW$2:$AX$5,2) -> #N/A | AG29: =IF(P29>0,P29,0) -> #N/A
E30: =+A30*C30*AB30/1000 -> 0 | F30: =+E30*$BA$3 -> 0 | I30: =+A30 -> 0 | M30: =+I30*K30*AC30/1000 -> 0 | N30: =+M30*$BA$3 -> 0 | O30: =+AE30 -> #N/A | P30: =+I30*O30 -> #N/A | W30: =+S30*U30*AD30/1000 -> 0 | X30: =+AF30 -> #N/A | Y30: =+Z30 -> #N/A | Z30: =+S30*X30 -> #N/A | AA30: =+I30*O30 -> #N/A | AB30: =IF(D30="SI",0.67,1) -> 1 | AC30: =IF(L30="SI",0.67,1) -> 1 | AD30: =IF(V30="SI",0.67,1) -> 1 | AE30: =VLOOKUP(H30,$AW$2:$AX$5,2) -> #N/A | AF30: =VLOOKUP(R30,$AW$2:$AX$5,2) -> #N/A | AG30: =IF(P30>0,P30,0) -> #N/A
E31: =+A31*C31*AB31/1000 -> 0 | F31: =+E31*$BA$3 -> 0 | I31: =+A31 -> 0 | M31: =+I31*K31*AC31/1000 -> 0 | N31: =+M31*$BA$3 -> 0 | O31: =+AE31 -> #N/A | P31: =+I31*O31 -> #N/A | W31: =+S31*U31*AD31/1000 -> 0 | X31: =+AF31 -> #N/A | Y31: =+Z31 -> #N/A | Z31: =+S31*X31 -> #N/A | AA31: =+I31*O31 -> #N/A | AB31: =IF(D31="SI",0.67,1) -> 1 | AC31: =IF(L31="SI",0.67,1) -> 1 | AD31: =IF(V31="SI",0.67,1) -> 1 | AE31: =VLOOKUP(H31,$AW$2:$AX$5,2) -> #N/A | AF31: =VLOOKUP(R31,$AW$2:$AX$5,2) -> #N/A | AG31: =IF(P31>0,P31,0) -> #N/A
E32: =+A32*C32*AB32/1000 -> 0 | F32: =+E32*$BA$3 -> 0 | I32: =+A32 -> 0 | M32: =+I32*K32*AC32/1000 -> 0 | N32: =+M32*$BA$3 -> 0 | O32: =+AE32 -> #N/A | P32: =+I32*O32 -> #N/A | W32: =+S32*U32*AD32/1000 -> 0 | X32: =+AF32 -> #N/A | Y32: =+Z32 -> #N/A | Z32: =+S32*X32 -> #N/A | AA32: =+I32*O32 -> #N/A | AB32: =IF(D32="SI",0.67,1) -> 1 | AC32: =IF(L32="SI",0.67,1) -> 1 | AD32: =IF(V32="SI",0.67,1) -> 1 | AE32: =VLOOKUP(H32,$AW$2:$AX$5,2) -> #N/A | AF32: =VLOOKUP(R32,$AW$2:$AX$5,2) -> #N/A | AG32: =IF(P32>0,P32,0) -> #N/A
... E56: =+A56*C56*AB56/1000 -> 0 | F56: =+E56*$BA$3 -> 0 | I56: =+A56 -> 0 | M56: =+I56*K56*AC56/1000 -> 0 | N56: =+M56*$BA$3 -> 0 | O56: =+AE56 -> #N/A | P56: =+I56*O56 -> #N/A | W56: =+S56*U56*AD56/1000 -> 0 | X56: =+AF56 -> #N/A | Y56: =+Z56 -> #N/A | Z56: =+S56*X56 -> #N/A | AA56: =+I56*O56 -> #N/A | AB56: =IF(D56="SI",0.67,1) -> 1 | AC56: =IF(L56="SI",0.67,1) -> 1 | AD56: =IF(V56="SI",0.67,1) -> 1 | AE56: =VLOOKUP(H56,$AW$2:$AX$5,2) -> #N/A | AF56: =VLOOKUP(R56,$AW$2:$AX$5,2) -> #N/A | AG56: =IF(P56>0,P56,0) -> #N/A
A57: =SUM(A7:A56) -> 0 | B57: TOTALE | E57: =SUM(E7:E56) -> 0 | F57: =SUM(F7:F56) -> 0 | I57: =SUM(I7:I56) -> 0 | J57: TOTALE | M57: =SUM(M7:M56) -> 0 | N57: =SUM(N7:N56) -> 0 | P57: =+AB58 -> 0 | S57: =SUM(S7:S56) -> 0 | T57: TOTALE | W57: =SUM(W7:W56) -> 0 | Y57: =+AE58 -> 0
AB58: =SUMIFS(P7:P56,P7:P56,">0") -> 0 | AC58: =SUMIFS(Q7:Q56,Q7:Q56,">0") -> 0 | AD58: =SUMIFS(R7:R56,R7:R56,">0") -> 0 | AE58: =SUMIFS(Y7:Y56,Y7:Y56,">0") -> 0
A60: S.T.I. (scegliere da menù a tendina) * | B60: Descrizione dettagliata del servizio tecnologico integrato ed analisi del potenziale risparmio energetico atteso * | X60: Risparmio energetico Energia Primaria Atteso [kWh/anno] * | Y60: Costo Totale [€] (campo compilato in automatico)
Y61: =+AA61 -> 0 | AA61: =IF(A61="SI",$BE$13,0) -> 0 | AB61: =IF(A61="SI",1,0) -> 0 | AC61: =IF(B61="SI",1,0) -> 0 | AD61: =IF(C61="SI",1,0) -> 0
Y62: =+AA62 -> 0 | AA62: =IF(A62="SI",$BE$13,0) -> 0 | AB62: =IF(A62="SI",1,0) -> 0 | AC62: =IF(B62="SI",1,0) -> 0 | AD62: =IF(C62="SI",1,0) -> 0
Y63: =+AA63 -> 0 | AA63: =IF(A63="SI",$BE$13,0) -> 0 | AB63: =IF(A63="SI",1,0) -> 0 | AC63: =IF(B63="SI",1,0) -> 0 | AD63: =IF(C63="SI",1,0) -> 0
Y64: =+AA64 -> 0 | AA64: =IF(A64="SI",$BE$13,0) -> 0 | AB64: =IF(A64="SI",1,0) -> 0 | AC64: =IF(B64="SI",1,0) -> 0 | AD64: =IF(C64="SI",1,0) -> 0
Y65: =+AA65 -> 0 | AA65: =IF(A65="SI",$BE$13,0) -> 0 | AB65: =IF(A65="SI",1,0) -> 0 | AC65: =IF(B65="SI",1,0) -> 0 | AD65: =IF(C65="SI",1,0) -> 0
Y66: =+AA66 -> 0 | AA66: =IF(A66="SI",$BE$13,0) -> 0 | AB66: =IF(A66="SI",1,0) -> 0 | AC66: =IF(B66="SI",1,0) -> 0 | AD66: =IF(C66="SI",1,0) -> 0
Y67: =+AA67 -> 0 | AA67: =IF(A67="SI",$BE$13,0) -> 0 | AB67: =IF(A67="SI",1,0) -> 0 | AC67: =IF(B67="SI",1,0) -> 0 | AD67: =IF(C67="SI",1,0) -> 0
Y68: =+AA68 -> 0 | AA68: =IF(A68="SI",$BE$13,0) -> 0 | AB68: =IF(A68="SI",1,0) -> 0 | AC68: =IF(B68="SI",1,0) -> 0 | AD68: =IF(C68="SI",1,0) -> 0
Y69: =+AA69 -> 0 | AA69: =IF(A69="SI",$BE$13,0) -> 0 | AB69: =IF(A69="SI",1,0) -> 0 | AC69: =IF(B69="SI",1,0) -> 0 | AD69: =IF(C69="SI",1,0) -> 0
Y70: =+AA70 -> 0 | AA70: =IF(A70="SI",$BE$13,0) -> 0 | AB70: =IF(A70="SI",1,0) -> 0 | AC70: =IF(B70="SI",1,0) -> 0 | AD70: =IF(C70="SI",1,0) -> 0
Y71: =+AA71 -> 0 | AA71: =IF(A71="SI",$BE$13,0) -> 0 | AB71: =IF(A71="SI",1,0) -> 0 | AC71: =IF(B71="SI",1,0) -> 0 | AD71: =IF(C71="SI",1,0) -> 0
Y72: =+AA72 -> 0 | AA72: =IF(A72="SI",$BE$13,0) -> 0 | AB72: =IF(A72="SI",1,0) -> 0 | AC72: =IF(B72="SI",1,0) -> 0 | AD72: =IF(C72="SI",1,0) -> 0
... Y75: =+AA75 -> 0 | AA75: =IF(A75="SI",$BE$13,0) -> 0 | AB75: =IF(A75="SI",1,0) -> 0 | AC75: =IF(B75="SI",1,0) -> 0 | AD75: =IF(C75="SI",1,0) -> 0
A76: TOTALE | X76: =SUM(X61:X75) -> 0 | Y76: =SUM(Y61:Y75) -> 0 | AB76: =SUM(AB61:AB75) -> 0 | AC76: =SUM(AC61:AC75) -> 0 | AD76: =SUM(AD61:AD75) -> 0
A78: Costo Totale [€] (campo compilato in automatico) | E78: =+P57+Y57+Y76 -> 0
A79: Risparmio Energetico Opz. A/B/C [MWh/anno] (campo compilato in automatico) | E79: =+(F57-N57)/1000 -> 0
A80: Risparmio Energetico Atteso Opz. D [MWh/anno] (campo compilato in automatico) | E80: =+X76/1000 -> 0
A81: Risparmio Energetico Totale [MWh/anno] (campo compilato in automatico) | E81: =+E79+E80 -> 0
A82: Riduzione emissioni [ton. CO2/anno] (campo compilato in automatico) | E82: =+E81*1000*AW16 -> 0
A84: NOTA: COMPILARE ESCLUSIVAMENTE LE CELLE IN GRIGIO
A85: * DATI OBBLIGATORI | B85: * DATI OBBLIGATORI
A87: =+E78-Y76 -> 0 | B87: 312a
A88: =+Y76 -> 0 | B88: 331b
A89: =+A87+A88 -> 0 | B89: totale | C89: =+E78-A89 -> 0
A91: =+F57 -> 0 | B91: CONSUMO PRE | C91: =+A91/1000 -> 0
A92: =+N57 -> 0 | B92: CONSUMO POST | C92: =+N57/1000 -> 0
B93: RISPARMIO A/B/C | C93: =+C91-C92 -> 0
B94: RISPARMIO D | C94: =+E80 -> 0
B95: RISPARMIO TOTALE | C95: =+C93+C94 -> 0 | D95: =+E81-C95 -> 0
B96: PERCENTUALE RISPARMIO | C96: =+C95/C91 -> #DIV/0!
B98: PUNTI LUCE | C98: =+I57+S57 -> 0
B99: STI | C99: =+AB76 -> 0

Sheet PdI_9
AF1: PFTE
AF2: Progetto Esecutivo | AL2: 1 - | AM2: 2 - | AN2: 3 - | AO2: 4 - | AP2: 5 - | AW2: OPZIONE | AX2: IMPORTO
A3: =CONCATENATE(AJ3,AK3,'DATI DI PARTENZA'!K6) -> PERIMETRO DI INTERVENTO: | AF3: Nessun progetto | AJ3: PERIMETRO DI INTERVENTO | AK3: : | AL3: =+'DATI DI PARTENZA'!C6 -> 0 | AM3: =+'DATI DI PARTENZA'!D6 -> 0 | AN3: =+'DATI DI PARTENZA'!E6 -> 0 | AO3: =+'DATI DI PARTENZA'!F6 -> 0 | AP3: =+'DATI DI PARTENZA'!G6 -> 0 | AR3: =CONCATENATE(AW3,AU3,AS3,AT3) -> OPZIONE A: 5555,59 € | AS3: =+BB13 -> 5555.59 | AT3: € | AU3: : | AW3: OPZIONE A | AX3: =+BB13 -> 5555.59 | AY3: Vapori di Mercurio | AZ3: SI | BA3: 4151.875 | BB3: OPZA | BC3: OPZB | BD3: OPZC | BE3: OPZD
A4: INDIRIZZO DI RIFERIMENTO DEL POD - PERIMETRO DI INTERVENTO | X4: =+'DATI DI PARTENZA'!K7 -> 0 | AJ4: Perimetro di Intervento | AL4: =+'DATI DI PARTENZA'!C6 -> 0 | AM4: =+'DATI DI PARTENZA'!D6 -> 0 | AN4: =+'DATI DI PARTENZA'!E6 -> 0 | AO4: =+'DATI DI PARTENZA'!F6 -> 0 | AP4: =+'DATI DI PARTENZA'!G6 -> 0 | AR4: =CONCATENATE(AW4,AU4,AS4,AT4) -> OPZIONE B: 3800,9 € | AS4: =+BC13 -> 3800.9 | AT4: € | AU4: : | AW4: OPZIONE B | AX4: =+BC13 -> 3800.9 | AY4: Incandescenza | AZ4: NO | BB4: 3867.72 | BC4: 2646.13 | BD4: 1407.67 | BE4: 11227.5
A5: SITUAZIONE ANTE INTERVENTO | H5: SITUAZIONE POST INTERVENTO | R5: NUOVI PUNTI LUCE | AR5: =CONCATENATE(AW5,AU5,AS5,AT5) -> OPZIONE C: 2021,97 € | AS5: =+BD13 -> 2021.97 | AT5: € | AU5: : | AW5: OPZIONE C | AX5: =+BD13 -> 2021.97 | AY5: Fluorescenti Compatte | BB5: =+(0.22)-(0.22*'DATI DI PARTENZA'!$B$11) -> 0.22 | BC5: =+(0.22)-(0.22*'DATI DI PARTENZA'!$B$11) -> 0.22 | BD5: =+(0.22)-(0.22*'DATI DI PARTENZA'!$B$11) -> 0.22 | BE5: =+(0.22)-(0.22*'DATI DI PARTENZA'!$B$11) -> 0.22
A6: N° Punti Luce * | B6: Tipologia Sorgente Luminosa (scegliere da menù a tendina) * | C6: Potenza Nominale Unitaria (W) * | D6: Regolazione di flusso (scegliere da menù a tendina) * | E6: Potenza Complessiva [kW] (campo compilato in automatico) | F6: Consumo Energetico [kWh/anno] (campo compilato in automatico) | H6: Intervento (scegliere da menù a tendina) * | I6: N° Punti Luce (campo compilato in automatico) | J6: Tipologia Sorgente Luminosa (scegliere da menù a tendina) * | K6: Potenza Nominale Unitaria (W) * | L6: Regolazione di flusso (scegliere da menù a tendina) * | M6: Potenza Complessiva [kW] (campo compilato in automatico) | N6: Consumo Energetico [kWh/anno] (campo compilato in automatico) | O6: Costo Unitario [€] (campo compilato in automatico) | P6: Costo Totale [€] (campo compilato in automatico) | R6: Intervento (scegliere da menù a tendina) * | S6: N° Punti Luce * | T6: Tipologia Sorgente Luminosa (scegliere da menù a tendina) * | U6: Potenza Nominale Unitaria (W) * | V6: Regolazione di flusso (scegliere da menù a tendina) * | W6: Potenza Complessiva [kW] (campo compilato in automatico) | X6: Costo Unitario [€] (campo compilato in automatico) | Y6: Costo Totale [€] (campo compilato in automatico) | AE6: SOSTITUZIONE | AF6: NUOVI | AJ6: Perimetro di Intervento | AL6: =+'DATI DI PARTENZA'!C7 -> 0 | AM6: =+'DATI DI PARTENZA'!D7 -> 0 | AN6: =+'DATI DI PARTENZA'!E7 -> 0 | AO6: =+'DATI DI PARTENZA'!F7 -> 0 | AP6: =+'DATI DI PARTENZA'!G7 -> 0 | AR6: =CONCATENATE(AW6,AU6,AS6,AT6) -> OPZIONE D: 16127,18 € | AS6: =+BE13 -> 16127.18 | AT6: € | AU6: : | AW6: OPZIONE D | AX6: =+BE13 -> 16127.18 | AY6: Fluorescenti Tubolari | BB6: =+BB4*BB5 -> 850.8984 | BC6: =+BC4*BC5 -> 582.1486 | BD6: =+BD4*BD5 -> 309.6874 | BE6: =+BE4*BE5 -> 2470.05
E7: =+A7*C7*AB7/1000 -> 0 | F7: =+E7*$BA$3 -> 0 | I7: =+A7 -> 0 | M7: =+I7*K7*AC7/1000 -> 0 | N7: =+M7*$BA$3 -> 0 | O7: =+AE7 -> #N/A | P7: =+I7*O7 -> #N/A | W7: =+S7*U7*AD7/1000 -> 0 | X7: =+AF7 -> #N/A | Y7: =+Z7 -> #N/A | Z7: =+S7*X7 -> #N/A | AA7: =+I7*O7 -> #N/A | AB7: =IF(D7="SI",0.67,1) -> 1 | AC7: =IF(L7="SI",0.67,1) -> 1 | AD7: =IF(V7="SI",0.67,1) -> 1 | AE7: =VLOOKUP(H7,$AW$2:$AX$5,2) -> #N/A | AF7: =VLOOKUP(R7,$AW$2:$AX$5,2) -> #N/A | AG7: =IF(P7="NUMERO",P7,0) -> #N/A | AY7: Sodio Alta Pressione | BB7: 0.12 | BC7: 0.12 | BD7: 0.12 | BE7: 0.12
E8: =+A8*C8*AB8/1000 -> 0 | F8: =+E8*$BA$3 -> 0 | I8: =+A8 -> 0 | M8: =+I8*K8*AC8/1000 -> 0 | N8: =+M8*$BA$3 -> 0 | O8: =+AE8 -> #N/A | P8: =+I8*O8 -> #N/A | W8: =+S8*U8*AD8/1000 -> 0 | X8: =+AF8 -> #N/A | Y8: =+Z8 -> #N/A | Z8: =+S8*X8 -> #N/A | AA8: =+I8*O8 -> #N/A | AB8: =IF(D8="SI",0.67,1) -> 1 | AC8: =IF(L8="SI",0.67,1) -> 1 | AD8: =IF(V8="SI",0.67,1) -> 1 | AE8: =VLOOKUP(H8,$AW$2:$AX$5,2) -> #N/A | AF8: =VLOOKUP(R8,$AW$2:$AX$5,2) -> #N/A | AG8: =IF(P8>0,P8,0) -> #N/A | AY8: Sodio Bassa Pressione | BB8: =+BB4*BB7 -> 464.1264 | BC8: =+BC4*BC7 -> 317.5356 | BD8: =+BD4*BD7 -> 168.9204 | BE8: =+BE4*BE7 -> 1347.3
E9: =+A9*C9*AB9/1000 -> 0 | F9: =+E9*$BA$3 -> 0 | I9: =+A9 -> 0 | M9: =+I9*K9*AC9/1000 -> 0 | N9: =+M9*$BA$3 -> 0 | O9: =+AE9 -> #N/A | P9: =+I9*O9 -> #N/A | W9: =+S9*U9*AD9/1000 -> 0 | X9: =+AF9 -> #N/A | Y9: =+Z9 -> #N/A | Z9: =+S9*X9 -> #N/A | AA9: =+I9*O9 -> #N/A | AB9: =IF(D9="SI",0.67,1) -> 1 | AC9: =IF(L9="SI",0.67,1) -> 1 | AD9: =IF(V9="SI",0.67,1) -> 1 | AE9: =VLOOKUP(H9,$AW$2:$AX$5,2) -> #N/A | AF9: =VLOOKUP(R9,$AW$2:$AX$5,2) -> #N/A | AG9: =IF(P9>0,P9,0) -> #N/A | AY9: Ioduri Metallici | BB9: =+BB8*BB5 -> 102.10781 | BC9: =+BC8*BC5 -> 69.857832 | BD9: =+BD8*BD5 -> 37.162488 | BE9: =+BE8*BE5 -> 296.406
E10: =+A10*C10*AB10/1000 -> 0 | F10: =+E10*$BA$3 -> 0 | I10: =+A10 -> 0 | M10: =+I10*K10*AC10/1000 -> 0 | N10: =+M10*$BA$3 -> 0 | O10: =+AE10 -> #N/A | P10: =+I10*O10 -> #N/A | W10: =+S10*U10*AD10/1000 -> 0 | X10: =+AF10 -> #N/A | Y10: =+Z10 -> #N/A | Z10: =+S10*X10 -> #N/A | AA10: =+I10*O10 -> #N/A | AB10: =IF(D10="SI",0.67,1) -> 1 | AC10: =IF(L10="SI",0.67,1) -> 1 | AD10: =IF(V10="SI",0.67,1) -> 1 | AE10: =VLOOKUP(H10,$AW$2:$AX$5,2) -> #N/A | AF10: =VLOOKUP(R10,$AW$2:$AX$5,2) -> #N/A | AG10: =IF(P10>0,P10,0) -> #N/A | AW10: OPZIONE D | AX10: OPZIONE D | AY10: Alogena | BB10: 0.07 | BC10: 0.07 | BD10: 0.07 | BE10: 0.07
E11: =+A11*C11*AB11/1000 -> 0 | F11: =+E11*$BA$3 -> 0 | I11: =+A11 -> 0 | M11: =+I11*K11*AC11/1000 -> 0 | N11: =+M11*$BA$3 -> 0 | O11: =+AE11 -> #N/A | P11: =+I11*O11 -> #N/A | W11: =+S11*U11*AD11/1000 -> 0 | X11: =+AF11 -> #N/A | Y11: =+Z11 -> #N/A | Z11: =+S11*X11 -> #N/A | AA11: =+I11*O11 -> #N/A | AB11: =IF(D11="SI",0.67,1) -> 1 | AC11: =IF(L11="SI",0.67,1) -> 1 | AD11: =IF(V11="SI",0.67,1) -> 1 | AE11: =VLOOKUP(H11,$AW$2:$AX$5,2) -> #N/A | AF11: =VLOOKUP(R11,$AW$2:$AX$5,2) -> #N/A | AG11: =IF(P11>0,P11,0) -> #N/A | AY11: LED | BB11: =+BB10*BB4 -> 270.7404 | BC11: =+BC10*BC4 -> 185.2291 | BD11: =+BD10*BD4 -> 98.5369 | BE11: =+BE10*BE4 -> 785.925
E12: =+A12*C12*AB12/1000 -> 0 | F12: =+E12*$BA$3 -> 0 | I12: =+A12 -> 0 | M12: =+I12*K12*AC12/1000 -> 0 | N12: =+M12*$BA$3 -> 0 | O12: =+AE12 -> #N/A | P12: =+I12*O12 -> #N/A | W12: =+S12*U12*AD12/1000 -> 0 | X12: =+AF12 -> #N/A | Y12: =+Z12 -> #N/A | Z12: =+S12*X12 -> #N/A | AA12: =+I12*O12 -> #N/A | AB12: =IF(D12="SI",0.67,1) -> 1 | AC12: =IF(L12="SI",0.67,1) -> 1 | AD12: =IF(V12="SI",0.67,1) -> 1 | AE12: =VLOOKUP(H12,$AW$2:$AX$5,2) -> #N/A | AF12: =VLOOKUP(R12,$AW$2:$AX$5,2) -> #N/A | AG12: =IF(P12>0,P12,0) -> #N/A | AY12: Altro | BB12: =+BB4+BB6+BB8+BB9+BB11 -> 5555.593 | BC12: =+BC4+BC6+BC8+BC9+BC11 -> 3800.9011 | BD12: =+BD4+BD6+BD8+BD9+BD11 -> 2021.9772 | BE12: =+BE4+BE6+BE8+BE9+BE11 -> 16127.181
E13: =+A13*C13*AB13/1000 -> 0 | F13: =+E13*$BA$3 -> 0 | I13: =+A13 -> 0 | M13: =+I13*K13*AC13/1000 -> 0 | N13: =+M13*$BA$3 -> 0 | O13: =+AE13 -> #N/A | P13: =+I13*O13 -> #N/A | W13: =+S13*U13*AD13/1000 -> 0 | X13: =+AF13 -> #N/A | Y13: =+Z13 -> #N/A | Z13: =+S13*X13 -> #N/A | AA13: =+I13*O13 -> #N/A | AB13: =IF(D13="SI",0.67,1) -> 1 | AC13: =IF(L13="SI",0.67,1) -> 1 | AD13: =IF(V13="SI",0.67,1) -> 1 | AE13: =VLOOKUP(H13,$AW$2:$AX$5,2) -> #N/A | AF13: =VLOOKUP(R13,$AW$2:$AX$5,2) -> #N/A | AG13: =IF(P13>0,P13,0) -> #N/A | BB13: =TRUNC(BB12,2) -> 5555.59 | BC13: =TRUNC(BC12,2) -> 3800.9 | BD13: =TRUNC(BD12,2) -> 2021.97 | BE13: =TRUNC(BE12,2) -> 16127.18
E14: =+A14*C14*AB14/1000 -> 0 | F14: =+E14*$BA$3 -> 0 | I14: =+A14 -> 0 | M14: =+I14*K14*AC14/1000 -> 0 | N14: =+M14*$BA$3 -> 0 | O14: =+AE14 -> #N/A | P14: =+I14*O14 -> #N/A | W14: =+S14*U14*AD14/1000 -> 0 | X14: =+AF14 -> #N/A | Y14: =+Z14 -> #N/A | Z14: =+S14*X14 -> #N/A | AA14: =+I14*O14 -> #N/A | AB14: =IF(D14="SI",0.67,1) -> 1 | AC14: =IF(L14="SI",0.67,1) -> 1 | AD14: =IF(V14="SI",0.67,1) -> 1 | AE14: =VLOOKUP(H14,$AW$2:$AX$5,2) -> #N/A | AF14: =VLOOKUP(R14,$AW$2:$AX$5,2) -> #N/A | AG14: =IF(P14>0,P14,0) -> #N/A
E15: =+A15*C15*AB15/1000 -> 0 | F15: =+E15*$BA$3 -> 0 | I15: =+A15 -> 0 | M15: =+I15*K15*AC15/1000 -> 0 | N15: =+M15*$BA$3 -> 0 | O15: =+AE15 -> #N/A | P15: =+I15*O15 -> #N/A | W15: =+S15*U15*AD15/1000 -> 0 | X15: =+AF15 -> #N/A | Y15: =+Z15 -> #N/A | Z15: =+S15*X15 -> #N/A | AA15: =+I15*O15 -> #N/A | AB15: =IF(D15="SI",0.67,1) -> 1 | AC15: =IF(L15="SI",0.67,1) -> 1 | AD15: =IF(V15="SI",0.67,1) -> 1 | AE15: =VLOOKUP(H15,$AW$2:$AX$5,2) -> #N/A | AF15: =VLOOKUP(R15,$AW$2:$AX$5,2) -> #N/A | AG15: =IF(P15>0,P15,0) -> #N/A | AV15: FONTE: ISPRA | AW15: 558.7 | AX15: g
E16: =+A16*C16*AB16/1000 -> 0 | F16: =+E16*$BA$3 -> 0 | I16: =+A16 -> 0 | M16: =+I16*K16*AC16/1000 -> 0 | N16: =+M16*$BA$3 -> 0 | O16: =+AE16 -> #N/A | P16: =+I16*O16 -> #N/A | W16: =+S16*U16*AD16/1000 -> 0 | X16: =+AF16 -> #N/A | Y16: =+Z16 -> #N/A | Z16: =+S16*X16 -> #N/A | AA16: =+I16*O16 -> #N/A | AB16: =IF(D16="SI",0.67,1) -> 1 | AC16: =IF(L16="SI",0.67,1) -> 1 | AD16: =IF(V16="SI",0.67,1) -> 1 | AE16: =VLOOKUP(H16,$AW$2:$AX$5,2) -> #N/A | AF16: =VLOOKUP(R16,$AW$2:$AX$5,2) -> #N/A | AG16: =IF(P16>0,P16,0) -> #N/A | AV16: Consumi Settore Elettrico | AW16: =+AW15/1000/1000 -> 0.0005587 | AX16: ton CO2
E17: =+A17*C17*AB17/1000 -> 0 | F17: =+E17*$BA$3 -> 0 | I17: =+A17 -> 0 | M17: =+I17*K17*AC17/1000 -> 0 | N17: =+M17*$BA$3 -> 0 | O17: =+AE17 -> #N/A | P17: =+I17*O17 -> #N/A | W17: =+S17*U17*AD17/1000 -> 0 | X17: =+AF17 -> #N/A | Y17: =+Z17 -> #N/A | Z17: =+S17*X17 -> #N/A | AA17: =+I17*O17 -> #N/A | AB17: =IF(D17="SI",0.67,1) -> 1 | AC17: =IF(L17="SI",0.67,1) -> 1 | AD17: =IF(V17="SI",0.67,1) -> 1 | AE17: =VLOOKUP(H17,$AW$2:$AX$5,2) -> #N/A | AF17: =VLOOKUP(R17,$AW$2:$AX$5,2) -> #N/A | AG17: =IF(P17>0,P17,0) -> #N/A | AW17: =+E81*1000 -> 0
E18: =+A18*C18*AB18/1000 -> 0 | F18: =+E18*$BA$3 -> 0 | I18: =+A18 -> 0 | M18: =+I18*K18*AC18/1000 -> 0 | N18: =+M18*$BA$3 -> 0 | O18: =+AE18 -> #N/A | P18: =+I18*O18 -> #N/A | W18: =+S18*U18*AD18/1000 -> 0 | X18: =+AF18 -> #N/A | Y18: =+Z18 -> #N/A | Z18: =+S18*X18 -> #N/A | AA18: =+I18*O18 -> #N/A | AB18: =IF(D18="SI",0.67,1) -> 1 | AC18: =IF(L18="SI",0.67,1) -> 1 | AD18: =IF(V18="SI",0.67,1) -> 1 | AE18: =VLOOKUP(H18,$AW$2:$AX$5,2) -> #N/A | AF18: =VLOOKUP(R18,$AW$2:$AX$5,2) -> #N/A | AG18: =IF(P18>0,P18,0) -> #N/A | AW18: =+AW16*AW17 -> 0
E19: =+A19*C19*AB19/1000 -> 0 | F19: =+E19*$BA$3 -> 0 | I19: =+A19 -> 0 | M19: =+I19*K19*AC19/1000 -> 0 | N19: =+M19*$BA$3 -> 0 | O19: =+AE19 -> #N/A | P19: =+I19*O19 -> #N/A | W19: =+S19*U19*AD19/1000 -> 0 | X19: =+AF19 -> #N/A | Y19: =+Z19 -> #N/A | Z19: =+S19*X19 -> #N/A | AA19: =+I19*O19 -> #N/A | AB19: =IF(D19="SI",0.67,1) -> 1 | AC19: =IF(L19="SI",0.67,1) -> 1 | AD19: =IF(V19="SI",0.67,1) -> 1 | AE19: =VLOOKUP(H19,$AW$2:$AX$5,2) -> #N/A | AF19: =VLOOKUP(R19,$AW$2:$AX$5,2) -> #N/A | AG19: =IF(P19>0,P19,0) -> #N/A | AW19: =+AW17*AW15 -> 0
E20: =+A20*C20*AB20/1000 -> 0 | F20: =+E20*$BA$3 -> 0 | I20: =+A20 -> 0 | M20: =+I20*K20*AC20/1000 -> 0 | N20: =+M20*$BA$3 -> 0 | O20: =+AE20 -> #N/A | P20: =+I20*O20 -> #N/A | W20: =+S20*U20*AD20/1000 -> 0 | X20: =+AF20 -> #N/A | Y20: =+Z20 -> #N/A | Z20: =+S20*X20 -> #N/A | AA20: =+I20*O20 -> #N/A | AB20: =IF(D20="SI",0.67,1) -> 1 | AC20: =IF(L20="SI",0.67,1) -> 1 | AD20: =IF(V20="SI",0.67,1) -> 1 | AE20: =VLOOKUP(H20,$AW$2:$AX$5,2) -> #N/A | AF20: =VLOOKUP(R20,$AW$2:$AX$5,2) -> #N/A | AG20: =IF(P20>0,P20,0) -> #N/A | AW20: =+AW19/1000000 -> 0
E21: =+A21*C21*AB21/1000 -> 0 | F21: =+E21*$BA$3 -> 0 | I21: =+A21 -> 0 | M21: =+I21*K21*AC21/1000 -> 0 | N21: =+M21*$BA$3 -> 0 | O21: =+AE21 -> #N/A | P21: =+I21*O21 -> #N/A | W21: =+S21*U21*AD21/1000 -> 0 | X21: =+AF21 -> #N/A | Y21: =+Z21 -> #N/A | Z21: =+S21*X21 -> #N/A | AA21: =+I21*O21 -> #N/A | AB21: =IF(D21="SI",0.67,1) -> 1 | AC21: =IF(L21="SI",0.67,1) -> 1 | AD21: =IF(V21="SI",0.67,1) -> 1 | AE21: =VLOOKUP(H21,$AW$2:$AX$5,2) -> #N/A | AF21: =VLOOKUP(R21,$AW$2:$AX$5,2) -> #N/A | AG21: =IF(P21>0,P21,0) -> #N/A
E22: =+A22*C22*AB22/1000 -> 0 | F22: =+E22*$BA$3 -> 0 | I22: =+A22 -> 0 | M22: =+I22*K22*AC22/1000 -> 0 | N22: =+M22*$BA$3 -> 0 | O22: =+AE22 -> #N/A | P22: =+I22*O22 -> #N/A | W22: =+S22*U22*AD22/1000 -> 0 | X22: =+AF22 -> #N/A | Y22: =+Z22 -> #N/A | Z22: =+S22*X22 -> #N/A | AA22: =+I22*O22 -> #N/A | AB22: =IF(D22="SI",0.67,1) -> 1 | AC22: =IF(L22="SI",0.67,1) -> 1 | AD22: =IF(V22="SI",0.67,1) -> 1 | AE22: =VLOOKUP(H22,$AW$2:$AX$5,2) -> #N/A | AF22: =VLOOKUP(R22,$AW$2:$AX$5,2) -> #N/A | AG22: =IF(P22>0,P22,0) -> #N/A
E23: =+A23*C23*AB23/1000 -> 0 | F23: =+E23*$BA$3 -> 0 | I23: =+A23 -> 0 | M23: =+I23*K23*AC23/1000 -> 0 | N23: =+M23*$BA$3 -> 0 | O23: =+AE23 -> #N/A | P23: =+I23*O23 -> #N/A | W23: =+S23*U23*AD23/1000 -> 0 | X23: =+AF23 -> #N/A | Y23: =+Z23 -> #N/A | Z23: =+S23*X23 -> #N/A | AA23: =+I23*O23 -> #N/A | AB23: =IF(D23="SI",0.67,1) -> 1 | AC23: =IF(L23="SI",0.67,1) -> 1 | AD23: =IF(V23="SI",0.67,1) -> 1 | AE23: =VLOOKUP(H23,$AW$2:$AX$5,2) -> #N/A | AF23: =VLOOKUP(R23,$AW$2:$AX$5,2) -> #N/A | AG23: =IF(P23>0,P23,0) -> #N/A
E24: =+A24*C24*AB24/1000 -> 0 | F24: =+E24*$BA$3 -> 0 | I24: =+A24 -> 0 | M24: =+I24*K24*AC24/1000 -> 0 | N24: =+M24*$BA$3 -> 0 | O24: =+AE24 -> #N/A | P24: =+I24*O24 -> #N/A | W24: =+S24*U24*AD24/1000 -> 0 | X24: =+AF24 -> #N/A | Y24: =+Z24 -> #N/A | Z24: =+S24*X24 -> #N/A | AA24: =+I24*O24 -> #N/A | AB24: =IF(D24="SI",0.67,1) -> 1 | AC24: =IF(L24="SI",0.67,1) -> 1 | AD24: =IF(V24="SI",0.67,1) -> 1 | AE24: =VLOOKUP(H24,$AW$2:$AX$5,2) -> #N/A | AF24: =VLOOKUP(R24,$AW$2:$AX$5,2) -> #N/A | AG24: =IF(P24>0,P24,0) -> #N/A
E25: =+A25*C25*AB25/1000 -> 0 | F25: =+E25*$BA$3 -> 0 | I25: =+A25 -> 0 | M25: =+I25*K25*AC25/1000 -> 0 | N25: =+M25*$BA$3 -> 0 | O25: =+AE25 -> #N/A | P25: =+I25*O25 -> #N/A | W25: =+S25*U25*AD25/1000 -> 0 | X25: =+AF25 -> #N/A | Y25: =+Z25 -> #N/A | Z25: =+S25*X25 -> #N/A | AA25: =+I25*O25 -> #N/A | AB25: =IF(D25="SI",0.67,1) -> 1 | AC25: =IF(L25="SI",0.67,1) -> 1 | AD25: =IF(V25="SI",0.67,1) -> 1 | AE25: =VLOOKUP(H25,$AW$2:$AX$5,2) -> #N/A | AF25: =VLOOKUP(R25,$AW$2:$AX$5,2) -> #N/A | AG25: =IF(P25>0,P25,0) -> #N/A
E26: =+A26*C26*AB26/1000 -> 0 | F26: =+E26*$BA$3 -> 0 | I26: =+A26 -> 0 | M26: =+I26*K26*AC26/1000 -> 0 | N26: =+M26*$BA$3 -> 0 | O26: =+AE26 -> #N/A | P26: =+I26*O26 -> #N/A | W26: =+S26*U26*AD26/1000 -> 0 | X26: =+AF26 -> #N/A | Y26: =+Z26 -> #N/A | Z26: =+S26*X26 -> #N/A | AA26: =+I26*O26 -> #N/A | AB26: =IF(D26="SI",0.67,1) -> 1 | AC26: =IF(L26="SI",0.67,1) -> 1 | AD26: =IF(V26="SI",0.67,1) -> 1 | AE26: =VLOOKUP(H26,$AW$2:$AX$5,2) -> #N/A | AF26: =VLOOKUP(R26,$AW$2:$AX$5,2) -> #N/A | AG26: =IF(P26>0,P26,0) -> #N/A
E27: =+A27*C27*AB27/1000 -> 0 | F27: =+E27*$BA$3 -> 0 | I27: =+A27 -> 0 | M27: =+I27*K27*AC27/1000 -> 0 | N27: =+M27*$BA$3 -> 0 | O27: =+AE27 -> #N/A | P27: =+I27*O27 -> #N/A | W27: =+S27*U27*AD27/1000 -> 0 | X27: =+AF27 -> #N/A | Y27: =+Z27 -> #N/A | Z27: =+S27*X27 -> #N/A | AA27: =+I27*O27 -> #N/A | AB27: =IF(D27="SI",0.67,1) -> 1 | AC27: =IF(L27="SI",0.67,1) -> 1 | AD27: =IF(V27="SI",0.67,1) -> 1 | AE27: =VLOOKUP(H27,$AW$2:$AX$5,2) -> #N/A | AF27: =VLOOKUP(R27,$AW$2:$AX$5,2) -> #N/A | AG27: =IF(P27>0,P27,0) -> #N/A
E28: =+A28*C28*AB28/1000 -> 0 | F28: =+E28*$BA$3 -> 0 | I28: =+A28 -> 0 | M28: =+I28*K28*AC28/1000 -> 0 | N28: =+M28*$BA$3 -> 0 | O28: =+AE28 -> #N/A | P28: =+I28*O28 -> #N/A | W28: =+S28*U28*AD28/1000 -> 0 | X28: =+AF28 -> #N/A | Y28: =+Z28 -> #N/A | Z28: =+S28*X28 -> #N/A | AA28: =+I28*O28 -> #N/A | AB28: =IF(D28="SI",0.67,1) -> 1 | AC28: =IF(L28="SI",0.67,1) -> 1 | AD28: =IF(V28="SI",0.67,1) -> 1 | AE28: =VLOOKUP(H28,$AW$2:$AX$5,2) -> #N/A | AF28: =VLOOKUP(R28,$AW$2:$AX$5,2) -> #N/A | AG28: =IF(P28>0,P28,0) -> #N/A
E29: =+A29*C29*AB29/1000 -> 0 | F29: =+E29*$BA$3 -> 0 | I29: =+A29 -> 0 | M29: =+I29*K29*AC29/1000 -> 0 | N29: =+M29*$BA$3 -> 0 | O29: =+AE29 -> #N/A | P29: =+I29*O29 -> #N/A | W29: =+S29*U29*AD29/1000 -> 0 | X29: =+AF29 -> #N/A | Y29: =+Z29 -> #N/A | Z29: =+S29*X29 -> #N/A | AA29: =+I29*O29 -> #N/A | AB29: =IF(D29="SI",0.67,1) -> 1 | AC29: =IF(L29="SI",0.67,1) -> 1 | AD29: =IF(V29="SI",0.67,1) -> 1 | AE29: =VLOOKUP(H29,$AW$2:$AX$5,2) -> #N/A | AF29: =VLOOKUP(R29,$AW$2:$AX$5,2) -> #N/A | AG29: =IF(P29>0,P29,0) -> #N/A
E30: =+A30*C30*AB30/1000 -> 0 | F30: =+E30*$BA$3 -> 0 | I30: =+A30 -> 0 | M30: =+I30*K30*AC30/1000 -> 0 | N30: =+M30*$BA$3 -> 0 | O30: =+AE30 -> #N/A | P30: =+I30*O30 -> #N/A | W30: =+S30*U30*AD30/1000 -> 0 | X30: =+AF30 -> #N/A | Y30: =+Z30 -> #N/A | Z30: =+S30*X30 -> #N/A | AA30: =+I30*O30 -> #N/A | AB30: =IF(D30="SI",0.67,1) -> 1 | AC30: =IF(L30="SI",0.67,1) -> 1 | AD30: =IF(V30="SI",0.67,1) -> 1 | AE30: =VLOOKUP(H30,$AW$2:$AX$5,2) -> #N/A | AF30: =VLOOKUP(R30,$AW$2:$AX$5,2) -> #N/A | AG30: =IF(P30>0,P30,0) -> #N/A
E31: =+A31*C31*AB31/1000 -> 0 | F31: =+E31*$BA$3 -> 0 | I31: =+A31 -> 0 | M31: =+I31*K31*AC31/1000 -> 0 | N31: =+M31*$BA$3 -> 0 | O31: =+AE31 -> #N/A | P31: =+I31*O31 -> #N/A | W31: =+S31*U31*AD31/1000 -> 0 | X31: =+AF31 -> #N/A | Y31: =+Z31 -> #N/A | Z31: =+S31*X31 -> #N/A | AA31: =+I31*O31 -> #N/A | AB31: =IF(D31="SI",0.67,1) -> 1 | AC31: =IF(L31="SI",0.67,1) -> 1 | AD31: =IF(V31="SI",0.67,1) -> 1 | AE31: =VLOOKUP(H31,$AW$2:$AX$5,2) -> #N/A | AF31: =VLOOKUP(R31,$AW$2:$AX$5,2) -> #N/A | AG31: =IF(P31>0,P31,0) -> #N/A
E32: =+A32*C32*AB32/1000 -> 0 | F32: =+E32*$BA$3 -> 0 | I32: =+A32 -> 0 | M32: =+I32*K32*AC32/1000 -> 0 | N32: =+M32*$BA$3 -> 0 | O32: =+AE32 -> #N/A | P32: =+I32*O32 -> #N/A | W32: =+S32*U32*AD32/1000 -> 0 | X32: =+AF32 -> #N/A | Y32: =+Z32 -> #N/A | Z32: =+S32*X32 -> #N/A | AA32: =+I32*O32 -> #N/A | AB32: =IF(D32="SI",0.67,1) -> 1 | AC32: =IF(L32="SI",0.67,1) -> 1 | AD32: =IF(V32="SI",0.67,1) -> 1 | AE32: =VLOOKUP(H32,$AW$2:$AX$5,2) -> #N/A | AF32: =VLOOKUP(R32,$AW$2:$AX$5,2) -> #N/A | AG32: =IF(P32>0,P32,0) -> #N/A
