Workbook

Sheet COPERTINA

Sheet DATI DI PARTENZA
A4: COMUNE PROPONENTE * | C4: NUOVI IMPIANTI FV / SdA SU IMPIANTI FV ESISTENTI (1-25)
A5: NUMERO NUOVI IMPIANTI FV / SdA SU IMPIANTI FV ESISTENTI * | C5: 1 | D5: 2 | E5: 3 | F5: 4 | G5: 5 | H5: 6 | I5: 7 | J5: 8 | K5: 9 | L5: 10 | M5: 11 | N5: 12 | O5: 13 | P5: 14 | Q5: 15 | R5: 16 | S5: 17 | T5: 18 | U5: 19 | V5: 20 | W5: 21 | X5: 22 | Y5: 23 | Z5: 24 | AA5: 25
A6: DESCRIZIONE UTENZA NUOVI IMPIANTI FV / SdA SU IMPIANTI FV ESISTENTI *
A7: POD UTENZA NUOVI IMPIANTI FV / SdA SU IMPIANTI FV ESISTENTI *
A8: CONSUMO STORICO DI ENERGIA ELETTRICA DELLE UTENZE INTERESSATE (espresso in kWh) *
A9: POTENZA NOMINALE DEL NUOVO IMPIANTO FOTOVOLTAICO (espressa in kWp) **
A10: POTENZA NOMINALE DELL'IMPIANTO FOTOVOLTAICO ESISTENTE (espressa in kWp) ***
A11: CAPACITÀ COMPLESSIVA DEL SISTEMA DI ACCUMULO ELETTROCHIMICO DI PROGETTO (espressa in kWh) *
A12: POPOLAZIONE COMUNE PROPONENTE MAGGIORE 100.000 ABITANTI (scegliere da menù a tendina) *
A13: ASSENZA NEGLI ULTIMI 5 ANNI DI MISURE DI AIUTO PER LA REALIZZAZIONE DI FV E SdA (scegliere da menù a tendina) *
A15: NOTA: COMPILARE ESCLUSIVAMENTE LE CELLE IN GRIGIO
A16: * DATI OBBLIGATORI
A17: ** DATO DA INSERIRE NEL CASO DI REALIZZAZIONE DI NUOVO IMPIANTO FV
A18: *** DATO DA INSERIRE NEL CASO DI REALIZZAZIONE DI SdA SU IMPIANTO FV ESISTENTE

Sheet IMP_1-5
B1: IMPIANTI UTENZE 1 - 5
I2: 1 - | J2: 2 - | K2: 3 - | L2: 4 - | M2: 5 -
A3: DATI DELLA PROPOSTA | B3: =CONCATENATE($G$3,$H$3,I2,,I3) -> IMPIANTO 1 - 0 | C3: =CONCATENATE($G$3,$H$3,J2,,J3) -> IMPIANTO 2 - 0 | D3: =CONCATENATE($G$3,$H$3,K2,,K3) -> IMPIANTO 3 - 0 | E3: =CONCATENATE($G$3,$H$3,L2,,L3) -> IMPIANTO 4 - 0 | F3: =CONCATENATE($G$3,$H$3,M2,,M3) -> IMPIANTO 5 - 0 | G3: IMPIANTO | I3: =+'DATI DI PARTENZA'!C6 -> 0 | J3: =+'DATI DI PARTENZA'!D6 -> 0 | K3: =+'DATI DI PARTENZA'!E6 -> 0 | L3: =+'DATI DI PARTENZA'!F6 -> 0 | M3: =+'DATI DI PARTENZA'!G6 -> 0 | P3: =+P4+P5 -> 1 | Q3: =+Q4+Q5 -> 1 | R3: =+R4+R5 -> 1 | S3: =+S4+S5 -> 1 | T3: =+T4+T5 -> 1
P4: =IF(B5>0,1,0) -> 0 | Q4: =IF(C5>0,1,0) -> 0 | R4: =IF(D5>0,1,0) -> 0 | S4: =IF(E5>0,1,0) -> 0 | T4: =IF(F5>0,1,0) -> 0
A5: 1. Quota di autoconsumo calcolata come rapporto tra il valore dell'energia elettrica prodotta dall'impianto che viene autoconsumata (inclusa l'energia elettrica stoccata nel sistema di accumulo) e la producibilità elettrica totale annua dell'impianto fotovoltaico [%] Nota: Valore minimo 70% per singolo impianto* | P5: =IF(B5<70%,1,0) -> 1 | Q5: =IF(C5<70%,1,0) -> 1 | R5: =IF(D5<70%,1,0) -> 1 | S5: =IF(E5<70%,1,0) -> 1 | T5: =IF(F5<70%,1,0) -> 1 | U5: =SUM(P5:T5) -> 5
A6: 2. Produzione di energia elettrica annua dell’impianto fotovoltaico destinata all’autoconsumo (inclusa l'energia elettrica stoccata nel sistema di accumulo) [kWh] * | P6: =IF(B5>0,2,0) -> 0 | Q6: =IF(C5>0,2,0) -> 0 | R6: =IF(D5>0,2,0) -> 0 | S6: =IF(E5>0,2,0) -> 0 | T6: =IF(F5>0,2,0) -> 0 | U6: =SUM(P6:T6) -> 0
A7: 3. Livello Progettazione (scegliere da menù a tendina) * | P7: =IF(P6>0,B5,0) -> 0 | Q7: =IF(Q6>0,C5,0) -> 0 | R7: =IF(R6>0,D5,0) -> 0 | S7: =IF(S6>0,E5,0) -> 0 | T7: =IF(T6>0,F5,0) -> 0 | U7: =SUM(P7:T7) -> 0
A8: 4. Costi per la realizzazione di un nuovo impianto fotovoltaico e del relativo sistema di accumulo (Alternativo al p.to 5) * | P8: =+P5+P6 -> 1 | Q8: =+Q5+Q6 -> 1 | R8: =+R5+R6 -> 1 | S8: =+S5+S6 -> 1 | T8: =+T5+T6 -> 1 | U8: =+U7/U6 -> #DIV/0!
A9: 5. Costi per la realizzazione di sistema di accumulo su impianto fotovoltaico esistente (Alternativo al p.to 4) *
A10: 6. Costi per soluzioni tecniche e tecnologiche in grado di ridurre la quota di energia autoprodotta immessa nella rete di distruzione | P10: =IF(B5>=70%,0,1) -> 1 | Q10: =IF(C5>=70%,0,1) -> 1 | R10: =IF(D5>=70%,0,1) -> 1 | S10: =IF(E5>=70%,0,1) -> 1 | T10: =IF(F5>=70%,0,1) -> 1
A11: 7. Costi per interventi edili ed impiantistici strettamente connessi | P11: =IF(P10=1,B5,0) -> 0 | Q11: =IF(Q10=1,C5,0) -> 0 | R11: =IF(R10=1,D5,0) -> 0 | S11: =IF(S10=1,E5,0) -> 0 | T11: =IF(T10=1,F5,0) -> 0 | U11: =SUM(P11:T11) -> 0
A12: 8. Oneri della sicurezza non soggetti a ribasso
A13: 9. Costi Interferenze
A14: 10. Allacciamenti ai pubblici servizi
A15: 11. Imprevisti
A16: 12. Accantonamenti
A17: 13. Costi Oneri professionali e studi
A18: 14. Costi Servizi di Consulenza
A19: 15. Spese pubblicità
A20: 16. Spese per commissioni giudicatrici
A21: 17. Spese per prove di laboratorio
A22: 18. Altri costi (Desumibili dal Quadro Economico)
A23: 19. Costo IVA su Lavori e oneri di sicurezza (Indicare solo se rappresenta un costo e non è recuperabile) | AW23: =150000/0.05 -> 3000000
A24: 20. Costo IVA Oneri Professionali (Indicare solo se rappresenta un costo e non è recuperabile) | AW24: =+AW23-14000 -> 2986000
A25: 21. Costo Complessivo Impianto (campo compilato in automatico) | B25: =SUM(B8:B24) -> 0 | C25: =SUM(C8:C24) -> 0 | D25: =SUM(D8:D24) -> 0 | E25: =SUM(E8:E24) -> 0 | F25: =SUM(F8:F24) -> 0 | P25: =SUM(B25:O25) -> 0 | Q25: =+B26+B27+B28 -> 0 | R25: =+C26+C27+C28 -> 0 | S25: =+D26+D27+D28 -> 0 | T25: =+E26+E27+E28 -> 0 | U25: =+F26+F27+F28 -> 0
A26: 22. Cofinanziamento Comune Proponente | P26: =SUM(B26:O26) -> 0 | Q26: =+Q25/B25 -> #DIV/0! | R26: =+R25/C25 -> #DIV/0! | S26: =+S25/D25 -> #DIV/0! | T26: =+T25/E25 -> #DIV/0! | U26: =+U25/F25 -> #DIV/0!
A27: 23. Cofinanziamento altro pubblico | P27: =SUM(B27:O27) -> 0
A28: 24. Cofinanziamento privato | P28: =SUM(B28:O28) -> 0
A29: 25. Finanziamento richiesto (campo compilato in automatico) | B29: =+B25-B26-B27-B28 -> 0 | C29: =+C25-C26-C27-C28 -> 0 | D29: =+D25-D26-D27-D28 -> 0 | E29: =+E25-E26-E27-E28 -> 0 | F29: =+F25-F26-F27-F28 -> 0 | P29: =SUM(B29:O29) -> 0
A31: RISULTATI
S32: 3 | T32: 15400 | U32: =+T32/S32 -> 5133.3333
A33: 1. Quota di autoconsumo oltre la percentuale minina del 70% | B33: =IF(B54<0,0,B54) -> 0 | C33: =IF(C54<0,0,C54) -> 0 | D33: =IF(D54<0,0,D54) -> 0 | E33: =IF(E54<0,0,E54) -> 0 | F33: =IF(F54<0,0,F54) -> 0 | G33: =+G54 -> 0 | H33: =+H54 -> 0 | I33: =+I54 -> 0 | J33: =+J54 -> 0 | K33: =+K54 -> 0 | L33: =+L54 -> 0 | M33: =+M54 -> 0 | N33: =+N54 -> 0 | P33: =SUM(B33:F33) -> 0 | S33: 6 | T33: 19920 | U33: =+T33/S33 -> 3320
A34: 2. Livello Progettazione | B34: =+B91 -> 0 | C34: =+C91 -> 0 | D34: =+D91 -> 0 | E34: =+E91 -> 0 | F34: =+F91 -> 0 | P34: =SUM(B34:F34) -> 0
A35: 3. Maggiore intensità di cofinanziamento | B35: =IF(B29>0,B75,0) -> 0 | C35: =IF(C29>0,C75,0) -> 0 | D35: =IF(D29>0,D75,0) -> 0 | E35: =IF(E29>0,E75,0) -> 0 | F35: =IF(F29>0,F75,0) -> 0 | P35: =SUM(B35:F35) -> 0
A36: 4. Minor rapporto tra il contributo RAS e la potenza dell'impianto FV in progetto [€/kWp] | B36: =IF(B8>0,B61,0) -> 0 | C36: =IF(C8>0,C61,0) -> 0 | D36: =IF(D8>0,D61,0) -> 0 | E36: =IF(E8>0,E61,0) -> 0 | F36: =IF(F8>0,F61,0) -> 0 | P36: =SUM(B36:F36) -> 0
A37: 5. Minor rapporto tra il contributo RAS e la potenza dell'impianto FV esistente [€/kWp] | B37: =IF(B9>0,B68,0) -> 0 | C37: =IF(C9>0,C68,0) -> 0 | D37: =IF(D9>0,D68,0) -> 0 | E37: =IF(E9>0,E68,0) -> 0 | F37: =IF(F9>0,F68,0) -> 0 | P37: =SUM(B37:F37) -> 0 | Q37: 1450 | R37: <0,3 | S37: 0 | T37: 1 | U37: fv + ACC
B38: =SUM(B33:B37) -> 0 | C38: =SUM(C33:C37) -> 0 | D38: =SUM(D33:D37) -> 0 | E38: =SUM(E33:E37) -> 0 | F38: =SUM(F33:F37) -> 0 | P38: =AVERAGE(B38:F38) -> 0 | R38: TRA 0,5 E 1 | S38: 0 | T38: 3 | U38: ACC
B39: =+B38 -> 0 | C39: =+C38 -> 0 | D39: =+D38 -> 0 | E39: =+E38 -> 0 | F39: =+F38 -> 0
A40: 5. Miglior rapporto tra l'energia elettrica autoconsumata in un anno e l'intensità dell’agevolazione [kWh/€] - IMPIANTO FV + SdA | B40: =+B29/'DATI DI PARTENZA'!C9 -> #DIV/0! | C40: =+C29/'DATI DI PARTENZA'!D9 -> #DIV/0! | D40: =+D29/'DATI DI PARTENZA'!E9 -> #DIV/0! | E40: =+E29/'DATI DI PARTENZA'!F9 -> #DIV/0! | F40: =+F29/'DATI DI PARTENZA'!G9 -> #DIV/0!
A41: 6. Miglior rapporto tra l'energia elettrica autoconsumata in un anno e l'intensità dell’agevolazione [kWh/€] - SdA SU IMPIANTO FV ESISTENTE | B41: =+B29/'DATI DI PARTENZA'!C10 -> #DIV/0! | C41: =+C29/'DATI DI PARTENZA'!D10 -> #DIV/0! | D41: =+D29/'DATI DI PARTENZA'!E10 -> #DIV/0! | E41: =+E29/'DATI DI PARTENZA'!F10 -> #DIV/0! | F41: =+F29/'DATI DI PARTENZA'!G10 -> #DIV/0! | Q41: 14500
...

Sheet IMP_6-10
B1: IMPIANTI UTENZE 6 - 10
I2: 6 - | J2: 7 - | K2: 8 - | L2: 9 - | M2: 10 -
A3: DATI DELLA PROPOSTA | B3: =CONCATENATE($G$3,$H$3,I2,,I3) -> IMPIANTO 6 - 0 | C3: =CONCATENATE($G$3,$H$3,J2,,J3) -> IMPIANTO 7 - 0 | D3: =CONCATENATE($G$3,$H$3,K2,,K3) -> IMPIANTO 8 - 0 | E3: =CONCATENATE($G$3,$H$3,L2,,L3) -> IMPIANTO 9 - 0 | F3: =CONCATENATE($G$3,$H$3,M2,,M3) -> IMPIANTO 10 - 0 | G3: IMPIANTO | I3: =+'DATI DI PARTENZA'!H6 -> 0 | J3: =+'DATI DI PARTENZA'!I6 -> 0 | K3: =+'DATI DI PARTENZA'!J6 -> 0 | L3: =+'DATI DI PARTENZA'!K6 -> 0 | M3: =+'DATI DI PARTENZA'!L6 -> 0
A5: 1. Quota di autoconsumo calcolata come rapporto tra il valore dell'energia elettrica prodotta dall'impianto che viene autoconsumata (inclusa l'energia elettrica stoccata nel sistema di accumulo) e la producibilità elettrica totale annua dell'impianto fotovoltaico [%] Nota: Valore minimo 70% per singolo impianto* | P5: =IF(B5<70%,1,0) -> 1 | Q5: =IF(C5<70%,1,0) -> 1 | R5: =IF(D5<70%,1,0) -> 1 | S5: =IF(E5<70%,1,0) -> 1 | T5: =IF(F5<70%,1,0) -> 1 | U5: =SUM(P5:T5) -> 5
A6: 2. Produzione di energia elettrica annua dell’impianto fotovoltaico destinata all’autoconsumo (inclusa l'energia elettrica stoccata nel sistema di accumulo) [kWh] * | P6: =IF(B5>0,1,0) -> 0 | Q6: =IF(C5>0,1,0) -> 0 | R6: =IF(D5>0,1,0) -> 0 | S6: =IF(E5>0,1,0) -> 0 | T6: =IF(F5>0,1,0) -> 0
A7: 3. Livello Progettazione (scegliere da menù a tendina) * | P7: =IF(P6>0,B5,0) -> 0 | Q7: =IF(Q6>0,C5,0) -> 0 | R7: =IF(R6>0,D5,0) -> 0 | S7: =IF(S6>0,E5,0) -> 0 | T7: =IF(T6>0,F5,0) -> 0 | U7: =SUM(P7:T7) -> 0
A8: 4. Costi per la realizzazione di un nuovo impianto fotovoltaico e del relativo sistema di accumulo (Alternativo al p.to 5) *
A9: 5. Costi per la realizzazione di sistema di accumulo su impianto fotovoltaico esistente (Alternativo al p.to 4) *
A10: 6. Costi per soluzioni tecniche e tecnologiche in grado di ridurre la quota di energia autoprodotta immessa nella rete di distruzione | P10: =IF(B5>=70%,0,1) -> 1 | Q10: =IF(C5>=70%,0,1) -> 1 | R10: =IF(D5>=70%,0,1) -> 1 | S10: =IF(E5>=70%,0,1) -> 1 | T10: =IF(F5>=70%,0,1) -> 1
A11: 7. Costi per interventi edili ed impiantistici strettamente connessi | P11: =IF(P10=1,B5,0) -> 0 | Q11: =IF(Q10=1,C5,0) -> 0 | R11: =IF(R10=1,D5,0) -> 0 | S11: =IF(S10=1,E5,0) -> 0 | T11: =IF(T10=1,F5,0) -> 0 | U11: =SUM(P11:T11) -> 0
A12: 8. Oneri della sicurezza non soggetti a ribasso
A13: 9. Costi Interferenze
A14: 10. Allacciamenti ai pubblici servizi
A15: 11. Imprevisti
A16: 12. Accantonamenti
A17: 13. Costi Oneri professionali e studi
A18: 14. Costi Servizi di Consulenza
A19: 15. Spese pubblicità
A20: 16. Spese per commissioni giudicatrici
A21: 17. Spese per prove di laboratorio
A22: 18. Altri costi (Desumibili dal Quadro Economico)
A23: 19. Costo IVA su Lavori e oneri di sicurezza (Indicare solo se rappresenta un costo e non è recuperabile)
A24: 20. Costo IVA Oneri Professionali (Indicare solo se rappresenta un costo e non è recuperabile)
A25: 21. Costo Complessivo Impianto (campo compilato in automatico) | B25: =SUM(B8:B24) -> 0 | C25: =SUM(C8:C24) -> 0 | D25: =SUM(D8:D24) -> 0 | E25: =SUM(E8:E24) -> 0 | F25: =SUM(F8:F24) -> 0 | P25: =SUM(B25:O25) -> 0 | Q25: =+B26+B27+B28 -> 0 | R25: =+C26+C27+C28 -> 0 | S25: =+D26+D27+D28 -> 0 | T25: =+E26+E27+E28 -> 0 | U25: =+F26+F27+F28 -> 0
A26: 22. Cofinanziamento Comune Proponente | P26: =SUM(B26:O26) -> 0 | Q26: =+Q25/B25 -> #DIV/0! | R26: =+R25/C25 -> #DIV/0! | S26: =+S25/D25 -> #DIV/0! | T26: =+T25/E25 -> #DIV/0! | U26: =+U25/F25 -> #DIV/0!
A27: 23. Cofinanziamento altro pubblico | P27: =SUM(B27:O27) -> 0
A28: 24. Cofinanziamento privato | P28: =SUM(B28:O28) -> 0
A29: 25. Finanziamento richiesto (campo compilato in automatico) | B29: =+B25-B26-B27-B28 -> 0 | C29: =+C25-C26-C27-C28 -> 0 | D29: =+D25-D26-D27-D28 -> 0 | E29: =+E25-E26-E27-E28 -> 0 | F29: =+F25-F26-F27-F28 -> 0 | P29: =SUM(B29:O29) -> 0
A31: RISULTATI
S32: 3 | T32: 15400 | U32: =+T32/S32 -> 5133.3333
A33: 1. Quota di autoconsumo oltre la percentuale minina del 70% | B33: =IF(B54<0,0,B54) -> 0 | C33: =IF(C54<0,0,C54) -> 0 | D33: =IF(D54<0,0,D54) -> 0 | E33: =IF(E54<0,0,E54) -> 0 | F33: =IF(F54<0,0,F54) -> 0 | G33: =+G54 -> 0 | H33: =+H54 -> 0 | I33: =+I54 -> 0 | J33: =+J54 -> 0 | K33: =+K54 -> 0 | L33: =+L54 -> 0 | M33: =+M54 -> 0 | N33: =+N54 -> 0 | P33: =SUM(B33:F33) -> 0 | S33: 6 | T33: 19920 | U33: =+T33/S33 -> 3320
A34: 2. Livello Progettazione | B34: =+B91 -> 0 | C34: =+C91 -> 0 | D34: =+D91 -> 0 | E34: =+E91 -> 0 | F34: =+F91 -> 0 | P34: =SUM(B34:F34) -> 0
A35: 3. Maggiore intensità di cofinanziamento | B35: =IF(B29>0,B75,0) -> 0 | C35: =IF(C29>0,C75,0) -> 0 | D35: =IF(D29>0,D75,0) -> 0 | E35: =IF(E29>0,E75,0) -> 0 | F35: =IF(F29>0,F75,0) -> 0 | P35: =SUM(B35:F35) -> 0
A36: 4. Minor rapporto tra il contributo RAS e la potenza dell'impianto FV in progetto [€/kWp] | B36: =IF(B8>0,B61,0) -> 0 | C36: =IF(C8>0,C61,0) -> 0 | D36: =IF(D8>0,D61,0) -> 0 | E36: =IF(E8>0,E61,0) -> 0 | F36: =IF(F8>0,F61,0) -> 0 | P36: =SUM(B36:F36) -> 0
A37: 5. Minor rapporto tra il contributo RAS e la potenza dell'impianto FV esistente [€/kWp] | B37: =IF(B9>0,B68,0) -> 0 | C37: =IF(C9>0,C68,0) -> 0 | D37: =IF(D9>0,D68,0) -> 0 | E37: =IF(E9>0,E68,0) -> 0 | F37: =IF(F9>0,F68,0) -> 0 | P37: =SUM(B37:F37) -> 0 | Q37: 1450 | R37: <0,3 | S37: 0 | T37: 1 | U37: fv + ACC
B38: =SUM(B33:B37) -> 0 | C38: =SUM(C33:C37) -> 0 | D38: =SUM(D33:D37) -> 0 | E38: =SUM(E33:E37) -> 0 | F38: =SUM(F33:F37) -> 0 | P38: =SUM(B38:F38) -> 0 | R38: TRA 0,5 E 1 | S38: 0 | T38: 3 | U38: ACC
B39: =+B38 -> 0 | C39: =+C38 -> 0 | D39: =+D38 -> 0 | E39: =+E38 -> 0 | F39: =+F38 -> 0
A40: 5. Miglior rapporto tra l'energia elettrica autoconsumata in un anno e l'intensità dell’agevolazione [kWh/€] - IMPIANTO FV + SdA | B40: =+B29/'DATI DI PARTENZA'!H9 -> #DIV/0! | C40: =+C29/'DATI DI PARTENZA'!I9 -> #DIV/0! | D40: =+D29/'DATI DI PARTENZA'!J9 -> #DIV/0! | E40: =+E29/'DATI DI PARTENZA'!K9 -> #DIV/0! | F40: =+F29/'DATI DI PARTENZA'!L9 -> #DIV/0!
A41: 6. Miglior rapporto tra l'energia elettrica autoconsumata in un anno e l'intensità dell’agevolazione [kWh/€] - SdA SU IMPIANTO FV ESISTENTE | B41: =+B29/'DATI DI PARTENZA'!H10 -> #DIV/0! | C41: =+C29/'DATI DI PARTENZA'!I10 -> #DIV/0! | D41: =+D29/'DATI DI PARTENZA'!J10 -> #DIV/0! | E41: =+E29/'DATI DI PARTENZA'!K10 -> #DIV/0! | F41: =+F29/'DATI DI PARTENZA'!L10 -> #DIV/0! | Q41: 14500
A42: VOCE 2. | B42: SI | C42: SI | D42: SI | E42: SI | F42: SI | Q42: 20000
...

Sheet IMP_11-15
B1: IMPIANTI UTENZE 11 - 15
I2: 11 - | J2: 12 - | K2: 13 - | L2: 14 - | M2: 15 -
A3: DATI DELLA PROPOSTA | B3: =CONCATENATE($G$3,$H$3,I2,,I3) -> IMPIANTO 11 - 0 | C3: =CONCATENATE($G$3,$H$3,J2,,J3) -> IMPIANTO 12 - 0 | D3: =CONCATENATE($G$3,$H$3,K2,,K3) -> IMPIANTO 13 - 0 | E3: =CONCATENATE($G$3,$H$3,L2,,L3) -> IMPIANTO 14 - 0 | F3: =CONCATENATE($G$3,$H$3,M2,,M3) -> IMPIANTO 15 - 0 | G3: IMPIANTO | I3: =+'DATI DI PARTENZA'!M6 -> 0 | J3: =+'DATI DI PARTENZA'!N6 -> 0 | K3: =+'DATI DI PARTENZA'!O6 -> 0 | L3: =+'DATI DI PARTENZA'!P6 -> 0 | M3: =+'DATI DI PARTENZA'!Q6 -> 0
A5: 1. Quota di autoconsumo calcolata come rapporto tra il valore dell'energia elettrica prodotta dall'impianto che viene autoconsumata (inclusa l'energia elettrica stoccata nel sistema di accumulo) e la producibilità elettrica totale annua dell'impianto fotovoltaico [%] Nota: Valore minimo 70% per singolo impianto* | P5: =IF(B5<70%,1,0) -> 1 | Q5: =IF(C5<70%,1,0) -> 1 | R5: =IF(D5<70%,1,0) -> 1 | S5: =IF(E5<70%,1,0) -> 1 | T5: =IF(F5<70%,1,0) -> 1 | U5: =SUM(P5:T5) -> 5
A6: 2. Produzione di energia elettrica annua dell’impianto fotovoltaico destinata all’autoconsumo (inclusa l'energia elettrica stoccata nel sistema di accumulo) [kWh] * | P6: =IF(B5>0,1,0) -> 0 | Q6: =IF(C5>0,1,0) -> 0 | R6: =IF(D5>0,1,0) -> 0 | S6: =IF(E5>0,1,0) -> 0 | T6: =IF(F5>0,1,0) -> 0
A7: 3. Livello Progettazione (scegliere da menù a tendina) * | P7: =IF(P6>0,B5,0) -> 0 | Q7: =IF(Q6>0,C5,0) -> 0 | R7: =IF(R6>0,D5,0) -> 0 | S7: =IF(S6>0,E5,0) -> 0 | T7: =IF(T6>0,F5,0) -> 0 | U7: =SUM(P7:T7) -> 0
A8: 4. Costi per la realizzazione di un nuovo impianto fotovoltaico e del relativo sistema di accumulo (Alternativo al p.to 5) *
A9: 5. Costi per la realizzazione di sistema di accumulo su impianto fotovoltaico esistente (Alternativo al p.to 4) *
A10: 6. Costi per soluzioni tecniche e tecnologiche in grado di ridurre la quota di energia autoprodotta immessa nella rete di distruzione | P10: =IF(B5>=70%,0,1) -> 1 | Q10: =IF(C5>=70%,0,1) -> 1 | R10: =IF(D5>=70%,0,1) -> 1 | S10: =IF(E5>=70%,0,1) -> 1 | T10: =IF(F5>=70%,0,1) -> 1
A11: 7. Costi per interventi edili ed impiantistici strettamente connessi | P11: =IF(P10=1,B5,0) -> 0 | Q11: =IF(Q10=1,C5,0) -> 0 | R11: =IF(R10=1,D5,0) -> 0 | S11: =IF(S10=1,E5,0) -> 0 | T11: =IF(T10=1,F5,0) -> 0 | U11: =SUM(P11:T11) -> 0
A12: 8. Oneri della sicurezza non soggetti a ribasso
A13: 9. Costi Interferenze
A14: 10. Allacciamenti ai pubblici servizi
A15: 11. Imprevisti
A16: 12. Accantonamenti
A17: 13. Costi Oneri professionali e studi
A18: 14. Costi Servizi di Consulenza
A19: 15. Spese pubblicità
A20: 16. Spese per commissioni giudicatrici
A21: 17. Spese per prove di laboratorio
A22: 18. Altri costi (Desumibili dal Quadro Economico)
A23: 19. Costo IVA su Lavori e oneri di sicurezza (Indicare solo se rappresenta un costo e non è recuperabile)
A24: 20. Costo IVA Oneri Professionali (Indicare solo se rappresenta un costo e non è recuperabile)
A25: 21. Costo Complessivo Impianto (campo compilato in automatico) | B25: =SUM(B8:B24) -> 0 | C25: =SUM(C8:C24) -> 0 | D25: =SUM(D8:D24) -> 0 | E25: =SUM(E8:E24) -> 0 | F25: =SUM(F8:F24) -> 0 | P25: =SUM(B25:O25) -> 0 | Q25: =+B26+B27+B28 -> 0 | R25: =+C26+C27+C28 -> 0 | S25: =+D26+D27+D28 -> 0 | T25: =+E26+E27+E28 -> 0 | U25: =+F26+F27+F28 -> 0
A26: 22. Cofinanziamento Comune Proponente | P26: =SUM(B26:O26) -> 0 | Q26: =+Q25/B25 -> #DIV/0! | R26: =+R25/C25 -> #DIV/0! | S26: =+S25/D25 -> #DIV/0! | T26: =+T25/E25 -> #DIV/0! | U26: =+U25/F25 -> #DIV/0!
A27: 23. Cofinanziamento altro pubblico | P27: =SUM(B27:O27) -> 0
A28: 24. Cofinanziamento privato | P28: =SUM(B28:O28) -> 0
A29: 25. Finanziamento richiesto (campo compilato in automatico) | B29: =+B25-B26-B27-B28 -> 0 | C29: =+C25-C26-C27-C28 -> 0 | D29: =+D25-D26-D27-D28 -> 0 | E29: =+E25-E26-E27-E28 -> 0 | F29: =+F25-F26-F27-F28 -> 0 | P29: =SUM(B29:O29) -> 0
A31: RISULTATI
S32: 3 | T32: 15400 | U32: =+T32/S32 -> 5133.3333
A33: 1. Quota di autoconsumo oltre la percentuale minina del 70% | B33: =IF(B54<0,0,B54) -> 0 | C33: =IF(C54<0,0,C54) -> 0 | D33: =IF(D54<0,0,D54) -> 0 | E33: =IF(E54<0,0,E54) -> 0 | F33: =IF(F54<0,0,F54) -> 0 | G33: =+G54 -> 0 | H33: =+H54 -> 0 | I33: =+I54 -> 0 | J33: =+J54 -> 0 | K33: =+K54 -> 0 | L33: =+L54 -> 0 | M33: =+M54 -> 0 | N33: =+N54 -> 0 | P33: =SUM(B33:F33) -> 0 | S33: 6 | T33: 19920 | U33: =+T33/S33 -> 3320
A34: 2. Livello Progettazione | B34: =+B91 -> 0 | C34: =+C91 -> 0 | D34: =+D91 -> 0 | E34: =+E91 -> 0 | F34: =+F91 -> 0 | P34: =SUM(B34:F34) -> 0
A35: 3. Maggiore intensità di cofinanziamento | B35: =IF(B29>0,B75,0) -> 0 | C35: =IF(C29>0,C75,0) -> 0 | D35: =IF(D29>0,D75,0) -> 0 | E35: =IF(E29>0,E75,0) -> 0 | F35: =IF(F29>0,F75,0) -> 0 | P35: =SUM(B35:F35) -> 0
A36: 4. Minor rapporto tra il contributo RAS e la potenza dell'impianto FV in progetto [€/kWp] | B36: =IF(B8>0,B61,0) -> 0 | C36: =IF(C8>0,C61,0) -> 0 | D36: =IF(D8>0,D61,0) -> 0 | E36: =IF(E8>0,E61,0) -> 0 | F36: =IF(F8>0,F61,0) -> 0 | P36: =SUM(B36:F36) -> 0
A37: 5. Minor rapporto tra il contributo RAS e la potenza dell'impianto FV esistente [€/kWp] | B37: =IF(B9>0,B68,0) -> 0 | C37: =IF(C9>0,C68,0) -> 0 | D37: =IF(D9>0,D68,0) -> 0 | E37: =IF(E9>0,E68,0) -> 0 | F37: =IF(F9>0,F68,0) -> 0 | P37: =SUM(B37:F37) -> 0 | Q37: 1450 | R37: <0,3 | S37: 0 | T37: 1 | U37: fv + ACC
B38: =SUM(B33:B37) -> 0 | C38: =SUM(C33:C37) -> 0 | D38: =SUM(D33:D37) -> 0 | E38: =SUM(E33:E37) -> 0 | F38: =SUM(F33:F37) -> 0 | P38: =SUM(B38:F38) -> 0 | R38: TRA 0,5 E 1 | S38: 0 | T38: 3 | U38: ACC
B39: =+B38 -> 0 | C39: =+C38 -> 0 | D39: =+D38 -> 0 | E39: =+E38 -> 0 | F39: =+F38 -> 0
A40: 5. Miglior rapporto tra l'energia elettrica autoconsumata in un anno e l'intensità dell’agevolazione [kWh/€] - IMPIANTO FV + SdA | B40: =+B29/'DATI DI PARTENZA'!M9 -> #DIV/0! | C40: =+C29/'DATI DI PARTENZA'!N9 -> #DIV/0! | D40: =+D29/'DATI DI PARTENZA'!O9 -> #DIV/0! | E40: =+E29/'DATI DI PARTENZA'!P9 -> #DIV/0! | F40: =+F29/'DATI DI PARTENZA'!Q9 -> #DIV/0!
A41: 6. Miglior rapporto tra l'energia elettrica autoconsumata in un anno e l'intensità dell’agevolazione [kWh/€] - SdA SU IMPIANTO FV ESISTENTE | B41: =+B29/'DATI DI PARTENZA'!M10 -> #DIV/0! | C41: =+C29/'DATI DI PARTENZA'!N10 -> #DIV/0! | D41: =+D29/'DATI DI PARTENZA'!O10 -> #DIV/0! | E41: =+E29/'DATI DI PARTENZA'!P10 -> #DIV/0! | F41: =+F29/'DATI DI PARTENZA'!Q10 -> #DIV/0! | Q41: 14500
A42: VOCE 2. | B42: SI | C42: SI | D42: SI | E42: SI | F42: SI | Q42: 20000
...

Sheet IMP_16-20
B1: IMPIANTI UTENZE 16 - 20
I2: 16 - | J2: 17 - | K2: 18 - | L2: 19 - | M2: 20 -
A3: DATI DELLA PROPOSTA | B3: =CONCATENATE($G$3,$H$3,I2,,I3) -> IMPIANTO 16 - 0 | C3: =CONCATENATE($G$3,$H$3,J2,,J3) -> IMPIANTO 17 - 0 | D3: =CONCATENATE($G$3,$H$3,K2,,K3) -> IMPIANTO 18 - 0 | E3: =CONCATENATE($G$3,$H$3,L2,,L3) -> IMPIANTO 19 - 0 | F3: =CONCATENATE($G$3,$H$3,M2,,M3) -> IMPIANTO 20 - 0 | G3: IMPIANTO | I3: =+'DATI DI PARTENZA'!R6 -> 0 | J3: =+'DATI DI PARTENZA'!S6 -> 0 | K3: =+'DATI DI PARTENZA'!T6 -> 0 | L3: =+'DATI DI PARTENZA'!U6 -> 0 | M3: =+'DATI DI PARTENZA'!V6 -> 0
A5: 1. Quota di autoconsumo calcolata come rapporto tra il valore dell'energia elettrica prodotta dall'impianto che viene autoconsumata (inclusa l'energia elettrica stoccata nel sistema di accumulo) e la producibilità elettrica totale annua dell'impianto fotovoltaico [%] Nota: Valore minimo 70% per singolo impianto* | P5: =IF(B5<70%,1,0) -> 1 | Q5: =IF(C5<70%,1,0) -> 1 | R5: =IF(D5<70%,1,0) -> 1 | S5: =IF(E5<70%,1,0) -> 1 | T5: =IF(F5<70%,1,0) -> 1 | U5: =SUM(P5:T5) -> 5
A6: 2. Produzione di energia elettrica annua dell’impianto fotovoltaico destinata all’autoconsumo (inclusa l'energia elettrica stoccata nel sistema di accumulo) [kWh] * | P6: =IF(B5>0,1,0) -> 0 | Q6: =IF(C5>0,1,0) -> 0 | R6: =IF(D5>0,1,0) -> 0 | S6: =IF(E5>0,1,0) -> 0 | T6: =IF(F5>0,1,0) -> 0
A7: 3. Livello Progettazione (scegliere da menù a tendina) * | P7: =IF(P6>0,B5,0) -> 0 | Q7: =IF(Q6>0,C5,0) -> 0 | R7: =IF(R6>0,D5,0) -> 0 | S7: =IF(S6>0,E5,0) -> 0 | T7: =IF(T6>0,F5,0) -> 0 | U7: =SUM(P7:T7) -> 0
A8: 4. Costi per la realizzazione di un nuovo impianto fotovoltaico e del relativo sistema di accumulo (Alternativo al p.to 5) *
A9: 5. Costi per la realizzazione di sistema di accumulo su impianto fotovoltaico esistente (Alternativo al p.to 4) *
A10: 6. Costi per soluzioni tecniche e tecnologiche in grado di ridurre la quota di energia autoprodotta immessa nella rete di distruzione | P10: =IF(B5>=70%,0,1) -> 1 | Q10: =IF(C5>=70%,0,1) -> 1 | R10: =IF(D5>=70%,0,1) -> 1 | S10: =IF(E5>=70%,0,1) -> 1 | T10: =IF(F5>=70%,0,1) -> 1
A11: 7. Costi per interventi edili ed impiantistici strettamente connessi | P11: =IF(P10=1,B5,0) -> 0 | Q11: =IF(Q10=1,C5,0) -> 0 | R11: =IF(R10=1,D5,0) -> 0 | S11: =IF(S10=1,E5,0) -> 0 | T11: =IF(T10=1,F5,0) -> 0 | U11: =SUM(P11:T11) -> 0
A12: 8. Oneri della sicurezza non soggetti a ribasso
A13: 9. Costi Interferenze
A14: 10. Allacciamenti ai pubblici servizi
A15: 11. Imprevisti
A16: 12. Accantonamenti
A17: 13. Costi Oneri professionali e studi
A18: 14. Costi Servizi di Consulenza
A19: 15. Spese pubblicità
A20: 16. Spese per commissioni giudicatrici
A21: 17. Spese per prove di laboratorio
A22: 18. Altri costi (Desumibili dal Quadro Economico)
A23: 19. Costo IVA su Lavori e oneri di sicurezza (Indicare solo se rappresenta un costo e non è recuperabile)
A24: 20. Costo IVA Oneri Professionali (Indicare solo se rappresenta un costo e non è recuperabile)
A25: 21. Costo Complessivo Impianto (campo compilato in automatico) | B25: =SUM(B8:B24) -> 0 | C25: =SUM(C8:C24) -> 0 | D25: =SUM(D8:D24) -> 0 | E25: =SUM(E8:E24) -> 0 | F25: =SUM(F8:F24) -> 0 | P25: =SUM(B25:O25) -> 0 | Q25: =+B26+B27+B28 -> 0 | R25: =+C26+C27+C28 -> 0 | S25: =+D26+D27+D28 -> 0 | T25: =+E26+E27+E28 -> 0 | U25: =+F26+F27+F28 -> 0
A26: 22. Cofinanziamento Comune Proponente | P26: =SUM(B26:O26) -> 0 | Q26: =+Q25/B25 -> #DIV/0! | R26: =+R25/C25 -> #DIV/0! | S26: =+S25/D25 -> #DIV/0! | T26: =+T25/E25 -> #DIV/0! | U26: =+U25/F25 -> #DIV/0!
A27: 23. Cofinanziamento altro pubblico | P27: =SUM(B27:O27) -> 0
A28: 24. Cofinanziamento privato | P28: =SUM(B28:O28) -> 0
A29: 25. Finanziamento richiesto (campo compilato in automatico) | B29: =+B25-B26-B27-B28 -> 0 | C29: =+C25-C26-C27-C28 -> 0 | D29: =+D25-D26-D27-D28 -> 0 | E29: =+E25-E26-E27-E28 -> 0 | F29: =+F25-F26-F27-F28 -> 0 | P29: =SUM(B29:O29) -> 0
A31: RISULTATI
S32: 3 | T32: 15400 | U32: =+T32/S32 -> 5133.3333
A33: 1. Quota di autoconsumo oltre la percentuale minina del 70% | B33: =IF(B54<0,0,B54) -> 0 | C33: =IF(C54<0,0,C54) -> 0 | D33: =IF(D54<0,0,D54) -> 0 | E33: =IF(E54<0,0,E54) -> 0 | F33: =IF(F54<0,0,F54) -> 0 | G33: =+G54 -> 0 | H33: =+H54 -> 0 | I33: =+I54 -> 0 | J33: =+J54 -> 0 | K33: =+K54 -> 0 | L33: =+L54 -> 0 | M33: =+M54 -> 0 | N33: =+N54 -> 0 | P33: =SUM(B33:F33) -> 0 | S33: 6 | T33: 19920 | U33: =+T33/S33 -> 3320
A34: 2. Livello Progettazione | B34: =+B91 -> 0 | C34: =+C91 -> 0 | D34: =+D91 -> 0 | E34: =+E91 -> 0 | F34: =+F91 -> 0 | P34: =SUM(B34:F34) -> 0
A35: 3. Maggiore intensità di cofinanziamento | B35: =IF(B29>0,B75,0) -> 0 | C35: =IF(C29>0,C75,0) -> 0 | D35: =IF(D29>0,D75,0) -> 0 | E35: =IF(E29>0,E75,0) -> 0 | F35: =IF(F29>0,F75,0) -> 0 | P35: =SUM(B35:F35) -> 0
A36: 4. Minor rapporto tra il contributo RAS e la potenza dell'impianto FV in progetto [€/kWp] | B36: =IF(B8>0,B61,0) -> 0 | C36: =IF(C8>0,C61,0) -> 0 | D36: =IF(D8>0,D61,0) -> 0 | E36: =IF(E8>0,E61,0) -> 0 | F36: =IF(F8>0,F61,0) -> 0 | P36: =SUM(B36:F36) -> 0
A37: 5. Minor rapporto tra il contributo RAS e la potenza dell'impianto FV esistente [€/kWp] | B37: =IF(B9>0,B68,0) -> 0 | C37: =IF(C9>0,C68,0) -> 0 | D37: =IF(D9>0,D68,0) -> 0 | E37: =IF(E9>0,E68,0) -> 0 | F37: =IF(F9>0,F68,0) -> 0 | P37: =SUM(B37:F37) -> 0 | Q37: 1450 | R37: <0,3 | S37: 0 | T37: 1 | U37: fv + ACC
B38: =SUM(B33:B37) -> 0 | C38: =SUM(C33:C37) -> 0 | D38: =SUM(D33:D37) -> 0 | E38: =SUM(E33:E37) -> 0 | F38: =SUM(F33:F37) -> 0 | P38: =SUM(B38:F38) -> 0 | R38: TRA 0,5 E 1 | S38: 0 | T38: 3 | U38: ACC
B39: =+B38 -> 0 | C39: =+C38 -> 0 | D39: =+D38 -> 0 | E39: =+E38 -> 0 | F39: =+F38 -> 0
A40: 5. Miglior rapporto tra l'energia elettrica autoconsumata in un anno e l'intensità dell’agevolazione [kWh/€] - IMPIANTO FV + SdA | B40: =+B29/'DATI DI PARTENZA'!R9 -> #DIV/0! | C40: =+C29/'DATI DI PARTENZA'!S9 -> #DIV/0! | D40: =+D29/'DATI DI PARTENZA'!T9 -> #DIV/0! | E40: =+E29/'DATI DI PARTENZA'!U9 -> #DIV/0! | F40: =+F29/'DATI DI PARTENZA'!V9 -> #DIV/0!
A41: 6. Miglior rapporto tra l'energia elettrica autoconsumata in un anno e l'intensità dell’agevolazione [kWh/€] - SdA SU IMPIANTO FV ESISTENTE | B41: =+B29/'DATI DI PARTENZA'!R10 -> #DIV/0! | C41: =+C29/'DATI DI PARTENZA'!S10 -> #DIV/0! | D41: =+D29/'DATI DI PARTENZA'!T10 -> #DIV/0! | E41: =+E29/'DATI DI PARTENZA'!U10 -> #DIV/0! | F41: =+F29/'DATI DI PARTENZA'!V10 -> #DIV/0! | Q41: 14500
A42: VOCE 2. | B42: SI | C42: SI | D42: SI | E42: SI | F42: SI | Q42: 20000
...

Sheet IMP_21-25
B1: IMPIANTI UTENZE 21 - 25
I2: 21 - | J2: 22 - | K2: 23 - | L2: 24 - | M2: 25 -
A3: DATI DELLA PROPOSTA | B3: =CONCATENATE($G$3,$H$3,I2,,I3) -> IMPIANTO 21 - 0 | C3: =CONCATENATE($G$3,$H$3,J2,,J3) -> IMPIANTO 22 - 0 | D3: =CONCATENATE($G$3,$H$3,K2,,K3) -> IMPIANTO 23 - 0 | E3: =CONCATENATE($G$3,$H$3,L2,,L3) -> IMPIANTO 24 - 0 | F3: =CONCATENATE($G$3,$H$3,M2,,M3) -> IMPIANTO 25 - 0 | G3: IMPIANTO | I3: =+'DATI DI PARTENZA'!W6 -> 0 | J3: =+'DATI DI PARTENZA'!X6 -> 0 | K3: =+'DATI DI PARTENZA'!Y6 -> 0 | L3: =+'DATI DI PARTENZA'!Z6 -> 0 | M3: =+'DATI DI PARTENZA'!AA6 -> 0
A5: 1. Quota di autoconsumo calcolata come rapporto tra il valore dell'energia elettrica prodotta dall'impianto che viene autoconsumata (inclusa l'energia elettrica stoccata nel sistema di accumulo) e la producibilità elettrica totale annua dell'impianto fotovoltaico [%] Nota: Valore minimo 70% per singolo impianto* | P5: =IF(B5<70%,1,0) -> 1 | Q5: =IF(C5<70%,1,0) -> 1 | R5: =IF(D5<70%,1,0) -> 1 | S5: =IF(E5<70%,1,0) -> 1 | T5: =IF(F5<70%,1,0) -> 1 | U5: =SUM(P5:T5) -> 5
A6: 2. Produzione di energia elettrica annua dell’impianto fotovoltaico destinata all’autoconsumo (inclusa l'energia elettrica stoccata nel sistema di accumulo) [kWh] * | P6: =IF(B5>0,1,0) -> 0 | Q6: =IF(C5>0,1,0) -> 0 | R6: =IF(D5>0,1,0) -> 0 | S6: =IF(E5>0,1,0) -> 0 | T6: =IF(F5>0,1,0) -> 0
A7: 3. Livello Progettazione (scegliere da menù a tendina) * | P7: =IF(P6>0,B5,0) -> 0 | Q7: =IF(Q6>0,C5,0) -> 0 | R7: =IF(R6>0,D5,0) -> 0 | S7: =IF(S6>0,E5,0) -> 0 | T7: =IF(T6>0,F5,0) -> 0 | U7: =SUM(P7:T7) -> 0
A8: 4. Costi per la realizzazione di un nuovo impianto fotovoltaico e del relativo sistema di accumulo (Alternativo al p.to 5) *
A9: 5. Costi per la realizzazione di sistema di accumulo su impianto fotovoltaico esistente (Alternativo al p.to 4) *
A10: 6. Costi per soluzioni tecniche e tecnologiche in grado di ridurre la quota di energia autoprodotta immessa nella rete di distruzione | P10: =IF(B5>=70%,0,1) -> 1 | Q10: =IF(C5>=70%,0,1) -> 1 | R10: =IF(D5>=70%,0,1) -> 1 | S10: =IF(E5>=70%,0,1) -> 1 | T10: =IF(F5>=70%,0,1) -> 1
A11: 7. Costi per interventi edili ed impiantistici strettamente connessi | P11: =IF(P10=1,B5,0) -> 0 | Q11: =IF(Q10=1,C5,0) -> 0 | R11: =IF(R10=1,D5,0) -> 0 | S11: =IF(S10=1,E5,0) -> 0 | T11: =IF(T10=1,F5,0) -> 0 | U11: =SUM(P11:T11) -> 0
A12: 8. Oneri della sicurezza non soggetti a ribasso
A13: 9. Costi Interferenze
A14: 10. Allacciamenti ai pubblici servizi
A15: 11. Imprevisti
A16: 12. Accantonamenti
A17: 13. Costi Oneri professionali e studi
A18: 14. Costi Servizi di Consulenza
A19: 15. Spese pubblicità
A20: 16. Spese per commissioni giudicatrici
A21: 17. Spese per prove di laboratorio
A22: 18. Altri costi (Desumibili dal Quadro Economico)
A23: 19. Costo IVA su Lavori e oneri di sicurezza (Indicare solo se rappresenta un costo e non è recuperabile)
A24: 20. Costo IVA Oneri Professionali (Indicare solo se rappresenta un costo e non è recuperabile)
A25: 21. Costo Complessivo Impianto (campo compilato in automatico) | B25: =SUM(B8:B24) -> 0 | C25: =SUM(C8:C24) -> 0 | D25: =SUM(D8:D24) -> 0 | E25: =SUM(E8:E24) -> 0 | F25: =SUM(F8:F24) -> 0 | P25: =SUM(B25:O25) -> 0 | Q25: =+B26+B27+B28 -> 0 | R25: =+C26+C27+C28 -> 0 | S25: =+D26+D27+D28 -> 0 | T25: =+E26+E27+E28 -> 0 | U25: =+F26+F27+F28 -> 0
A26: 22. Cofinanziamento Comune Proponente | P26: =SUM(B26:O26) -> 0 | Q26: =+Q25/B25 -> #DIV/0! | R26: =+R25/C25 -> #DIV/0! | S26: =+S25/D25 -> #DIV/0! | T26: =+T25/E25 -> #DIV/0! | U26: =+U25/F25 -> #DIV/0!
A27: 23. Cofinanziamento altro pubblico | P27: =SUM(B27:O27) -> 0
A28: 24. Cofinanziamento privato | P28: =SUM(B28:O28) -> 0
A29: 25. Finanziamento richiesto (campo compilato in automatico) | B29: =+B25-B26-B27-B28 -> 0 | C29: =+C25-C26-C27-C28 -> 0 | D29: =+D25-D26-D27-D28 -> 0 | E29: =+E25-E26-E27-E28 -> 0 | F29: =+F25-F26-F27-F28 -> 0 | P29: =SUM(B29:O29) -> 0
A31: RISULTATI
S32: 3 | T32: 15400 | U32: =+T32/S32 -> 5133.3333
A33: 1. Quota di autoconsumo oltre la percentuale minina del 70% | B33: =IF(B54<0,0,B54) -> 0 | C33: =IF(C54<0,0,C54) -> 0 | D33: =IF(D54<0,0,D54) -> 0 | E33: =IF(E54<0,0,E54) -> 0 | F33: =IF(F54<0,0,F54) -> 0 | G33: =+G54 -> 0 | H33: =+H54 -> 0 | I33: =+I54 -> 0 | J33: =+J54 -> 0 | K33: =+K54 -> 0 | L33: =+L54 -> 0 | M33: =+M54 -> 0 | N33: =+N54 -> 0 | P33: =SUM(B33:F33) -> 0 | S33: 6 | T33: 19920 | U33: =+T33/S33 -> 3320
A34: 2. Livello Progettazione | B34: =+B91 -> 0 | C34: =+C91 -> 0 | D34: =+D91 -> 0 | E34: =+E91 -> 0 | F34: =+F91 -> 0 | P34: =SUM(B34:F34) -> 0
A35: 3. Maggiore intensità di cofinanziamento | B35: =IF(B29>0,B75,0) -> 0 | C35: =IF(C29>0,C75,0) -> 0 | D35: =IF(D29>0,D75,0) -> 0 | E35: =IF(E29>0,E75,0) -> 0 | F35: =IF(F29>0,F75,0) -> 0 | P35: =SUM(B35:F35) -> 0
A36: 4. Minor rapporto tra il contributo RAS e la potenza dell'impianto FV in progetto [€/kWp] | B36: =IF(B8>0,B61,0) -> 0 | C36: =IF(C8>0,C61,0) -> 0 | D36: =IF(D8>0,D61,0) -> 0 | E36: =IF(E8>0,E61,0) -> 0 | F36: =IF(F8>0,F61,0) -> 0 | P36: =SUM(B36:F36) -> 0
A37: 5. Minor rapporto tra il contributo RAS e la potenza dell'impianto FV esistente [€/kWp] | B37: =IF(B9>0,B68,0) -> 0 | C37: =IF(C9>0,C68,0) -> 0 | D37: =IF(D9>0,D68,0) -> 0 | E37: =IF(E9>0,E68,0) -> 0 | F37: =IF(F9>0,F68,0) -> 0 | P37: =SUM(B37:F37) -> 0 | Q37: 1450 | R37: <0,3 | S37: 0 | T37: 1 | U37: fv + ACC
B38: =SUM(B33:B37) -> 0 | C38: =SUM(C33:C37) -> 0 | D38: =SUM(D33:D37) -> 0 | E38: =SUM(E33:E37) -> 0 | F38: =SUM(F33:F37) -> 0 | P38: =SUM(B38:F38) -> 0 | R38: TRA 0,5 E 1 | S38: 0 | T38: 3 | U38: ACC
B39: =+B38 -> 0 | C39: =+C38 -> 0 | D39: =+D38 -> 0 | E39: =+E38 -> 0 | F39: =+F38 -> 0
A40: 5. Miglior rapporto tra l'energia elettrica autoconsumata in un anno e l'intensità dell’agevolazione [kWh/€] - IMPIANTO FV + SdA | B40: =+B29/'DATI DI PARTENZA'!W9 -> #DIV/0! | C40: =+C29/'DATI DI PARTENZA'!X9 -> #DIV/0! | D40: =+D29/'DATI DI PARTENZA'!Y9 -> #DIV/0! | E40: =+E29/'DATI DI PARTENZA'!Z9 -> #DIV/0! | F40: =+F29/'DATI DI PARTENZA'!AA9 -> #DIV/0!
A41: 6. Miglior rapporto tra l'energia elettrica autoconsumata in un anno e l'intensità dell’agevolazione [kWh/€] - SdA SU IMPIANTO FV ESISTENTE | B41: =+B29/'DATI DI PARTENZA'!W10 -> #DIV/0! | C41: =+C29/'DATI DI PARTENZA'!X10 -> #DIV/0! | D41: =+D29/'DATI DI PARTENZA'!Y10 -> #DIV/0! | E41: =+E29/'DATI DI PARTENZA'!Z10 -> #DIV/0! | F41: =+F29/'DATI DI PARTENZA'!AA10 -> #DIV/0! | Q41: 14500
A42: VOCE 2. | B42: SI | C42: SI | D42: SI | E42: SI | F42: SI | Q42: 20000
...

Sheet RIEPILOGO
A3: COSTI PROPOSTA | G3: IMPORTO COMPLESSIVO | I3: 1 | J3: 2 | K3: 3 | L3: 4 | M3: 5
A4: Costo Totale | B4: =+G4 -> 0 | F4: =IF(D4 = "PROPOSTA NON AMMISSIBILE",1,0) -> 0 | G4: =SUM(I4:M4) -> 0 | I4: =+'IMP_1-5'!P25 -> 0 | J4: =+'IMP_6-10'!P25 -> 0 | K4: =+'IMP_11-15'!P25 -> 0 | L4: =+'IMP_16-20'!P25 -> 0 | M4: =+'IMP_21-25'!P25 -> 0
A5: Cofinanziamento ente | B5: =+G5 -> 0 | D5: =+B5/B4 -> #DIV/0! | E5: =IF(B5 = "PROPOSTA NON AMMISSIBILE",1,0) -> 0 | F5: =IF(D5 = "PROPOSTA NON AMMISSIBILE",1,0) -> #DIV/0! | G5: =SUM(I5:M5) -> 0 | I5: =+'IMP_1-5'!P26 -> 0 | J5: =+'IMP_6-10'!P26 -> 0 | K5: =+'IMP_11-15'!P26 -> 0 | L5: =+'IMP_16-20'!P26 -> 0 | M5: =+'IMP_21-25'!P26 -> 0
A6: Cofinanziamento altro pubblico | B6: =+G6 -> 0 | D6: =+B4*0.05 -> 0 | E6: =IF(B6 = "PROPOSTA NON AMMISSIBILE",1,0) -> 0 | F6: =IF(D6 = "PROPOSTA NON AMMISSIBILE",1,0) -> 0 | G6: =SUM(I6:M6) -> 0 | I6: =+'IMP_1-5'!P27 -> 0 | J6: =+'IMP_6-10'!P27 -> 0 | K6: =+'IMP_11-15'!P27 -> 0 | L6: =+'IMP_16-20'!P27 -> 0 | M6: =+'IMP_21-25'!P27 -> 0
A7: Cofinanziamento privato | B7: =+G7 -> 0 | E7: =IF(B7 = "PROPOSTA NON AMMISSIBILE",1,0) -> 0 | F7: =IF(D7 = "PROPOSTA NON AMMISSIBILE",1,0) -> 0 | G7: =SUM(I7:M7) -> 0 | I7: =+'IMP_1-5'!P28 -> 0 | J7: =+'IMP_6-10'!P28 -> 0 | K7: =+'IMP_11-15'!P28 -> 0 | L7: =+'IMP_16-20'!P28 -> 0 | M7: =+'IMP_21-25'!P28 -> 0
A8: Cofinanziamento Totale | B8: =+B5+B6+B7 -> 0 | D8: =IF('DATI DI PARTENZA'!B12="SI",1,0) -> 0 | E8: =IF(B8 = "PROPOSTA NON AMMISSIBILE",1,0) -> 0 | F8: =IF(D8 = "PROPOSTA NON AMMISSIBILE",1,0) -> 0
A9: Importo Finanziamento | B9: =+B4-B8 -> 0 | D9: =IF(D8=1,5000000,3000000) -> 3000000 | E9: =IF(B9 = "PROPOSTA NON AMMISSIBILE",1,0) -> 0 | F9: =IF(D9 = "PROPOSTA NON AMMISSIBILE",1,0) -> 0 | H9: =+O9/'DATI DI PARTENZA'!B5 -> #DIV/0! | I9: =+'IMP_1-5'!U7 -> 0 | J9: =+'IMP_6-10'!U7 -> 0 | K9: =+'IMP_11-15'!U7 -> 0 | L9: =+'IMP_16-20'!U7 -> 0 | M9: =+'IMP_21-25'!U7 -> 0 | O9: =SUM(I9:N9) -> 0
E10: =IF(B10 = "PROPOSTA NON AMMISSIBILE",1,0) -> 0 | F10: =IF(D10 = "PROPOSTA NON AMMISSIBILE",1,0) -> 0 | G10: =+'DATI DI PARTENZA'!B3 -> 0
A11: AMMISSIBILITÀ PROPOSTA | G11: IMPORTO COMPLESSIVO | I11: =+'IMP_1-5'!U11 -> 0 | J11: =+'IMP_6-10'!U11 -> 0 | K11: =+'IMP_11-15'!U11 -> 0 | L11: =+'IMP_16-20'!U11 -> 0 | M11: =+'IMP_21-25'!U11 -> 0 | O11: =SUM(I11:N11) -> 0 | Z11: =IF(O11>0,A47,B47) -> PROPOSTA AMMISSIBILE
A12: Requisito Quota di Autoconsumo Minino del 70% | B12: =IF(B13="PROPOSTA NON AMMISSIBILE",A47,Z11) -> PROPOSTA NON AMMISSIBILE | J12: =IF(B12="PROPOSTA NON AMMISSIBILE",1,0) -> 1 | L12: =+'IMP_1-5'!U5+0 -> 5 | Z12: =IF((B9*D15)>D9,A47,B47) -> PROPOSTA AMMISSIBILE
A13: Requisito Importo Inferiore Finanziamento | B13: =IF(B9<500000,A47,B47) -> PROPOSTA NON AMMISSIBILE | D13: =IF(#REF!<40000,#REF!,#REF!) -> #REF! | E13: =IF(D13 = "PROPOSTA NON AMMISSIBILE",1,0) -> #REF! | F13: =IF(D13 = "PROPOSTA NON AMMISSIBILE",1,0) -> #REF! | G13: =+B4 -> 0 | J13: =IF(B13="PROPOSTA NON AMMISSIBILE",1,0) -> 1
A14: Requisito Importo Superiore Finanziamento | B14: =IF(B13="PROPOSTA NON AMMISSIBILE",A47,Z12) -> PROPOSTA NON AMMISSIBILE | D14: =IF(#REF!>500000,#REF!,#REF!) -> #REF! | E14: =IF(B14 = "PROPOSTA NON AMMISSIBILE",1,0) -> 1 | F14: =IF(D14 = "PROPOSTA NON AMMISSIBILE",1,0) -> #REF! | G14: COFINANZIAMENTO ENTE | J14: =IF(B14="PROPOSTA NON AMMISSIBILE",1,0) -> 1
D15: =IF(B13="PROPOSTA AMMISSIBILE",1,0) -> 0 | E15: =IF(B15 = "PROPOSTA NON AMMISSIBILE",1,0) -> 0 | F15: =IF(D15 = "PROPOSTA NON AMMISSIBILE",1,0) -> 0 | G15: =+'DATI DI PARTENZA'!#REF! -> #REF! | J15: =SUM(J12:J14) -> 3
A16: CRITERI DI VALUTAZIONE | E16: =SUM(E13:E15) -> #REF! | F16: =IF(D16 = "PROPOSTA NON AMMISSIBILE",1,0) -> 0 | G16: IMPORTO COMPLESSIVO
A17: Quota di autoconsumo oltre la percentuale minina del 70% | B17: =+H17 -> #DIV/0! | D17: =SUM(B17:B21,B24) -> #DIV/0! | E17: Quota di autoconsumo oltre la percentuale minina del 70% [%] | G17: =SUM(I17:M17) -> 0 | H17: =+G17/'DATI DI PARTENZA'!B5 -> #DIV/0! | I17: =+'IMP_1-5'!P33 -> 0 | J17: =+'IMP_6-10'!P33 -> 0 | K17: =+'IMP_11-15'!P33 -> 0 | L17: =+'IMP_16-20'!P33 -> 0 | M17: =+'IMP_21-25'!P33 -> 0
A18: Livello Progettazione | B18: =+H19 -> #DIV/0!
A19: Maggiore intensità di cofinanziamento | B19: =+H20 -> #DIV/0! | E19: Livello Progettazione | G19: =SUM(I19:M19) -> 0 | H19: =+G19/'DATI DI PARTENZA'!B5 -> #DIV/0! | I19: =+'IMP_1-5'!P34 -> 0 | J19: =+'IMP_6-10'!P34 -> 0 | K19: =+'IMP_11-15'!P34 -> 0 | L19: =+'IMP_16-20'!P34 -> 0 | M19: =+'IMP_21-25'!P34 -> 0
A20: Minor rapporto tra il contributo RAS e la potenza dell'impianto FV in progetto [€/kWp] | B20: =+H21 -> #DIV/0! | E20: Maggiore intensità di cofinanziamento | G20: =SUM(I20:M20) -> 0 | H20: =+G20/'DATI DI PARTENZA'!B5 -> #DIV/0! | I20: =+'IMP_1-5'!P35 -> 0 | J20: =+'IMP_6-10'!P35 -> 0 | K20: =+'IMP_11-15'!P35 -> 0 | L20: =+'IMP_16-20'!P35 -> 0 | M20: =+'IMP_21-25'!P35 -> 0
A21: Minor rapporto tra il contributo RAS e la potenza dell'impianto FV esistente [€/kWp] | B21: =+H22 -> #DIV/0! | E21: Miglior rapporto tra l'energia elettrica autoconsumata in un anno e l'intensità dell’agevolazione [kWh/€] - IMPIANTO FV + SdA | G21: =SUM(I21:M21) -> 0 | H21: =+G21/'DATI DI PARTENZA'!B5 -> #DIV/0! | I21: =+'IMP_1-5'!P36 -> 0 | J21: =+'IMP_6-10'!P36 -> 0 | K21: =+'IMP_11-15'!P36 -> 0 | L21: =+'IMP_16-20'!P36 -> 0 | M21: =+'IMP_21-25'!P36 -> 0
E22: Miglior rapporto tra l'energia elettrica autoconsumata in un anno e l'intensità dell’agevolazione [kWh/€] - SdA SU IMPIANTO FV ESISTENTE | G22: =SUM(I22:M22) -> 0 | H22: =+G22/'DATI DI PARTENZA'!B5 -> #DIV/0! | I22: =+'IMP_1-5'!P37 -> 0 | J22: =+'IMP_6-10'!P37 -> 0 | K22: =+'IMP_11-15'!P37 -> 0 | L22: =+'IMP_16-20'!P37 -> 0 | M22: =+'IMP_21-25'!P37 -> 0
A23: CRITERI DI PREMIALITÀ
A24: Assenza negli ultimi 5 anni di misure di aiuto regionali e nazionali per la realizzazione di impianti fotovoltaici | B24: =+D24 -> 0 | D24: =IF('DATI DI PARTENZA'!B13="SI",3,0) -> 0 | E24: Assenza negli ultimi 5 anni di misure di aiuto regionali e nazionali per la realizzazione di impianti fotovoltaici | G24: =SUM(I24:M24) -> #REF! | H24: =+G24/'DATI DI PARTENZA'!B5 -> #REF! | I24: =+'IMP_1-5'!#REF! -> #REF! | J24: =+'IMP_6-10'!#REF! -> #REF! | K24: =+'IMP_11-15'!#REF! -> #REF! | L24: =+'IMP_16-20'!#REF! -> #REF! | M24: =+'IMP_21-25'!#REF! -> #REF!
A26: PUNTEGGIO FINALE DI AUTOVALUTAZIONE | B26: =IF(J15>0,A47,D33) -> PROPOSTA NON AMMISSIBILE | D26: =IF(E16>0,A47,E27) -> #REF! | E26: =SUM(E13:E24) -> #REF! | F26: =SUM(F13:F24) -> #REF!
E27: =SUM(B17:B21,B24:B24) -> #DIV/0!
A28: Luogo e data | B28: Il Dichiarante
B29: (Firma Digitale)
E32: =IF(B32 = "PROPOSTA NON AMMISSIBILE",1,0) -> 0 | F32: =IF(D32 = "PROPOSTA NON AMMISSIBILE",1,0) -> 0 | G32: PROPOSTA NON AMMISSIBILE
A33: INDICATORI PROPOSTA | D33: =IF(E27>100,100,E27) -> #DIV/0! | E33: =IF(B33 = "PROPOSTA NON AMMISSIBILE",1,0) -> 0 | F33: =IF(D33 = "PROPOSTA NON AMMISSIBILE",1,0) -> #DIV/0! | G33: =+G22+#REF!+G26 -> #REF!
A34: N° punti luce complessivi | B34: =F82 -> #REF! | E34: =IF(B34 = "PROPOSTA NON AMMISSIBILE",1,0) -> #REF! | F34: =IF(D34 = "PROPOSTA NON AMMISSIBILE",1,0) -> 0 | G34: IMPORTO FINANZIAMENTO
A35: N° di servizi tecnologici integrati complessivi | B35: =F83 -> #REF! | E35: =IF(B35 = "PROPOSTA NON AMMISSIBILE",1,0) -> #REF! | F35: =IF(D35 = "PROPOSTA NON AMMISSIBILE",1,0) -> 0 | G35: =+G19-G33 -> #REF!
A36: Riduzione consumo annuo di energia primaria [kWh/anno] | B36: =+I63*1000 -> #REF! | E36: =IF(B36 = "PROPOSTA NON AMMISSIBILE",1,0) -> #REF! | F36: =IF(D36 = "PROPOSTA NON AMMISSIBILE",1,0) -> 0 | G36: PROPOSTA NON AMMISSIBILE
A37: Riduzione emissioni [ton. CO2/anno] | B37: =+I64 -> #REF! | E37: =IF(B37 = "PROPOSTA NON AMMISSIBILE",1,0) -> #REF! | F37: =IF(D37 = "PROPOSTA NON AMMISSIBILE",1,0) -> 0 | G37: PROPOSTA NON AMMISSIBILE
A40: Luogo e data | B40: Il Dichiarante
B41: (Firma Digitale)
E44: =IF(B44 = "PROPOSTA NON AMMISSIBILE",1,0) -> 0 | F44: =IF(D44 = "PROPOSTA NON AMMISSIBILE",1,0) -> 0 | G44: PROPOSTA NON AMMISSIBILE
E45: =IF(B45 = "PROPOSTA NON AMMISSIBILE",1,0) -> 0 | F45: =IF(D45 = "PROPOSTA NON AMMISSIBILE",1,0) -> 0 | G45: PROPOSTA NON AMMISSIBILE
E46: =SUM(B24:B26,B34:B36) -> #REF!
A47: PROPOSTA NON AMMISSIBILE | B47: PROPOSTA AMMISSIBILE
A49: Consumo Energetico PRE [MWh/anno] (campo compilato in automatico) | B49: =+'IMP_1-5'!#REF!+#REF!+#REF!+#REF!+#REF!+#REF!+#REF!+#REF!+#REF!+#REF!+#REF!+#REF!+#REF!+#REF!+#REF!+#REF!+#REF!+#REF!+#REF!+#REF!+#REF!+#REF!+#REF!+#REF!+#REF! -> #REF!
A50: Consumo Energetico POST [MWh/anno] (campo compilato in automatico) | B50: =+'IMP_1-5'!#REF!+#REF!+#REF!+#REF!+#REF!+#REF!+#REF!+#REF!+#REF!+#REF!+#REF!+#REF!+#REF!+#REF!+#REF!+#REF!+#REF!+#REF!+#REF!+#REF!+#REF!+#REF!+#REF!+#REF!+#REF! -> #REF! | F50: =+'IMP_1-5'!#REF!+#REF!+#REF!+#REF!+#REF!+#REF!+#REF!+#REF!+#REF!+#REF!+#REF!+#REF!+#REF!+#REF!+#REF!+#REF!+#REF!+#REF!+#REF!+#REF!+#REF!+#REF!+#REF!+#REF!+#REF! -> #REF!
...
